BEGIN:VCALENDAR
VERSION:2.0
PRODID:-//JCR Judo - ECPv6.15.17.1//NONSGML v1.0//EN
CALSCALE:GREGORIAN
METHOD:PUBLISH
X-ORIGINAL-URL:https://jcrjudo.nl
X-WR-CALDESC:Evenementen voor JCR Judo
REFRESH-INTERVAL;VALUE=DURATION:PT1H
X-Robots-Tag:noindex
X-PUBLISHED-TTL:PT1H
BEGIN:VTIMEZONE
TZID:Europe/Amsterdam
BEGIN:DAYLIGHT
TZOFFSETFROM:+0100
TZOFFSETTO:+0200
TZNAME:CEST
DTSTART:20180325T010000
END:DAYLIGHT
BEGIN:STANDARD
TZOFFSETFROM:+0200
TZOFFSETTO:+0100
TZNAME:CET
DTSTART:20181028T010000
END:STANDARD
BEGIN:DAYLIGHT
TZOFFSETFROM:+0100
TZOFFSETTO:+0200
TZNAME:CEST
DTSTART:20190331T010000
END:DAYLIGHT
BEGIN:STANDARD
TZOFFSETFROM:+0200
TZOFFSETTO:+0100
TZNAME:CET
DTSTART:20191027T010000
END:STANDARD
BEGIN:DAYLIGHT
TZOFFSETFROM:+0100
TZOFFSETTO:+0200
TZNAME:CEST
DTSTART:20200329T010000
END:DAYLIGHT
BEGIN:STANDARD
TZOFFSETFROM:+0200
TZOFFSETTO:+0100
TZNAME:CET
DTSTART:20201025T010000
END:STANDARD
END:VTIMEZONE
BEGIN:VEVENT
DTSTART;TZID=Europe/Amsterdam:20190929T000000
DTEND;TZID=Europe/Amsterdam:20190929T235900
DTSTAMP:20260425T124057
CREATED:20190830T113926Z
LAST-MODIFIED:20190920T083701Z
UID:4271-1569715200-1569801540@jcrjudo.nl
SUMMARY:Wedstrijd training en lezing sport psycholoog Doris Zandtvliet.                         Hoe begeleid ik mijn kind in het wedstrijd judo.(voor ouders)
DESCRIPTION:Wedstrijd training starters vanaf 7 jaar Wedstrijd training gevorderde persoonlijke uitnodiging vanaf 8 jaar 09.30 uur tot 11.00 uur buitentraining Geen judo training Ouders/verzorgers van onze judoka’s09.30 workshop/lezing hoe begeleid ik mijn kind in het wedstrijd judo
URL:https://jcrjudo.nl/agenda/wedstrijd-training-en-lezing-sport-pshygoloog-doris-zandtvliet-hoe-beleid-ik-mijn-kind-in-het-wedstrijd-judo/
LOCATION:IJsselmonde\, Kraaijeveldstraat 2; Sportzaal ‘Auris Taalfonteinschool’\, (ingang: Noorder Kerkedijk 8)\, Rotterdam\, Zuid Holland\, 3078 PE\, Nederland
END:VEVENT
END:VCALENDAR