BEGIN:VCALENDAR
VERSION:2.0
PRODID:-//JCR Judo - ECPv6.15.17.1//NONSGML v1.0//EN
CALSCALE:GREGORIAN
METHOD:PUBLISH
X-WR-CALNAME:JCR Judo
X-ORIGINAL-URL:https://jcrjudo.nl
X-WR-CALDESC:Evenementen voor JCR Judo
REFRESH-INTERVAL;VALUE=DURATION:PT1H
X-Robots-Tag:noindex
X-PUBLISHED-TTL:PT1H
BEGIN:VTIMEZONE
TZID:Europe/Amsterdam
BEGIN:DAYLIGHT
TZOFFSETFROM:+0100
TZOFFSETTO:+0200
TZNAME:CEST
DTSTART:20190331T010000
END:DAYLIGHT
BEGIN:STANDARD
TZOFFSETFROM:+0200
TZOFFSETTO:+0100
TZNAME:CET
DTSTART:20191027T010000
END:STANDARD
BEGIN:DAYLIGHT
TZOFFSETFROM:+0100
TZOFFSETTO:+0200
TZNAME:CEST
DTSTART:20200329T010000
END:DAYLIGHT
BEGIN:STANDARD
TZOFFSETFROM:+0200
TZOFFSETTO:+0100
TZNAME:CET
DTSTART:20201025T010000
END:STANDARD
BEGIN:DAYLIGHT
TZOFFSETFROM:+0100
TZOFFSETTO:+0200
TZNAME:CEST
DTSTART:20210328T010000
END:DAYLIGHT
BEGIN:STANDARD
TZOFFSETFROM:+0200
TZOFFSETTO:+0100
TZNAME:CET
DTSTART:20211031T010000
END:STANDARD
END:VTIMEZONE
BEGIN:VEVENT
DTSTART;TZID=Europe/Amsterdam:20200226T000000
DTEND;TZID=Europe/Amsterdam:20200226T235959
DTSTAMP:20260424T014413
CREATED:20200221T211603Z
LAST-MODIFIED:20200221T211604Z
UID:5327-1582675200-1582761599@jcrjudo.nl
SUMMARY:Geen judoles en wedstrijd training ivm vakantie
DESCRIPTION:
URL:https://jcrjudo.nl/agenda/geen-judoles-en-wedstrijd-training-ivm-vakantie/
END:VEVENT
END:VCALENDAR