BEGIN:VCALENDAR
VERSION:2.0
PRODID:-//JCR Judo - ECPv6.15.17.1//NONSGML v1.0//EN
CALSCALE:GREGORIAN
METHOD:PUBLISH
X-WR-CALNAME:JCR Judo
X-ORIGINAL-URL:https://jcrjudo.nl
X-WR-CALDESC:Evenementen voor JCR Judo
REFRESH-INTERVAL;VALUE=DURATION:PT1H
X-Robots-Tag:noindex
X-PUBLISHED-TTL:PT1H
BEGIN:VTIMEZONE
TZID:Europe/Amsterdam
BEGIN:DAYLIGHT
TZOFFSETFROM:+0100
TZOFFSETTO:+0200
TZNAME:CEST
DTSTART:20230326T010000
END:DAYLIGHT
BEGIN:STANDARD
TZOFFSETFROM:+0200
TZOFFSETTO:+0100
TZNAME:CET
DTSTART:20231029T010000
END:STANDARD
BEGIN:DAYLIGHT
TZOFFSETFROM:+0100
TZOFFSETTO:+0200
TZNAME:CEST
DTSTART:20240331T010000
END:DAYLIGHT
BEGIN:STANDARD
TZOFFSETFROM:+0200
TZOFFSETTO:+0100
TZNAME:CET
DTSTART:20241027T010000
END:STANDARD
BEGIN:DAYLIGHT
TZOFFSETFROM:+0100
TZOFFSETTO:+0200
TZNAME:CEST
DTSTART:20250330T010000
END:DAYLIGHT
BEGIN:STANDARD
TZOFFSETFROM:+0200
TZOFFSETTO:+0100
TZNAME:CET
DTSTART:20251026T010000
END:STANDARD
END:VTIMEZONE
BEGIN:VEVENT
DTSTART;TZID=Europe/Amsterdam:20240218T000000
DTEND;TZID=Europe/Amsterdam:20240218T235959
DTSTAMP:20260420T142741
CREATED:20240211T181750Z
LAST-MODIFIED:20240211T181751Z
UID:17388-1708214400-1708300799@jcrjudo.nl
SUMMARY:Wedstrijd training Waterpoort Barendrecht
DESCRIPTION:Barendrecht waterpoort Middeldijkerplein 9\, Barendrecht \n\n\n\nOm 10.30 uur tot 12.00 uur wedstrijd trainingSelectie van 9.30 uur tot 10.30 uur
URL:https://jcrjudo.nl/agenda/wedstrijd-training-waterpoort-barendrecht-40/
LOCATION:Barendrecht waterpoort\, Middeldijkerplein 9\, Barendrecht\, Nederland
END:VEVENT
END:VCALENDAR