BEGIN:VCALENDAR
VERSION:2.0
PRODID:-//JCR Judo - ECPv6.15.17.1//NONSGML v1.0//EN
CALSCALE:GREGORIAN
METHOD:PUBLISH
X-WR-CALNAME:JCR Judo
X-ORIGINAL-URL:https://jcrjudo.nl
X-WR-CALDESC:Evenementen voor JCR Judo
REFRESH-INTERVAL;VALUE=DURATION:PT1H
X-Robots-Tag:noindex
X-PUBLISHED-TTL:PT1H
BEGIN:VTIMEZONE
TZID:Europe/Amsterdam
BEGIN:DAYLIGHT
TZOFFSETFROM:+0100
TZOFFSETTO:+0200
TZNAME:CEST
DTSTART:20180325T010000
END:DAYLIGHT
BEGIN:STANDARD
TZOFFSETFROM:+0200
TZOFFSETTO:+0100
TZNAME:CET
DTSTART:20181028T010000
END:STANDARD
BEGIN:DAYLIGHT
TZOFFSETFROM:+0100
TZOFFSETTO:+0200
TZNAME:CEST
DTSTART:20190331T010000
END:DAYLIGHT
BEGIN:STANDARD
TZOFFSETFROM:+0200
TZOFFSETTO:+0100
TZNAME:CET
DTSTART:20191027T010000
END:STANDARD
BEGIN:DAYLIGHT
TZOFFSETFROM:+0100
TZOFFSETTO:+0200
TZNAME:CEST
DTSTART:20200329T010000
END:DAYLIGHT
BEGIN:STANDARD
TZOFFSETFROM:+0200
TZOFFSETTO:+0100
TZNAME:CET
DTSTART:20201025T010000
END:STANDARD
BEGIN:DAYLIGHT
TZOFFSETFROM:+0100
TZOFFSETTO:+0200
TZNAME:CEST
DTSTART:20210328T010000
END:DAYLIGHT
BEGIN:STANDARD
TZOFFSETFROM:+0200
TZOFFSETTO:+0100
TZNAME:CET
DTSTART:20211031T010000
END:STANDARD
END:VTIMEZONE
BEGIN:VEVENT
DTSTART;TZID=Europe/Amsterdam:20191214T000000
DTEND;TZID=Europe/Amsterdam:20191214T235959
DTSTAMP:20260423T225357
CREATED:20190830T123818Z
LAST-MODIFIED:20190830T123819Z
UID:4322-1576281600-1576367999@jcrjudo.nl
SUMMARY:jt Twente meetmoment
DESCRIPTION:
URL:https://jcrjudo.nl/agenda/jt-twente-meetmoment/
END:VEVENT
BEGIN:VEVENT
DTSTART;TZID=Europe/Amsterdam:20191215T000000
DTEND;TZID=Europe/Amsterdam:20191215T235900
DTSTAMP:20260423T225357
CREATED:20190830T123922Z
LAST-MODIFIED:20191209T090251Z
UID:4325-1576368000-1576454340@jcrjudo.nl
SUMMARY:wedstrijd training 1 groep
DESCRIPTION:09.30 uur tot 11.00 uur judo training 
URL:https://jcrjudo.nl/agenda/wedstrijd-training-29/
LOCATION:IJsselmonde\, Kraaijeveldstraat 2; Sportzaal ‘Auris Taalfonteinschool’\, (ingang: Noorder Kerkedijk 8)\, Rotterdam\, Zuid Holland\, 3078 PE\, Nederland
END:VEVENT
BEGIN:VEVENT
DTSTART;TZID=Europe/Amsterdam:20191218T000000
DTEND;TZID=Europe/Amsterdam:20191218T235959
DTSTAMP:20260423T225357
CREATED:20191218T112253Z
LAST-MODIFIED:20191218T112259Z
UID:4903-1576627200-1576713599@jcrjudo.nl
SUMMARY:Geen judo lessen op onze locatie IJsselmonde ivm verbouwing zaal
DESCRIPTION:
URL:https://jcrjudo.nl/agenda/geen-judo-lessen-op-onze-locatie-ijsselmonde-ivm-verbouwing-zaal/
END:VEVENT
BEGIN:VEVENT
DTSTART;TZID=Europe/Amsterdam:20191222T000000
DTEND;TZID=Europe/Amsterdam:20191222T235959
DTSTAMP:20260423T225357
CREATED:20190830T124022Z
LAST-MODIFIED:20190830T124030Z
UID:4327-1576972800-1577059199@jcrjudo.nl
SUMMARY:Geen wedstrijd training
DESCRIPTION:
URL:https://jcrjudo.nl/agenda/geen-wedstrijd-training-2/
END:VEVENT
BEGIN:VEVENT
DTSTART;TZID=Europe/Amsterdam:20191227T193000
DTEND;TZID=Europe/Amsterdam:20191227T210000
DTSTAMP:20260423T225357
CREATED:20191227T103328Z
LAST-MODIFIED:20191227T103328Z
UID:4917-1577475000-1577480400@jcrjudo.nl
SUMMARY:Geen wedstrijd training
DESCRIPTION:
URL:https://jcrjudo.nl/agenda/geen-wedstrijd-training-4/
END:VEVENT
BEGIN:VEVENT
DTSTART;TZID=Europe/Amsterdam:20191228T080000
DTEND;TZID=Europe/Amsterdam:20191228T170000
DTSTAMP:20260423T225357
CREATED:20191228T073928Z
LAST-MODIFIED:20191228T073929Z
UID:4922-1577520000-1577552400@jcrjudo.nl
SUMMARY:Trainings stage Hoogvliet
DESCRIPTION:
URL:https://jcrjudo.nl/agenda/trainings-stage-hoogvliet/
END:VEVENT
BEGIN:VEVENT
DTSTART;TZID=Europe/Amsterdam:20191229T080000
DTEND;TZID=Europe/Amsterdam:20191229T170000
DTSTAMP:20260423T225357
CREATED:20190830T124057Z
LAST-MODIFIED:20191228T073851Z
UID:4329-1577606400-1577638800@jcrjudo.nl
SUMMARY:Geen wedstrijd training trainings stage Hoogvliet
DESCRIPTION:
URL:https://jcrjudo.nl/agenda/geen-wedstrijd-training-3/
END:VEVENT
BEGIN:VEVENT
DTSTART;TZID=Europe/Amsterdam:20200103T193000
DTEND;TZID=Europe/Amsterdam:20200103T210000
DTSTAMP:20260423T225357
CREATED:20200103T112101Z
LAST-MODIFIED:20200103T112102Z
UID:4932-1578079800-1578085200@jcrjudo.nl
SUMMARY:Wedstrijd training
DESCRIPTION:
URL:https://jcrjudo.nl/agenda/wedstrijd-training-30/
LOCATION:IJsselmonde\, Kraaijeveldstraat 2; Sportzaal ‘Auris Taalfonteinschool’\, (ingang: Noorder Kerkedijk 8)\, Rotterdam\, Zuid Holland\, 3078 PE\, Nederland
END:VEVENT
BEGIN:VEVENT
DTSTART;TZID=Europe/Amsterdam:20200105T093000
DTEND;TZID=Europe/Amsterdam:20200105T130000
DTSTAMP:20260423T225357
CREATED:20191217T120700Z
LAST-MODIFIED:20191217T120701Z
UID:4885-1578216600-1578229200@jcrjudo.nl
SUMMARY:Nieuwjaars receptie wedstrijd groepen
DESCRIPTION:
URL:https://jcrjudo.nl/agenda/nieuwjaars-receptie-wedstrijd-groepen/
LOCATION:IJsselmonde\, Kraaijeveldstraat 2; Sportzaal ‘Auris Taalfonteinschool’\, (ingang: Noorder Kerkedijk 8)\, Rotterdam\, Zuid Holland\, 3078 PE\, Nederland
END:VEVENT
BEGIN:VEVENT
DTSTART;TZID=Europe/Amsterdam:20200112T093000
DTEND;TZID=Europe/Amsterdam:20200112T110000
DTSTAMP:20260423T225357
CREATED:20200105T141339Z
LAST-MODIFIED:20200105T141734Z
UID:4951-1578821400-1578826800@jcrjudo.nl
SUMMARY:Cursus hoe werkt een wedstrijd poule en de scheidsrechterstekens
DESCRIPTION:
URL:https://jcrjudo.nl/agenda/cursus-hoe-werkt-een-wedstrijd-poule-en-de-scheidsrechter-tekens/
LOCATION:IJsselmonde\, Kraaijeveldstraat 2; Sportzaal ‘Auris Taalfonteinschool’\, (ingang: Noorder Kerkedijk 8)\, Rotterdam\, Zuid Holland\, 3078 PE\, Nederland
END:VEVENT
BEGIN:VEVENT
DTSTART;TZID=Europe/Amsterdam:20200112T093000
DTEND;TZID=Europe/Amsterdam:20200112T113000
DTSTAMP:20260423T225357
CREATED:20200108T113848Z
LAST-MODIFIED:20200108T113912Z
UID:4962-1578821400-1578828600@jcrjudo.nl
SUMMARY:wedstrijd training
DESCRIPTION:Wedstrijd training starters vanaf 7 jaar 09.30 uur tot 10.30 uur judotraining 10.30 uur tot 11.00 uur buitentrainingWedstrijd training gevorderde persoonlijke uitnodiging vanaf 8 jaar 09.30 uur tot 10.30 uur buitentraining 10.30 uur tot 11.30 uur judotraining 
URL:https://jcrjudo.nl/agenda/wedstrijd-training-31/
LOCATION:IJsselmonde\, Kraaijeveldstraat 2; Sportzaal ‘Auris Taalfonteinschool’\, (ingang: Noorder Kerkedijk 8)\, Rotterdam\, Zuid Holland\, 3078 PE\, Nederland
END:VEVENT
BEGIN:VEVENT
DTSTART;TZID=Europe/Amsterdam:20200118T123000
DTEND;TZID=Europe/Amsterdam:20200118T150000
DTSTAMP:20260423T225357
CREATED:20191120T090438Z
LAST-MODIFIED:20200115T103733Z
UID:4734-1579350600-1579359600@jcrjudo.nl
SUMMARY:Nieuwjaars toernooi voor judoka's Geb in 2015 t/m 2012 iedereen 12.15 aanwezig zijn
DESCRIPTION:
URL:https://jcrjudo.nl/agenda/nieuwjaars-toernooi/
LOCATION:IJsselmonde\, Kraaijeveldstraat 2; Sportzaal ‘Auris Taalfonteinschool’\, (ingang: Noorder Kerkedijk 8)\, Rotterdam\, Zuid Holland\, 3078 PE\, Nederland
END:VEVENT
BEGIN:VEVENT
DTSTART;TZID=Europe/Amsterdam:20200119T093000
DTEND;TZID=Europe/Amsterdam:20200119T113000
DTSTAMP:20260423T225357
CREATED:20200108T114021Z
LAST-MODIFIED:20200108T114021Z
UID:4964-1579426200-1579433400@jcrjudo.nl
SUMMARY:wedstrijd training
DESCRIPTION:Wedstrijd training starters vanaf 7 jaar 09.30 uur tot 10.30 uur judotraining 10.30 uur tot 11.00 uur buitentrainingWedstrijd training gevorderde persoonlijke uitnodiging vanaf 8 jaar 09.30 uur tot 10.30 uur buitentraining 10.30 uur tot 11.30 uur judotraining 
URL:https://jcrjudo.nl/agenda/wedstrijd-training-32/
LOCATION:IJsselmonde\, Kraaijeveldstraat 2; Sportzaal ‘Auris Taalfonteinschool’\, (ingang: Noorder Kerkedijk 8)\, Rotterdam\, Zuid Holland\, 3078 PE\, Nederland
END:VEVENT
BEGIN:VEVENT
DTSTART;TZID=Europe/Amsterdam:20200126T093000
DTEND;TZID=Europe/Amsterdam:20200126T113000
DTSTAMP:20260423T225357
CREATED:20200108T114123Z
LAST-MODIFIED:20200108T114124Z
UID:4966-1580031000-1580038200@jcrjudo.nl
SUMMARY:Wedstrijd training
DESCRIPTION:Wedstrijd training starters vanaf 7 jaar 09.30 uur tot 10.30 uur judotraining 10.30 uur tot 11.00 uur buitentrainingWedstrijd training gevorderde persoonlijke uitnodiging vanaf 8 jaar 09.30 uur tot 10.30 uur buitentraining 10.30 uur tot 11.30 uur judotraining 
URL:https://jcrjudo.nl/agenda/wedstrijd-training-33/
LOCATION:IJsselmonde\, Kraaijeveldstraat 2; Sportzaal ‘Auris Taalfonteinschool’\, (ingang: Noorder Kerkedijk 8)\, Rotterdam\, Zuid Holland\, 3078 PE\, Nederland
END:VEVENT
BEGIN:VEVENT
DTSTART;TZID=Europe/Amsterdam:20200201T120000
DTEND;TZID=Europe/Amsterdam:20200201T183000
DTSTAMP:20260423T225357
CREATED:20190831T040243Z
LAST-MODIFIED:20200130T195528Z
UID:4336-1580558400-1580581800@jcrjudo.nl
SUMMARY:Kyu Graad examens
DESCRIPTION:
URL:https://jcrjudo.nl/agenda/kyu-graad-examens/
END:VEVENT
BEGIN:VEVENT
DTSTART;TZID=Europe/Amsterdam:20200202T000000
DTEND;TZID=Europe/Amsterdam:20200202T235959
DTSTAMP:20260423T225357
CREATED:20200108T114220Z
LAST-MODIFIED:20200108T114221Z
UID:4968-1580601600-1580687999@jcrjudo.nl
SUMMARY:Wedstrijd training
DESCRIPTION:Wedstrijd training starters vanaf 7 jaar 09.30 uur tot 10.30 uur judotraining 10.30 uur tot 11.00 uur buitentrainingWedstrijd training gevorderde persoonlijke uitnodiging vanaf 8 jaar 09.30 uur tot 10.30 uur buitentraining 10.30 uur tot 11.30 uur judotraining 
URL:https://jcrjudo.nl/agenda/wedstrijd-training-34/
LOCATION:IJsselmonde\, Kraaijeveldstraat 2; Sportzaal ‘Auris Taalfonteinschool’\, (ingang: Noorder Kerkedijk 8)\, Rotterdam\, Zuid Holland\, 3078 PE\, Nederland
END:VEVENT
BEGIN:VEVENT
DTSTART;TZID=Europe/Amsterdam:20200203T160000
DTEND;TZID=Europe/Amsterdam:20200203T190000
DTSTAMP:20260423T225357
CREATED:20190831T040509Z
LAST-MODIFIED:20190831T040513Z
UID:4338-1580745600-1580756400@jcrjudo.nl
SUMMARY:Slip Examens Blijdorp
DESCRIPTION:
URL:https://jcrjudo.nl/agenda/slip-examens-blijdorp/
END:VEVENT
BEGIN:VEVENT
DTSTART;TZID=Europe/Amsterdam:20200204T160000
DTEND;TZID=Europe/Amsterdam:20200204T183000
DTSTAMP:20260423T225357
CREATED:20190831T040902Z
LAST-MODIFIED:20191120T090838Z
UID:4342-1580832000-1580841000@jcrjudo.nl
SUMMARY:Slip examen Blijdorp
DESCRIPTION:
URL:https://jcrjudo.nl/agenda/slip-examen-ijsselmonde/
LOCATION:Blijdorp\, Kolkmanstraat 8; Gymzaal ‘De Margriet’\, Rotterdam\, Zuid Holland\, 3039 PH\, Nederland
END:VEVENT
BEGIN:VEVENT
DTSTART;TZID=Europe/Amsterdam:20200204T170000
DTEND;TZID=Europe/Amsterdam:20200204T190000
DTSTAMP:20260423T225357
CREATED:20190831T040657Z
LAST-MODIFIED:20190831T040705Z
UID:4340-1580835600-1580842800@jcrjudo.nl
SUMMARY:Slip examen  Katendrecht
DESCRIPTION:
URL:https://jcrjudo.nl/agenda/slip-examen-katendrecht/
END:VEVENT
BEGIN:VEVENT
DTSTART;TZID=Europe/Amsterdam:20200205T150000
DTEND;TZID=Europe/Amsterdam:20200205T173000
DTSTAMP:20260423T225357
CREATED:20190831T041223Z
LAST-MODIFIED:20190831T041227Z
UID:4346-1580914800-1580923800@jcrjudo.nl
SUMMARY:Slip examen Carnisselande
DESCRIPTION:
URL:https://jcrjudo.nl/agenda/slip-examen-carnisselande/
END:VEVENT
BEGIN:VEVENT
DTSTART;TZID=Europe/Amsterdam:20200205T153000
DTEND;TZID=Europe/Amsterdam:20200205T183000
DTSTAMP:20260423T225357
CREATED:20191120T090949Z
LAST-MODIFIED:20191120T091010Z
UID:4739-1580916600-1580927400@jcrjudo.nl
SUMMARY:slip examen IJsselmonde
DESCRIPTION:
URL:https://jcrjudo.nl/agenda/slip-examen-ijsselmonde-2/
LOCATION:IJsselmonde\, Kraaijeveldstraat 2; Sportzaal ‘Auris Taalfonteinschool’\, (ingang: Noorder Kerkedijk 8)\, Rotterdam\, Zuid Holland\, 3078 PE\, Nederland
END:VEVENT
BEGIN:VEVENT
DTSTART;TZID=Europe/Amsterdam:20200206T160000
DTEND;TZID=Europe/Amsterdam:20200206T180000
DTSTAMP:20260423T225357
CREATED:20190831T041038Z
LAST-MODIFIED:20190831T041039Z
UID:4344-1581004800-1581012000@jcrjudo.nl
SUMMARY:Slip examen Nesselande
DESCRIPTION:
URL:https://jcrjudo.nl/agenda/slip-examen-nesselande/
END:VEVENT
BEGIN:VEVENT
DTSTART;TZID=Europe/Amsterdam:20200206T160000
DTEND;TZID=Europe/Amsterdam:20200206T183000
DTSTAMP:20260423T225357
CREATED:20191120T091357Z
LAST-MODIFIED:20191120T091405Z
UID:4741-1581004800-1581013800@jcrjudo.nl
SUMMARY:Slip examen Barendrecht nieuweland
DESCRIPTION:
URL:https://jcrjudo.nl/agenda/slip-examen-barendrecht-nieuweland/
LOCATION:aksent\, Bachlaan 12\, barendrecht\, 2292 GK\, Nederland
END:VEVENT
BEGIN:VEVENT
DTSTART;TZID=Europe/Amsterdam:20200207T160000
DTEND;TZID=Europe/Amsterdam:20200207T190000
DTSTAMP:20260423T225357
CREATED:20190831T041330Z
LAST-MODIFIED:20190831T041343Z
UID:4348-1581091200-1581102000@jcrjudo.nl
SUMMARY:Slip examen Carnisselande
DESCRIPTION:
URL:https://jcrjudo.nl/agenda/slip-examen-carnisselande-2/
END:VEVENT
BEGIN:VEVENT
DTSTART;TZID=Europe/Amsterdam:20200207T160000
DTEND;TZID=Europe/Amsterdam:20200207T190000
DTSTAMP:20260423T225357
CREATED:20190831T041507Z
LAST-MODIFIED:20190831T041509Z
UID:4351-1581091200-1581102000@jcrjudo.nl
SUMMARY:Slip examen Hillegersberg
DESCRIPTION:
URL:https://jcrjudo.nl/agenda/slip-examen-hillegersberg/
END:VEVENT
BEGIN:VEVENT
DTSTART;TZID=Europe/Amsterdam:20200208T140000
DTEND;TZID=Europe/Amsterdam:20200208T160000
DTSTAMP:20260423T225357
CREATED:20191120T091646Z
LAST-MODIFIED:20191120T091658Z
UID:4745-1581170400-1581177600@jcrjudo.nl
SUMMARY:Slip examen Barendrecht Noord
DESCRIPTION:
URL:https://jcrjudo.nl/agenda/slip-examen-barendrecht-noord/
LOCATION:kruidentuin\, kruidentuin 2\, barendrecht\, 2991RK\, Nederland
END:VEVENT
BEGIN:VEVENT
DTSTART;TZID=Europe/Amsterdam:20200209T093000
DTEND;TZID=Europe/Amsterdam:20200209T110000
DTSTAMP:20260423T225357
CREATED:20200108T114305Z
LAST-MODIFIED:20200206T194008Z
UID:4970-1581240600-1581246000@jcrjudo.nl
SUMMARY:Wedstrijd training 1 groep
DESCRIPTION:1 groep wedstrijd training 09.30 uur tot 11.00 uur judotraining 
URL:https://jcrjudo.nl/agenda/wedstrijd-training-35/
LOCATION:IJsselmonde\, Kraaijeveldstraat 2; Sportzaal ‘Auris Taalfonteinschool’\, (ingang: Noorder Kerkedijk 8)\, Rotterdam\, Zuid Holland\, 3078 PE\, Nederland
END:VEVENT
BEGIN:VEVENT
DTSTART;TZID=Europe/Amsterdam:20200210T153000
DTEND;TZID=Europe/Amsterdam:20200210T183000
DTSTAMP:20260423T225357
CREATED:20191120T090623Z
LAST-MODIFIED:20191120T090652Z
UID:4736-1581348600-1581359400@jcrjudo.nl
SUMMARY:Slip examen nieuwe westen
DESCRIPTION:
URL:https://jcrjudo.nl/agenda/slip-examen-nieuwe-westen/
LOCATION:Nieuwe Westen\, Nozemanstraat 77; Gymzaal Vierambachtschool\, Rotterdam\, Zuid Holland\, 3023 TM\, Nederland
END:VEVENT
BEGIN:VEVENT
DTSTART;TZID=Europe/Amsterdam:20200216T000000
DTEND;TZID=Europe/Amsterdam:20200216T235959
DTSTAMP:20260423T225357
CREATED:20200108T114349Z
LAST-MODIFIED:20200108T114350Z
UID:4972-1581811200-1581897599@jcrjudo.nl
SUMMARY:Wedstrijd Training
DESCRIPTION:Wedstrijd training starters vanaf 7 jaar 09.30 uur tot 10.30 uur judotraining 10.30 uur tot 11.00 uur buitentrainingWedstrijd training gevorderde persoonlijke uitnodiging vanaf 8 jaar 09.30 uur tot 10.30 uur buitentraining 10.30 uur tot 11.30 uur judotraining 
URL:https://jcrjudo.nl/agenda/wedstrijd-training-36/
LOCATION:IJsselmonde\, Kraaijeveldstraat 2; Sportzaal ‘Auris Taalfonteinschool’\, (ingang: Noorder Kerkedijk 8)\, Rotterdam\, Zuid Holland\, 3078 PE\, Nederland
END:VEVENT
BEGIN:VEVENT
DTSTART;TZID=Europe/Amsterdam:20200223T000000
DTEND;TZID=Europe/Amsterdam:20200223T235959
DTSTAMP:20260423T225357
CREATED:20200108T114428Z
LAST-MODIFIED:20200108T114428Z
UID:4974-1582416000-1582502399@jcrjudo.nl
SUMMARY:Wedstrijd training
DESCRIPTION:Wedstrijd training starters vanaf 7 jaar 09.30 uur tot 10.30 uur judotraining 10.30 uur tot 11.00 uur buitentrainingWedstrijd training gevorderde persoonlijke uitnodiging vanaf 8 jaar 09.30 uur tot 10.30 uur buitentraining 10.30 uur tot 11.30 uur judotraining 
URL:https://jcrjudo.nl/agenda/wedstrijd-training-37/
LOCATION:IJsselmonde\, Kraaijeveldstraat 2; Sportzaal ‘Auris Taalfonteinschool’\, (ingang: Noorder Kerkedijk 8)\, Rotterdam\, Zuid Holland\, 3078 PE\, Nederland
END:VEVENT
END:VCALENDAR