BEGIN:VCALENDAR
VERSION:2.0
PRODID:-//JCR Judo - ECPv6.15.17.1//NONSGML v1.0//EN
CALSCALE:GREGORIAN
METHOD:PUBLISH
X-WR-CALNAME:JCR Judo
X-ORIGINAL-URL:https://jcrjudo.nl
X-WR-CALDESC:Evenementen voor JCR Judo
REFRESH-INTERVAL;VALUE=DURATION:PT1H
X-Robots-Tag:noindex
X-PUBLISHED-TTL:PT1H
BEGIN:VTIMEZONE
TZID:Europe/Amsterdam
BEGIN:DAYLIGHT
TZOFFSETFROM:+0100
TZOFFSETTO:+0200
TZNAME:CEST
DTSTART:20170326T010000
END:DAYLIGHT
BEGIN:STANDARD
TZOFFSETFROM:+0200
TZOFFSETTO:+0100
TZNAME:CET
DTSTART:20171029T010000
END:STANDARD
BEGIN:DAYLIGHT
TZOFFSETFROM:+0100
TZOFFSETTO:+0200
TZNAME:CEST
DTSTART:20180325T010000
END:DAYLIGHT
BEGIN:STANDARD
TZOFFSETFROM:+0200
TZOFFSETTO:+0100
TZNAME:CET
DTSTART:20181028T010000
END:STANDARD
BEGIN:DAYLIGHT
TZOFFSETFROM:+0100
TZOFFSETTO:+0200
TZNAME:CEST
DTSTART:20190331T010000
END:DAYLIGHT
BEGIN:STANDARD
TZOFFSETFROM:+0200
TZOFFSETTO:+0100
TZNAME:CET
DTSTART:20191027T010000
END:STANDARD
BEGIN:DAYLIGHT
TZOFFSETFROM:+0100
TZOFFSETTO:+0200
TZNAME:CEST
DTSTART:20200329T010000
END:DAYLIGHT
BEGIN:STANDARD
TZOFFSETFROM:+0200
TZOFFSETTO:+0100
TZNAME:CET
DTSTART:20201025T010000
END:STANDARD
BEGIN:DAYLIGHT
TZOFFSETFROM:+0100
TZOFFSETTO:+0200
TZNAME:CEST
DTSTART:20210328T010000
END:DAYLIGHT
BEGIN:STANDARD
TZOFFSETFROM:+0200
TZOFFSETTO:+0100
TZNAME:CET
DTSTART:20211031T010000
END:STANDARD
BEGIN:DAYLIGHT
TZOFFSETFROM:+0100
TZOFFSETTO:+0200
TZNAME:CEST
DTSTART:20220327T010000
END:DAYLIGHT
BEGIN:STANDARD
TZOFFSETFROM:+0200
TZOFFSETTO:+0100
TZNAME:CET
DTSTART:20221030T010000
END:STANDARD
END:VTIMEZONE
BEGIN:VEVENT
DTSTART;TZID=Europe/Amsterdam:20190117T153000
DTEND;TZID=Europe/Amsterdam:20190117T183000
DTSTAMP:20260424T064817
CREATED:20181218T095352Z
LAST-MODIFIED:20181218T095352Z
UID:2788-1547739000-1547749800@jcrjudo.nl
SUMMARY:Examens afdeling Nesselande
DESCRIPTION:Begin tijden examens: \n15:30 uur voor iedereen die geboren is in 2012-2013-2014 \n16:30 uur voor iedereen die geboren is in 2010-2011 \n17:30 uur voor iedereen die geboren is in 2009-2008-2007
URL:https://jcrjudo.nl/agenda/examens-afdeling-nesselande-3/
LOCATION:Nesselande\, Robert van ’t Hoffstraat 8\, Rotterdam\, Zuid Holland\, 3059 PN\, Nederland
END:VEVENT
BEGIN:VEVENT
DTSTART;TZID=Europe/Amsterdam:20190116T180000
DTEND;TZID=Europe/Amsterdam:20190116T191500
DTSTAMP:20260424T064817
CREATED:20181218T101753Z
LAST-MODIFIED:20181218T101753Z
UID:2796-1547661600-1547666100@jcrjudo.nl
SUMMARY:wedstrijd training -15
DESCRIPTION:
URL:https://jcrjudo.nl/agenda/wedstrijd-training-15-2/
LOCATION:IJsselmonde\, Kraaijeveldstraat 2; Sportzaal ‘Auris Taalfonteinschool’\, (ingang: Noorder Kerkedijk 8)\, Rotterdam\, Zuid Holland\, 3078 PE\, Nederland
END:VEVENT
BEGIN:VEVENT
DTSTART;TZID=Europe/Amsterdam:20190116T160000
DTEND;TZID=Europe/Amsterdam:20190116T180000
DTSTAMP:20260424T064817
CREATED:20181218T094637Z
LAST-MODIFIED:20181218T094637Z
UID:2787-1547654400-1547661600@jcrjudo.nl
SUMMARY:Examens afdeling IJsselmonde
DESCRIPTION:Ben tijden examens: \n16:00 uur voor iedereen die geboren is in 2009 t/m 2013 \n17:00 uur voor iedereen die geboren is in 2007-2008
URL:https://jcrjudo.nl/agenda/examens-afdeling-ijsselmonde/
LOCATION:IJsselmonde\, Kraaijeveldstraat 2; Sportzaal ‘Auris Taalfonteinschool’\, (ingang: Noorder Kerkedijk 8)\, Rotterdam\, Zuid Holland\, 3078 PE\, Nederland
END:VEVENT
BEGIN:VEVENT
DTSTART;TZID=Europe/Amsterdam:20190116T150000
DTEND;TZID=Europe/Amsterdam:20190116T170000
DTSTAMP:20260424T064817
CREATED:20181218T100157Z
LAST-MODIFIED:20181218T100157Z
UID:2791-1547650800-1547658000@jcrjudo.nl
SUMMARY:Examens afdeling Barendrecht
DESCRIPTION:Begin tijden examens: \n15:00 uur voor iedereen die geboren is in 2011-2012-2013-2014 16.00 uur voor iedereen die geboren is in 2010-2009-2008-2007
URL:https://jcrjudo.nl/agenda/examens-afdeling-barendrecht-2/
LOCATION:Carnisselande\, Middeldijkerplein 9\, Barendrecht\, Zuid Holland\, 2993 DL\, Nederland
END:VEVENT
BEGIN:VEVENT
DTSTART;TZID=Europe/Amsterdam:20190115T160000
DTEND;TZID=Europe/Amsterdam:20190115T183000
DTSTAMP:20260424T064817
CREATED:20181218T094442Z
LAST-MODIFIED:20181218T094442Z
UID:2786-1547568000-1547577000@jcrjudo.nl
SUMMARY:Examens afdeling katendrecht
DESCRIPTION:Begin tijden examens: \n16:00 uur voor iedereen die geboren is in 2013-2014\n16:45 uur voor iedereen die geboren is in 2011-2012\n17:45 uur voor iedereen die geboren is in 2007-2008-2009-2010
URL:https://jcrjudo.nl/agenda/examens-afdeling-katendrecht/
LOCATION:Katendrecht\, Walhallalaan 116; Gymzaal de Globetrotter\, Rotterdam\, Zuid Holland\, 3072 EX\, Nederland
END:VEVENT
BEGIN:VEVENT
DTSTART;TZID=Europe/Amsterdam:20190114T160000
DTEND;TZID=Europe/Amsterdam:20190114T190000
DTSTAMP:20260424T064817
CREATED:20181218T094139Z
LAST-MODIFIED:20181218T094139Z
UID:2785-1547481600-1547492400@jcrjudo.nl
SUMMARY:Examens afdeling blijdorp
DESCRIPTION:Begin tijden examens: \n16:00 uur voor iedereen die geboren is in 2012-2013-2014\n16.45 uur voor iedereen die geboren is in 2011\n17:35 uur voor iedereen die geboren is in 2010\n18:25 uur voor iedereen die geboren is in 2007-2008-2009
URL:https://jcrjudo.nl/agenda/examens-afdeling-blijdorp/
LOCATION:Blijdorp\, Kolkmanstraat 8; Gymzaal ‘De Margriet’\, Rotterdam\, Zuid Holland\, 3039 PH\, Nederland
END:VEVENT
BEGIN:VEVENT
DTSTART;TZID=Europe/Amsterdam:20190113T093000
DTEND;TZID=Europe/Amsterdam:20190113T113000
DTSTAMP:20260424T064817
CREATED:20181218T093814Z
LAST-MODIFIED:20181218T093814Z
UID:2784-1547371800-1547379000@jcrjudo.nl
SUMMARY:Wedstrijd training
DESCRIPTION:
URL:https://jcrjudo.nl/agenda/wedstrijd-training-2/
LOCATION:IJsselmonde\, Kraaijeveldstraat 2; Sportzaal ‘Auris Taalfonteinschool’\, (ingang: Noorder Kerkedijk 8)\, Rotterdam\, Zuid Holland\, 3078 PE\, Nederland
END:VEVENT
BEGIN:VEVENT
DTSTART;TZID=Europe/Amsterdam:20190112T120000
DTEND;TZID=Europe/Amsterdam:20190112T170000
DTSTAMP:20260424T064817
CREATED:20181218T093644Z
LAST-MODIFIED:20181218T093644Z
UID:2783-1547294400-1547312400@jcrjudo.nl
SUMMARY:Judo examen kyu graden
DESCRIPTION:Witte banden bruine slippen begint om: 12.00 uur\nGele\, oranje\, groene en blauwe banden met bruine slippen begint om: 14.30 uur\nIedereen geboren in 2006\,2005 enz en eerder alle kou graden begint om: 14.30 uur
URL:https://jcrjudo.nl/agenda/judo-examen-kyu-graden-2/
LOCATION:IJsselmonde\, Kraaijeveldstraat 2; Sportzaal ‘Auris Taalfonteinschool’\, (ingang: Noorder Kerkedijk 8)\, Rotterdam\, Zuid Holland\, 3078 PE\, Nederland
END:VEVENT
BEGIN:VEVENT
DTSTART;TZID=Europe/Amsterdam:20190111T193000
DTEND;TZID=Europe/Amsterdam:20190111T210000
DTSTAMP:20260424T064817
CREATED:20181218T093228Z
LAST-MODIFIED:20181218T093228Z
UID:2776-1547235000-1547240400@jcrjudo.nl
SUMMARY:Wedstrijd training
DESCRIPTION:
URL:https://jcrjudo.nl/agenda/wedstrijd-training/
LOCATION:IJsselmonde\, Kraaijeveldstraat 2; Sportzaal ‘Auris Taalfonteinschool’\, (ingang: Noorder Kerkedijk 8)\, Rotterdam\, Zuid Holland\, 3078 PE\, Nederland
END:VEVENT
BEGIN:VEVENT
DTSTART;TZID=Europe/Amsterdam:20190109T180000
DTEND;TZID=Europe/Amsterdam:20190109T191500
DTSTAMP:20260424T064817
CREATED:20181218T093010Z
LAST-MODIFIED:20181218T093010Z
UID:2775-1547056800-1547061300@jcrjudo.nl
SUMMARY:Wedstrijd training -15
DESCRIPTION:
URL:https://jcrjudo.nl/agenda/wedstrijd-training-15/
END:VEVENT
BEGIN:VEVENT
DTSTART;TZID=Europe/Amsterdam:20190106T110000
DTEND;TZID=Europe/Amsterdam:20190106T120000
DTSTAMP:20260424T064817
CREATED:20181218T092142Z
LAST-MODIFIED:20181218T092142Z
UID:2773-1546772400-1546776000@jcrjudo.nl
SUMMARY:Nieuwjaars receptie
DESCRIPTION:
URL:https://jcrjudo.nl/agenda/nieuwjaars-receptie/
LOCATION:IJsselmonde\, Kraaijeveldstraat 2; Sportzaal ‘Auris Taalfonteinschool’\, (ingang: Noorder Kerkedijk 8)\, Rotterdam\, Zuid Holland\, 3078 PE\, Nederland
END:VEVENT
BEGIN:VEVENT
DTSTART;TZID=Europe/Amsterdam:20190106T093000
DTEND;TZID=Europe/Amsterdam:20190106T110000
DTSTAMP:20260424T064817
CREATED:20181218T092024Z
LAST-MODIFIED:20181218T092024Z
UID:2772-1546767000-1546772400@jcrjudo.nl
SUMMARY:Wedstrijd training
DESCRIPTION:
URL:https://jcrjudo.nl/agenda/wedstrijd-traing-beide-groepen/
LOCATION:IJsselmonde\, Kraaijeveldstraat 2; Sportzaal ‘Auris Taalfonteinschool’\, (ingang: Noorder Kerkedijk 8)\, Rotterdam\, Zuid Holland\, 3078 PE\, Nederland
END:VEVENT
BEGIN:VEVENT
DTSTART;TZID=Europe/Amsterdam:20190105T080000
DTEND;TZID=Europe/Amsterdam:20190105T170000
DTSTAMP:20260424T064817
CREATED:20181218T101338Z
LAST-MODIFIED:20181218T101338Z
UID:2794-1546675200-1546707600@jcrjudo.nl
SUMMARY:Judo toernooi Meeuwen gruitrode Belgie
DESCRIPTION:
URL:https://jcrjudo.nl/agenda/judo-toernooi-meeuwen-gruitrode-belgie/
LOCATION:judo toernooi troffe donderslag\, Kerkplein 1\, Meeuwen-Gruitrode\, 3670\, België
END:VEVENT
BEGIN:VEVENT
DTSTART;TZID=Europe/Amsterdam:20190104T193000
DTEND;TZID=Europe/Amsterdam:20190104T210000
DTSTAMP:20260424T064817
CREATED:20181212T134522Z
LAST-MODIFIED:20181212T134522Z
UID:2763-1546630200-1546635600@jcrjudo.nl
SUMMARY:Wedstrijdtraining op uitnodiging (IJsselmonde)
DESCRIPTION:
URL:https://jcrjudo.nl/agenda/wedstrijdtraining-op-uitnodiging-ijsselmonde-2/
LOCATION:IJsselmonde\, Kraaijeveldstraat 2; Sportzaal ‘Auris Taalfonteinschool’\, (ingang: Noorder Kerkedijk 8)\, Rotterdam\, Zuid Holland\, 3078 PE\, Nederland
CATEGORIES:Wedstrijdtraining
END:VEVENT
BEGIN:VEVENT
DTSTART;TZID=Europe/Amsterdam:20190102T191500
DTEND;TZID=Europe/Amsterdam:20190102T210000
DTSTAMP:20260424T064817
CREATED:20181218T092602Z
LAST-MODIFIED:20181218T092602Z
UID:2774-1546456500-1546462800@jcrjudo.nl
SUMMARY:Senioren training
DESCRIPTION:
URL:https://jcrjudo.nl/agenda/senioren-training/
LOCATION:IJsselmonde\, Kraaijeveldstraat 2; Sportzaal ‘Auris Taalfonteinschool’\, (ingang: Noorder Kerkedijk 8)\, Rotterdam\, Zuid Holland\, 3078 PE\, Nederland
END:VEVENT
BEGIN:VEVENT
DTSTART;TZID=Europe/Amsterdam:20190101T000000
DTEND;TZID=Europe/Amsterdam:20190106T235959
DTSTAMP:20260424T064817
CREATED:20181223T212219Z
LAST-MODIFIED:20181223T212219Z
UID:2807-1546300800-1546819199@jcrjudo.nl
SUMMARY:Kerst vakantie
DESCRIPTION:
URL:https://jcrjudo.nl/agenda/kerst-vakantie/
END:VEVENT
BEGIN:VEVENT
DTSTART;TZID=Europe/Amsterdam:20181224T000000
DTEND;TZID=Europe/Amsterdam:20190106T235959
DTSTAMP:20260424T064817
CREATED:20181212T135730Z
LAST-MODIFIED:20251223T124905Z
UID:2770-1545609600-1546819199@jcrjudo.nl
SUMMARY:Kerstvakantie
DESCRIPTION:
URL:https://jcrjudo.nl/agenda/kerstvakantie/
CATEGORIES:Bootcamp,Funky-judo,Judo Les,Toernooi,Wedstrijdtraining
END:VEVENT
BEGIN:VEVENT
DTSTART;TZID=Europe/Amsterdam:20181221T190000
DTEND;TZID=Europe/Amsterdam:20181221T210000
DTSTAMP:20260424T064817
CREATED:20181212T134350Z
LAST-MODIFIED:20181212T134350Z
UID:2762-1545418800-1545426000@jcrjudo.nl
SUMMARY:Wedstrijdtraining op uitnodiging (IJsselmonde)
DESCRIPTION:
URL:https://jcrjudo.nl/agenda/wedstrijdtraining-op-uitnodiging-ijsselmonde/
LOCATION:IJsselmonde\, Kraaijeveldstraat 2; Sportzaal ‘Auris Taalfonteinschool’\, (ingang: Noorder Kerkedijk 8)\, Rotterdam\, Zuid Holland\, 3078 PE\, Nederland
CATEGORIES:Wedstrijdtraining
END:VEVENT
BEGIN:VEVENT
DTSTART;TZID=Europe/Amsterdam:20181219T180000
DTEND;TZID=Europe/Amsterdam:20181219T191500
DTSTAMP:20260424T064817
CREATED:20181212T135621Z
LAST-MODIFIED:20181212T135621Z
UID:2769-1545242400-1545246900@jcrjudo.nl
SUMMARY:Wedstrijdtraining -15 jaar
DESCRIPTION:
URL:https://jcrjudo.nl/agenda/wedstrijdtraining-15-jaar/
LOCATION:IJsselmonde\, Kraaijeveldstraat 2; Sportzaal ‘Auris Taalfonteinschool’\, (ingang: Noorder Kerkedijk 8)\, Rotterdam\, Zuid Holland\, 3078 PE\, Nederland
CATEGORIES:Wedstrijdtraining
END:VEVENT
BEGIN:VEVENT
DTSTART;TZID=Europe/Amsterdam:20181218T154500
DTEND;TZID=Europe/Amsterdam:20181218T183000
DTSTAMP:20260424T064817
CREATED:20181218T100402Z
LAST-MODIFIED:20181218T100402Z
UID:2792-1545147900-1545157800@jcrjudo.nl
SUMMARY:Examens afdeling nieuwe westen
DESCRIPTION:Begin tijden examens: \n15:45 uur voor iedereen die geboren is in 2012-2013-2014\n16:30 uur voor iedereen die geboren is in 2011\n17:30 uur voor iedereen die geboren is in 2007-2008-2009
URL:https://jcrjudo.nl/agenda/examens-afdeling-nieuwe-westen/
LOCATION:Nieuwe Westen\, Nozemanstraat 77; Gymzaal Vierambachtschool\, Rotterdam\, Zuid Holland\, 3023 TM\, Nederland
END:VEVENT
BEGIN:VEVENT
DTSTART;TZID=Europe/Amsterdam:20181216T103000
DTEND;TZID=Europe/Amsterdam:20181216T113000
DTSTAMP:20260424T064817
CREATED:20181212T135357Z
LAST-MODIFIED:20181212T135357Z
UID:2768-1544956200-1544959800@jcrjudo.nl
SUMMARY:Wedstrijdtraining plus en selectie -13
DESCRIPTION:Judo pak bij je
URL:https://jcrjudo.nl/agenda/wedstrijdtraining-plus-en-selectie-13/
LOCATION:IJsselmonde\, Kraaijeveldstraat 2; Sportzaal ‘Auris Taalfonteinschool’\, (ingang: Noorder Kerkedijk 8)\, Rotterdam\, Zuid Holland\, 3078 PE\, Nederland
CATEGORIES:Wedstrijdtraining
END:VEVENT
BEGIN:VEVENT
DTSTART;TZID=Europe/Amsterdam:20181216T093000
DTEND;TZID=Europe/Amsterdam:20181216T103000
DTSTAMP:20260424T064817
CREATED:20181212T135252Z
LAST-MODIFIED:20181212T135252Z
UID:2767-1544952600-1544956200@jcrjudo.nl
SUMMARY:Wedstrijdgroep starters judo -13
DESCRIPTION:Sportkleding voor buiten plus judo pak meenemen
URL:https://jcrjudo.nl/agenda/wedstrijdgroep-starters-judo-13/
LOCATION:IJsselmonde\, Kraaijeveldstraat 2; Sportzaal ‘Auris Taalfonteinschool’\, (ingang: Noorder Kerkedijk 8)\, Rotterdam\, Zuid Holland\, 3078 PE\, Nederland
CATEGORIES:Wedstrijdtraining
END:VEVENT
BEGIN:VEVENT
DTSTART;TZID=Europe/Amsterdam:20181216T093000
DTEND;TZID=Europe/Amsterdam:20181216T103000
DTSTAMP:20260424T064817
CREATED:20181212T134955Z
LAST-MODIFIED:20181212T134955Z
UID:2766-1544952600-1544956200@jcrjudo.nl
SUMMARY:Bootcamp wedstrijdgroepen plus en selectie -13 jaar
DESCRIPTION:Buiten sportkleding mee nemen
URL:https://jcrjudo.nl/agenda/bootcamp-wedstrijdgroepen-plus-en-selectie-13-jaar/
LOCATION:IJsselmonde\, Kraaijeveldstraat 2; Sportzaal ‘Auris Taalfonteinschool’\, (ingang: Noorder Kerkedijk 8)\, Rotterdam\, Zuid Holland\, 3078 PE\, Nederland
CATEGORIES:Bootcamp
END:VEVENT
BEGIN:VEVENT
DTSTART;TZID=Europe/Amsterdam:20181215T120000
DTEND;TZID=Europe/Amsterdam:20181215T130000
DTSTAMP:20260424T064817
CREATED:20181212T134806Z
LAST-MODIFIED:20190322T084105Z
UID:2764-1544875200-1544878800@jcrjudo.nl
SUMMARY:Open Twents Judo Kampioenschap -17 meet moment JBN
DESCRIPTION:Sporthal Diekman\, J.J. van Deinselaan\, 7541 BR Enschede.
URL:https://jcrjudo.nl/agenda/open-twents-judo-kampioenschap-17-meet-moment-jbn/
LOCATION:Sporthal Diekman\, J.J. van Deinselaan\, 7541 BR Enschede.\, J.J. van Deinselaan\, Enschede\, 7541BR\, Nederland
CATEGORIES:Toernooi
END:VEVENT
BEGIN:VEVENT
DTSTART;TZID=Europe/Amsterdam:20181214T193000
DTEND;TZID=Europe/Amsterdam:20181214T210000
DTSTAMP:20260424T064817
CREATED:20181212T134049Z
LAST-MODIFIED:20181212T134049Z
UID:2761-1544815800-1544821200@jcrjudo.nl
SUMMARY:Wedstrijdtraining op uitnodiging (IJsselmonde)
DESCRIPTION:
URL:https://jcrjudo.nl/agenda/wedstrijdtraining-op-uitnodiging/
LOCATION:IJsselmonde\, Kraaijeveldstraat 2; Sportzaal ‘Auris Taalfonteinschool’\, (ingang: Noorder Kerkedijk 8)\, Rotterdam\, Zuid Holland\, 3078 PE\, Nederland
CATEGORIES:Wedstrijdtraining
END:VEVENT
BEGIN:VEVENT
DTSTART;TZID=Europe/Amsterdam:20210405T000000
DTEND;TZID=Europe/Amsterdam:20210405T235959
DTSTAMP:20260424T064817
CREATED:20210322T094432Z
LAST-MODIFIED:20210322T094432Z
UID:7636-1617580800-1617667199@jcrjudo.nl
SUMMARY:Geen training ivm pasen
DESCRIPTION:
URL:https://jcrjudo.nl/agenda/geen-training-ivm-pasen-3/
END:VEVENT
BEGIN:VEVENT
DTSTART;TZID=Europe/Amsterdam:20210331T000000
DTEND;TZID=Europe/Amsterdam:20210331T235959
DTSTAMP:20260424T064817
CREATED:20210322T093433Z
LAST-MODIFIED:20210323T085656Z
UID:7613-1617148800-1617235199@jcrjudo.nl
SUMMARY:Buiten trainingstijden locatie Delfshaven pier 80
DESCRIPTION:13.00 uur tot 13.45 uur vanaf 4 jaar 13.45 uur tot 14.45 uur vanaf 9 jaar en ouder 
URL:https://jcrjudo.nl/agenda/trainingstijden-locatie-delfshaven-pier-80-8/
END:VEVENT
BEGIN:VEVENT
DTSTART;TZID=Europe/Amsterdam:20210331T000000
DTEND;TZID=Europe/Amsterdam:20210331T235959
DTSTAMP:20260424T064817
CREATED:20210322T093328Z
LAST-MODIFIED:20210323T085629Z
UID:7610-1617148800-1617235199@jcrjudo.nl
SUMMARY:Buiten trainingstijden locatie Auris Taalfontijn IJsselmonde
DESCRIPTION:16.15 uur tot 17.00 uur vanaf 4 jaar  17.00 uur tot 18.00 uur vanaf 9 jaar 18.00 uur tot 19.00 uur vanaf 12 jaar en ouder
URL:https://jcrjudo.nl/agenda/trainingstijden-locatie-auris-taalfontijn-ijsselmonde-24/
END:VEVENT
BEGIN:VEVENT
DTSTART;TZID=Europe/Amsterdam:20210331T000000
DTEND;TZID=Europe/Amsterdam:20210331T235959
DTSTAMP:20260424T064817
CREATED:20210322T093211Z
LAST-MODIFIED:20210323T085550Z
UID:7607-1617148800-1617235199@jcrjudo.nl
SUMMARY:Buiten trainingstijden locatie Waterpoort Barendrecht
DESCRIPTION:14.45 uur tot 15.30 uur vanaf 4 jaar  15.30 uur tot 16.30 uur vanaf 7 jaar16.30 uur tot 17.30 uur vanaf 9 jaar
URL:https://jcrjudo.nl/agenda/trainingstijden-locatie-waterpoort-barendrecht-28/
END:VEVENT
BEGIN:VEVENT
DTSTART;TZID=Europe/Amsterdam:20210330T000000
DTEND;TZID=Europe/Amsterdam:20210330T235959
DTSTAMP:20260424T064817
CREATED:20210322T093019Z
LAST-MODIFIED:20210323T085515Z
UID:7605-1617062400-1617148799@jcrjudo.nl
SUMMARY:Buiten trainingstijden locatie Katendrecht
DESCRIPTION:16.00 uur tot 16.45 uur vanaf 4 jaar  16.45 uur tot 17.45 uur vanaf 6 jaar17.45 uur tot 18.45 uur vanaf 9 uur
URL:https://jcrjudo.nl/agenda/trainingstijden-locatie-katendrecht-16/
END:VEVENT
END:VCALENDAR