BEGIN:VCALENDAR
VERSION:2.0
PRODID:-//JCR Judo - ECPv6.15.17.1//NONSGML v1.0//EN
CALSCALE:GREGORIAN
METHOD:PUBLISH
X-ORIGINAL-URL:https://jcrjudo.nl
X-WR-CALDESC:Evenementen voor JCR Judo
REFRESH-INTERVAL;VALUE=DURATION:PT1H
X-Robots-Tag:noindex
X-PUBLISHED-TTL:PT1H
BEGIN:VTIMEZONE
TZID:Europe/Amsterdam
BEGIN:DAYLIGHT
TZOFFSETFROM:+0100
TZOFFSETTO:+0200
TZNAME:CEST
DTSTART:20200329T010000
END:DAYLIGHT
BEGIN:STANDARD
TZOFFSETFROM:+0200
TZOFFSETTO:+0100
TZNAME:CET
DTSTART:20201025T010000
END:STANDARD
BEGIN:DAYLIGHT
TZOFFSETFROM:+0100
TZOFFSETTO:+0200
TZNAME:CEST
DTSTART:20210328T010000
END:DAYLIGHT
BEGIN:STANDARD
TZOFFSETFROM:+0200
TZOFFSETTO:+0100
TZNAME:CET
DTSTART:20211031T010000
END:STANDARD
BEGIN:DAYLIGHT
TZOFFSETFROM:+0100
TZOFFSETTO:+0200
TZNAME:CEST
DTSTART:20220327T010000
END:DAYLIGHT
BEGIN:STANDARD
TZOFFSETFROM:+0200
TZOFFSETTO:+0100
TZNAME:CET
DTSTART:20221030T010000
END:STANDARD
END:VTIMEZONE
BEGIN:VEVENT
DTSTART;TZID=Europe/Amsterdam:20210104T000000
DTEND;TZID=Europe/Amsterdam:20210104T235959
DTSTAMP:20260423T173633
CREATED:20201215T111001Z
LAST-MODIFIED:20201215T111002Z
UID:6800-1609718400-1609804799@jcrjudo.nl
SUMMARY:Trainingstijden locatie Mr schatsschool Hilgersberg
DESCRIPTION:14.00 uur tot 15.00 uur 4 t/m 8 jaar 15.00 uur tot 16.00 uur 9 jaar en ouder
URL:https://jcrjudo.nl/agenda/trainingstijden-locatie-mr-schatsschool-hilgersberg-3/
LOCATION:Hillegersberg\, Van Enckevoirtlaan 129; Gymzaal instituut Mr Schats Noord\, Rotterdam\, Zuid Holland\, 3052 KR\, Nederland
END:VEVENT
BEGIN:VEVENT
DTSTART;TZID=Europe/Amsterdam:20210105T000000
DTEND;TZID=Europe/Amsterdam:20210105T235959
DTSTAMP:20260423T173633
CREATED:20201215T111141Z
LAST-MODIFIED:20201215T111141Z
UID:6802-1609804800-1609891199@jcrjudo.nl
SUMMARY:Trainingstijden locatie Katendrecht
DESCRIPTION:14.00 uur tot 15.00 uur 4 t/m 8 jaar 15.00 uur tot 16.00 uur 9 jaar en ouder
URL:https://jcrjudo.nl/agenda/trainingstijden-locatie-katendrecht-3/
LOCATION:Katendrecht\, Walhallalaan 116; Gymzaal de Globetrotter\, Rotterdam\, Zuid Holland\, 3072 EX\, Nederland
END:VEVENT
BEGIN:VEVENT
DTSTART;TZID=Europe/Amsterdam:20210106T000000
DTEND;TZID=Europe/Amsterdam:20210106T235959
DTSTAMP:20260423T173633
CREATED:20201215T111319Z
LAST-MODIFIED:20201215T111320Z
UID:6804-1609891200-1609977599@jcrjudo.nl
SUMMARY:Trainingstijden locatie Waterpoort Barendrecht
DESCRIPTION:14.00 uur tot 15.00 uur 4 t/m 8 jaar 15.00 uur tot 16.00 uur 9 jaar en ouder
URL:https://jcrjudo.nl/agenda/trainingstijden-locatie-waterpoort-barendrecht-5/
LOCATION:Barendrecht waterpoort\, Middeldijkerplein 9\, Barendrecht\, Nederland
END:VEVENT
BEGIN:VEVENT
DTSTART;TZID=Europe/Amsterdam:20210106T000000
DTEND;TZID=Europe/Amsterdam:20210106T235959
DTSTAMP:20260423T173633
CREATED:20201215T111410Z
LAST-MODIFIED:20201215T111410Z
UID:6806-1609891200-1609977599@jcrjudo.nl
SUMMARY:Trainingstijden locatie Auris Taalfontijn IJsselmonde
DESCRIPTION:14.00 uur tot 15.00 uur 4 t/m 8 jaar 15.00 uur tot 16.00 uur 9 jaar en ouder 
URL:https://jcrjudo.nl/agenda/trainingstijden-locatie-auris-taalfontijn-ijsselmonde-2/
LOCATION:IJsselmonde\, Kraaijeveldstraat 2; Sportzaal ‘Auris Taalfonteinschool’\, (ingang: Noorder Kerkedijk 8)\, Rotterdam\, Zuid Holland\, 3078 PE\, Nederland
END:VEVENT
BEGIN:VEVENT
DTSTART;TZID=Europe/Amsterdam:20210107T000000
DTEND;TZID=Europe/Amsterdam:20210107T235959
DTSTAMP:20260423T173633
CREATED:20201215T111502Z
LAST-MODIFIED:20201215T111502Z
UID:6808-1609977600-1610063999@jcrjudo.nl
SUMMARY:Trainingstijden locatie Nesselande Beachclub
DESCRIPTION:Adres: Beach club Rotterdam Kosboulevard Rotterdam Nesselande 14.00 uur tot 15.00 uur 4 t/m 8 jaar 15.00 uur tot 16.00 uur 9 jaar en ouder 
URL:https://jcrjudo.nl/agenda/trainingstijden-locatie-nesselande-beachclub-2/
END:VEVENT
BEGIN:VEVENT
DTSTART;TZID=Europe/Amsterdam:20210107T000000
DTEND;TZID=Europe/Amsterdam:20210107T235959
DTSTAMP:20260423T173633
CREATED:20201215T111625Z
LAST-MODIFIED:20201215T111626Z
UID:6810-1609977600-1610063999@jcrjudo.nl
SUMMARY:Trainingstijden locatie Aksent Barendrecht
DESCRIPTION:15.00 uur tot 16.00 uur alle leeftijden
URL:https://jcrjudo.nl/agenda/trainingstijden-locatie-aksent-barendrecht-2/
LOCATION:aksent\, Bachlaan 12\, barendrecht\, 2292 GK\, Nederland
END:VEVENT
BEGIN:VEVENT
DTSTART;TZID=Europe/Amsterdam:20210108T000000
DTEND;TZID=Europe/Amsterdam:20210108T235959
DTSTAMP:20260423T173633
CREATED:20201215T111714Z
LAST-MODIFIED:20201215T111715Z
UID:6812-1610064000-1610150399@jcrjudo.nl
SUMMARY:Trainingstijden locatie Waterpoort Barendrecht
DESCRIPTION:14.00 uur tot 15.00 uur 4 t/m 8 jaar 15.00 uur tot 16.00 uur 9 jaar en ouder
URL:https://jcrjudo.nl/agenda/trainingstijden-locatie-waterpoort-barendrecht-6/
LOCATION:Barendrecht waterpoort\, Middeldijkerplein 9\, Barendrecht\, Nederland
END:VEVENT
BEGIN:VEVENT
DTSTART;TZID=Europe/Amsterdam:20210108T000000
DTEND;TZID=Europe/Amsterdam:20210108T235959
DTSTAMP:20260423T173633
CREATED:20201215T111805Z
LAST-MODIFIED:20201215T111806Z
UID:6814-1610064000-1610150399@jcrjudo.nl
SUMMARY:Trainingstijden locatie Mr schatsschool Hilgersberg
DESCRIPTION:14.00 uur tot 15.00 uur 4 t/m 8 jaar 15.00 uur tot 16.00 uur 9 jaar en ouder
URL:https://jcrjudo.nl/agenda/trainingstijden-locatie-mr-schatsschool-hilgersberg-4/
LOCATION:Hillegersberg\, Van Enckevoirtlaan 129; Gymzaal instituut Mr Schats Noord\, Rotterdam\, Zuid Holland\, 3052 KR\, Nederland
END:VEVENT
BEGIN:VEVENT
DTSTART;TZID=Europe/Amsterdam:20210109T000000
DTEND;TZID=Europe/Amsterdam:20210109T235959
DTSTAMP:20260423T173633
CREATED:20210105T110918Z
LAST-MODIFIED:20210105T112729Z
UID:6937-1610150400-1610236799@jcrjudo.nl
SUMMARY:Trainingstijden locatie Auris Taalfontijn IJsselmonde
DESCRIPTION:11.00 uur tot 12.00 uur 12 jaar en ouder t/m 17 jaar
URL:https://jcrjudo.nl/agenda/trainingstijden-locatie-auris-taalfontijn-ijsselmonde-4/
LOCATION:IJsselmonde\, Kraaijeveldstraat 2; Sportzaal ‘Auris Taalfonteinschool’\, (ingang: Noorder Kerkedijk 8)\, Rotterdam\, Zuid Holland\, 3078 PE\, Nederland
END:VEVENT
BEGIN:VEVENT
DTSTART;TZID=Europe/Amsterdam:20210111T000000
DTEND;TZID=Europe/Amsterdam:20210111T235959
DTSTAMP:20260423T173633
CREATED:20210105T111841Z
LAST-MODIFIED:20210108T071718Z
UID:6942-1610323200-1610409599@jcrjudo.nl
SUMMARY:Trainingstijden locatie Blijdorp
DESCRIPTION:14.00 uur tot 14.45 uur vanaf 4 jaar 14.45 uur tot 15.45 uur vanaf 9 jaar 15.45 uur tot 16.45 uur 12 jaar en ouder t/m 17 jaar
URL:https://jcrjudo.nl/agenda/trainingstijden-locatie-blijdorp/
LOCATION:Blijdorp\, Kolkmanstraat 8; Gymzaal ‘De Margriet’\, Rotterdam\, Zuid Holland\, 3039 PH\, Nederland
END:VEVENT
BEGIN:VEVENT
DTSTART;TZID=Europe/Amsterdam:20210112T000000
DTEND;TZID=Europe/Amsterdam:20210112T235959
DTSTAMP:20260423T173633
CREATED:20201215T112011Z
LAST-MODIFIED:20201215T112011Z
UID:6818-1610409600-1610495999@jcrjudo.nl
SUMMARY:Trainingstijden locatie Katendrecht
DESCRIPTION:14.00 uur tot 15.00 uur 4 t/m 8 jaar 15.00 uur tot 16.00 uur 9 jaar en ouder
URL:https://jcrjudo.nl/agenda/trainingstijden-locatie-katendrecht-4/
LOCATION:Katendrecht\, Walhallalaan 116; Gymzaal de Globetrotter\, Rotterdam\, Zuid Holland\, 3072 EX\, Nederland
END:VEVENT
BEGIN:VEVENT
DTSTART;TZID=Europe/Amsterdam:20210113T000000
DTEND;TZID=Europe/Amsterdam:20210113T235959
DTSTAMP:20260423T173633
CREATED:20201215T112057Z
LAST-MODIFIED:20201215T112058Z
UID:6820-1610496000-1610582399@jcrjudo.nl
SUMMARY:Trainingstijden locatie Waterpoort Barendrecht
DESCRIPTION:14.00 uur tot 15.00 uur 4 t/m 8 jaar 15.00 uur tot 16.00 uur 9 jaar en ouder
URL:https://jcrjudo.nl/agenda/trainingstijden-locatie-waterpoort-barendrecht-7/
LOCATION:Barendrecht waterpoort\, Middeldijkerplein 9\, Barendrecht\, Nederland
END:VEVENT
BEGIN:VEVENT
DTSTART;TZID=Europe/Amsterdam:20210113T000000
DTEND;TZID=Europe/Amsterdam:20210113T235959
DTSTAMP:20260423T173633
CREATED:20201215T112141Z
LAST-MODIFIED:20201215T112142Z
UID:6822-1610496000-1610582399@jcrjudo.nl
SUMMARY:Trainingstijden locatie Auris Taalfontijn IJsselmonde
DESCRIPTION:14.00 uur tot 15.00 uur 4 t/m 8 jaar 15.00 uur tot 16.00 uur 9 jaar en ouder 
URL:https://jcrjudo.nl/agenda/trainingstijden-locatie-auris-taalfontijn-ijsselmonde-3/
LOCATION:IJsselmonde\, Kraaijeveldstraat 2; Sportzaal ‘Auris Taalfonteinschool’\, (ingang: Noorder Kerkedijk 8)\, Rotterdam\, Zuid Holland\, 3078 PE\, Nederland
END:VEVENT
BEGIN:VEVENT
DTSTART;TZID=Europe/Amsterdam:20210114T000000
DTEND;TZID=Europe/Amsterdam:20210114T235959
DTSTAMP:20260423T173633
CREATED:20201215T112234Z
LAST-MODIFIED:20201215T112235Z
UID:6824-1610582400-1610668799@jcrjudo.nl
SUMMARY:Trainingstijden locatie Nesselande Beachclub
DESCRIPTION:Adres: Beach club Rotterdam Kosboulevard Rotterdam Nesselande 14.00 uur tot 15.00 uur 4 t/m 8 jaar 15.00 uur tot 16.00 uur 9 jaar en ouder 
URL:https://jcrjudo.nl/agenda/trainingstijden-locatie-nesselande-beachclub-3/
END:VEVENT
BEGIN:VEVENT
DTSTART;TZID=Europe/Amsterdam:20210114T000000
DTEND;TZID=Europe/Amsterdam:20210114T235959
DTSTAMP:20260423T173633
CREATED:20201215T112331Z
LAST-MODIFIED:20201215T112331Z
UID:6826-1610582400-1610668799@jcrjudo.nl
SUMMARY:Trainingstijden locatie Aksent Barendrecht
DESCRIPTION:15.00 uur tot 16.00 uur alle leeftijden
URL:https://jcrjudo.nl/agenda/trainingstijden-locatie-aksent-barendrecht-3/
LOCATION:aksent\, Bachlaan 12\, barendrecht\, 2292 GK\, Nederland
END:VEVENT
BEGIN:VEVENT
DTSTART;TZID=Europe/Amsterdam:20210115T000000
DTEND;TZID=Europe/Amsterdam:20210115T235959
DTSTAMP:20260423T173633
CREATED:20201215T112419Z
LAST-MODIFIED:20201215T112420Z
UID:6828-1610668800-1610755199@jcrjudo.nl
SUMMARY:Trainingstijden locatie Waterpoort Barendrecht
DESCRIPTION:14.00 uur tot 15.00 uur 4 t/m 8 jaar 15.00 uur tot 16.00 uur 9 jaar en ouder
URL:https://jcrjudo.nl/agenda/trainingstijden-locatie-waterpoort-barendrecht-8/
LOCATION:Barendrecht waterpoort\, Middeldijkerplein 9\, Barendrecht\, Nederland
END:VEVENT
BEGIN:VEVENT
DTSTART;TZID=Europe/Amsterdam:20210115T000000
DTEND;TZID=Europe/Amsterdam:20210115T235959
DTSTAMP:20260423T173633
CREATED:20201215T112516Z
LAST-MODIFIED:20201215T112516Z
UID:6830-1610668800-1610755199@jcrjudo.nl
SUMMARY:Trainingstijden locatie Mr schatsschool Hilgersberg
DESCRIPTION:14.00 uur tot 15.00 uur 4 t/m 8 jaar 15.00 uur tot 16.00 uur 9 jaar en ouder
URL:https://jcrjudo.nl/agenda/trainingstijden-locatie-mr-schatsschool-hilgersberg-6/
LOCATION:Hillegersberg\, Van Enckevoirtlaan 129; Gymzaal instituut Mr Schats Noord\, Rotterdam\, Zuid Holland\, 3052 KR\, Nederland
END:VEVENT
BEGIN:VEVENT
DTSTART;TZID=Europe/Amsterdam:20210116T000000
DTEND;TZID=Europe/Amsterdam:20210116T235959
DTSTAMP:20260423T173633
CREATED:20210105T111005Z
LAST-MODIFIED:20210105T112753Z
UID:6939-1610755200-1610841599@jcrjudo.nl
SUMMARY:Trainingstijden locatie Auris Taalfontijn IJsselmonde
DESCRIPTION:11.00 uur tot 12.00 uur 12 jaar en ouder t/m 17 jaar
URL:https://jcrjudo.nl/agenda/trainingstijden-locatie-auris-taalfontijn-ijsselmonde-5/
LOCATION:IJsselmonde\, Kraaijeveldstraat 2; Sportzaal ‘Auris Taalfonteinschool’\, (ingang: Noorder Kerkedijk 8)\, Rotterdam\, Zuid Holland\, 3078 PE\, Nederland
END:VEVENT
BEGIN:VEVENT
DTSTART;TZID=Europe/Amsterdam:20210118T000000
DTEND;TZID=Europe/Amsterdam:20210118T235959
DTSTAMP:20260423T173633
CREATED:20210105T111951Z
LAST-MODIFIED:20210118T103856Z
UID:6944-1610928000-1611014399@jcrjudo.nl
SUMMARY:Trainingstijden locatie Blijdorp
DESCRIPTION:14.00 uur tot 14.45 uur vanaf 4 jaar 14.45 uur tot 15.45 uur vanaf 9 jaar15.45 uur tot 16.45 uur 12 jaar en ouder t/m 17 jaar   
URL:https://jcrjudo.nl/agenda/trainingstijden-locatie-blijdorp-2/
LOCATION:Blijdorp\, Kolkmanstraat 8; Gymzaal ‘De Margriet’\, Rotterdam\, Zuid Holland\, 3039 PH\, Nederland
END:VEVENT
BEGIN:VEVENT
DTSTART;TZID=Europe/Amsterdam:20210119T000000
DTEND;TZID=Europe/Amsterdam:20210119T235959
DTSTAMP:20260423T173633
CREATED:20201215T112813Z
LAST-MODIFIED:20201215T112813Z
UID:6834-1611014400-1611100799@jcrjudo.nl
SUMMARY:Trainingstijden locatie Katendrecht
DESCRIPTION:14.00 uur tot 15.00 uur 4 t/m 8 jaar 15.00 uur tot 16.00 uur 9 jaar en ouder
URL:https://jcrjudo.nl/agenda/trainingstijden-locatie-katendrecht-5/
LOCATION:Katendrecht\, Walhallalaan 116; Gymzaal de Globetrotter\, Rotterdam\, Zuid Holland\, 3072 EX\, Nederland
END:VEVENT
BEGIN:VEVENT
DTSTART;TZID=Europe/Amsterdam:20210120T000000
DTEND;TZID=Europe/Amsterdam:20210120T235959
DTSTAMP:20260423T173633
CREATED:20210114T105334Z
LAST-MODIFIED:20210115T105511Z
UID:6996-1611100800-1611187199@jcrjudo.nl
SUMMARY:De JCR Samoerai hindernisbaan!
DESCRIPTION:Voor iedereen van 7 t/m 8 jaar van 14:00 tot 15.00 uur Voor iedereen van 9 t/m 17 jaar van 15:15 tot 16.15 uur.Vriendjes/vriendinnetjes worden ingedeeld bij de leeftijds groep waar het jcr lid in thuis hoort.
URL:https://jcrjudo.nl/agenda/de-jcr-samoerai-hindernisbaan/
LOCATION:stormbaan Barendrecht\, 3de barendrechtseweg 454\, Barendrecht\, Nederland
END:VEVENT
BEGIN:VEVENT
DTSTART;TZID=Europe/Amsterdam:20210120T000000
DTEND;TZID=Europe/Amsterdam:20210120T235959
DTSTAMP:20260423T173633
CREATED:20210120T072943Z
LAST-MODIFIED:20210120T072944Z
UID:7053-1611100800-1611187199@jcrjudo.nl
SUMMARY:Geen sportlessen locaties Waterpoort en IJsselmonde
DESCRIPTION:ivm de Samoerai stormbaan zijn er geen lessen op onze locaties in Barendrecht waterpoort en IJsselmonde Auris school
URL:https://jcrjudo.nl/agenda/geen-sportlessen-locaties-waterpoort-en-ijsselmonde/
END:VEVENT
BEGIN:VEVENT
DTSTART;TZID=Europe/Amsterdam:20210121T000000
DTEND;TZID=Europe/Amsterdam:20210121T235959
DTSTAMP:20260423T173633
CREATED:20210114T104355Z
LAST-MODIFIED:20210114T104356Z
UID:6984-1611187200-1611273599@jcrjudo.nl
SUMMARY:Trainingstijden locatie Aksent Barendrecht
DESCRIPTION:15.00 uur tot 16.00 uur alle leeftijden
URL:https://jcrjudo.nl/agenda/trainingstijden-locatie-aksent-barendrecht-4/
LOCATION:kruidentuin\, kruidentuin 2\, barendrecht\, 2991RK\, Nederland
END:VEVENT
BEGIN:VEVENT
DTSTART;TZID=Europe/Amsterdam:20210121T000000
DTEND;TZID=Europe/Amsterdam:20210121T235959
DTSTAMP:20260423T173633
CREATED:20210114T104854Z
LAST-MODIFIED:20210114T104855Z
UID:6994-1611187200-1611273599@jcrjudo.nl
SUMMARY:Trainingstijden locatie Nesselande Beachclub
DESCRIPTION:Adres: Beach club Rotterdam Kosboulevard Rotterdam Nesselande 14.00 uur tot 15.00 uur 4 t/m 8 jaar 15.00 uur tot 16.00 uur 9 jaar en ouder 
URL:https://jcrjudo.nl/agenda/trainingstijden-locatie-nesselande-beachclub-4/
LOCATION:Nesselande\, Robert van ’t Hoffstraat 8\, Rotterdam\, Zuid Holland\, 3059 PN\, Nederland
END:VEVENT
BEGIN:VEVENT
DTSTART;TZID=Europe/Amsterdam:20210122T000000
DTEND;TZID=Europe/Amsterdam:20210122T235959
DTSTAMP:20260423T173633
CREATED:20210114T104512Z
LAST-MODIFIED:20210114T104513Z
UID:6986-1611273600-1611359999@jcrjudo.nl
SUMMARY:Trainingstijden locatie Waterpoort Barendrecht
DESCRIPTION:14.00 uur tot 15.00 uur 4 t/m 8 jaar 15.00 uur tot 16.00 uur 9 jaar en ouder
URL:https://jcrjudo.nl/agenda/trainingstijden-locatie-waterpoort-barendrecht-9/
LOCATION:Barendrecht waterpoort\, Middeldijkerplein 9\, Barendrecht\, Nederland
END:VEVENT
BEGIN:VEVENT
DTSTART;TZID=Europe/Amsterdam:20210122T000000
DTEND;TZID=Europe/Amsterdam:20210122T235959
DTSTAMP:20260423T173633
CREATED:20210114T104725Z
LAST-MODIFIED:20210122T105617Z
UID:6990-1611273600-1611359999@jcrjudo.nl
SUMMARY:Trainingstijden locatie Mr schatsschool Hilgersberg
DESCRIPTION:14.00 uur tot 15.00 uur 4 t/m 8 jaar 15.00 uur tot 16.00 uur 9 jaar en ouder
URL:https://jcrjudo.nl/agenda/trainingstijden-locatie-mr-schatsschool-hilgersberg-5/
LOCATION:Hillegersberg\, Van Enckevoirtlaan 129; Gymzaal instituut Mr Schats Noord\, Rotterdam\, Zuid Holland\, 3052 KR\, Nederland
END:VEVENT
BEGIN:VEVENT
DTSTART;TZID=Europe/Amsterdam:20210123T000000
DTEND;TZID=Europe/Amsterdam:20210123T235959
DTSTAMP:20260423T173633
CREATED:20210114T104559Z
LAST-MODIFIED:20210122T105655Z
UID:6988-1611360000-1611446399@jcrjudo.nl
SUMMARY:Trainingstijden locatie Auris Taalfontijn IJsselmonde
DESCRIPTION:11.00 uur tot 12.00 uur 12 jaar en ouder t/m 17 jaar
URL:https://jcrjudo.nl/agenda/trainingstijden-locatie-auris-taalfontijn-ijsselmonde-6/
LOCATION:IJsselmonde\, Kraaijeveldstraat 2; Sportzaal ‘Auris Taalfonteinschool’\, (ingang: Noorder Kerkedijk 8)\, Rotterdam\, Zuid Holland\, 3078 PE\, Nederland
END:VEVENT
BEGIN:VEVENT
DTSTART;TZID=Europe/Amsterdam:20210125T000000
DTEND;TZID=Europe/Amsterdam:20210125T235959
DTSTAMP:20260423T173633
CREATED:20210121T115953Z
LAST-MODIFIED:20210121T120039Z
UID:7128-1611532800-1611619199@jcrjudo.nl
SUMMARY:Trainingstijden locatie Blijdorp
DESCRIPTION:14.00 uur tot 14.45 uur vanaf 4 jaar 14.45 uur tot 15.45 uur vanaf 9 jaar15.45 uur tot 16.45 uur 12 jaar en ouder t/m 17 jaar  
URL:https://jcrjudo.nl/agenda/trainingstijden-locatie-blijdorp-3/
LOCATION:Blijdorp\, Kolkmanstraat 8; Gymzaal ‘De Margriet’\, Rotterdam\, Zuid Holland\, 3039 PH\, Nederland
END:VEVENT
BEGIN:VEVENT
DTSTART;TZID=Europe/Amsterdam:20210126T000000
DTEND;TZID=Europe/Amsterdam:20210126T235959
DTSTAMP:20260423T173633
CREATED:20210121T120126Z
LAST-MODIFIED:20210121T120126Z
UID:7130-1611619200-1611705599@jcrjudo.nl
SUMMARY:Trainingstijden locatie Katendrecht
DESCRIPTION:14.00 uur tot 15.00 uur 4 t/m 8 jaar 15.00 uur tot 16.00 uur 9 jaar en ouder
URL:https://jcrjudo.nl/agenda/trainingstijden-locatie-katendrecht-6/
LOCATION:Katendrecht\, Walhallalaan 116; Gymzaal de Globetrotter\, Rotterdam\, Zuid Holland\, 3072 EX\, Nederland
END:VEVENT
BEGIN:VEVENT
DTSTART;TZID=Europe/Amsterdam:20210127T000000
DTEND;TZID=Europe/Amsterdam:20210127T235959
DTSTAMP:20260423T173633
CREATED:20210121T120213Z
LAST-MODIFIED:20210121T120214Z
UID:7132-1611705600-1611791999@jcrjudo.nl
SUMMARY:Trainingstijden locatie Waterpoort Barendrecht
DESCRIPTION:14.00 uur tot 15.00 uur 4 t/m 8 jaar 15.00 uur tot 16.00 uur 9 jaar en ouder
URL:https://jcrjudo.nl/agenda/trainingstijden-locatie-waterpoort-barendrecht-10/
LOCATION:Barendrecht waterpoort\, Middeldijkerplein 9\, Barendrecht\, Nederland
END:VEVENT
END:VCALENDAR