BEGIN:VCALENDAR
VERSION:2.0
PRODID:-//JCR Judo - ECPv6.15.17.1//NONSGML v1.0//EN
CALSCALE:GREGORIAN
METHOD:PUBLISH
X-ORIGINAL-URL:https://jcrjudo.nl
X-WR-CALDESC:Evenementen voor JCR Judo
REFRESH-INTERVAL;VALUE=DURATION:PT1H
X-Robots-Tag:noindex
X-PUBLISHED-TTL:PT1H
BEGIN:VTIMEZONE
TZID:Europe/Amsterdam
BEGIN:DAYLIGHT
TZOFFSETFROM:+0100
TZOFFSETTO:+0200
TZNAME:CEST
DTSTART:20200329T010000
END:DAYLIGHT
BEGIN:STANDARD
TZOFFSETFROM:+0200
TZOFFSETTO:+0100
TZNAME:CET
DTSTART:20201025T010000
END:STANDARD
BEGIN:DAYLIGHT
TZOFFSETFROM:+0100
TZOFFSETTO:+0200
TZNAME:CEST
DTSTART:20210328T010000
END:DAYLIGHT
BEGIN:STANDARD
TZOFFSETFROM:+0200
TZOFFSETTO:+0100
TZNAME:CET
DTSTART:20211031T010000
END:STANDARD
BEGIN:DAYLIGHT
TZOFFSETFROM:+0100
TZOFFSETTO:+0200
TZNAME:CEST
DTSTART:20220327T010000
END:DAYLIGHT
BEGIN:STANDARD
TZOFFSETFROM:+0200
TZOFFSETTO:+0100
TZNAME:CET
DTSTART:20221030T010000
END:STANDARD
END:VTIMEZONE
BEGIN:VEVENT
DTSTART;TZID=Europe/Amsterdam:20210306T000000
DTEND;TZID=Europe/Amsterdam:20210306T235959
DTSTAMP:20260423T184549
CREATED:20210225T151550Z
LAST-MODIFIED:20210225T151551Z
UID:7424-1614988800-1615075199@jcrjudo.nl
SUMMARY:Trainingstijden locatie Kruidentuin
DESCRIPTION:14.00 uur tot 14.45 uur vanaf 4 jaar 14.45 uur tot 15.45 uur vanaf 7 jaar en ouder
URL:https://jcrjudo.nl/agenda/trainingstijden-locatie-kruidentuin-4/
LOCATION:kruidentuin\, kruidentuin 2\, barendrecht\, 2991RK\, Nederland
END:VEVENT
BEGIN:VEVENT
DTSTART;TZID=Europe/Amsterdam:20210308T000000
DTEND;TZID=Europe/Amsterdam:20210308T235959
DTSTAMP:20260423T184549
CREATED:20210303T090450Z
LAST-MODIFIED:20210303T090450Z
UID:7455-1615161600-1615247999@jcrjudo.nl
SUMMARY:Trainingstijden locatie Nieuwe Westen
DESCRIPTION:15.45 uur tot 16.30 uur vanaf 4 jaar 16.30 uur tot 17.30 uur vanaf 7 jaar en ouder 
URL:https://jcrjudo.nl/agenda/trainingstijden-locatie-nieuwe-westen-5/
LOCATION:Nieuwe Westen\, Nozemanstraat 77; Gymzaal Vierambachtschool\, Rotterdam\, Zuid Holland\, 3023 TM\, Nederland
END:VEVENT
BEGIN:VEVENT
DTSTART;TZID=Europe/Amsterdam:20210308T000000
DTEND;TZID=Europe/Amsterdam:20210308T235959
DTSTAMP:20260423T184549
CREATED:20210303T090544Z
LAST-MODIFIED:20210303T090544Z
UID:7457-1615161600-1615247999@jcrjudo.nl
SUMMARY:Trainingstijden locatie Blijdorp
DESCRIPTION:16.00 uur tot 16.45 uur vanaf 4 jaar 16.45 uur tot 17.45 uur vanaf 12 jaar en ouder 
URL:https://jcrjudo.nl/agenda/trainingstijden-locatie-blijdorp-13/
LOCATION:Blijdorp\, Kolkmanstraat 8; Gymzaal ‘De Margriet’\, Rotterdam\, Zuid Holland\, 3039 PH\, Nederland
END:VEVENT
BEGIN:VEVENT
DTSTART;TZID=Europe/Amsterdam:20210309T000000
DTEND;TZID=Europe/Amsterdam:20210309T235959
DTSTAMP:20260423T184549
CREATED:20210303T090634Z
LAST-MODIFIED:20210303T090634Z
UID:7459-1615248000-1615334399@jcrjudo.nl
SUMMARY:Trainingstijden locatie Katendrecht
DESCRIPTION:16.00 uur tot 16.45 uur vanaf 4 jaar  16.45 uur tot 17.45 uur vanaf 6 jaar en ouder
URL:https://jcrjudo.nl/agenda/trainingstijden-locatie-katendrecht-13/
LOCATION:Katendrecht\, Walhallalaan 116; Gymzaal de Globetrotter\, Rotterdam\, Zuid Holland\, 3072 EX\, Nederland
END:VEVENT
BEGIN:VEVENT
DTSTART;TZID=Europe/Amsterdam:20210309T000000
DTEND;TZID=Europe/Amsterdam:20210309T235959
DTSTAMP:20260423T184549
CREATED:20210303T090739Z
LAST-MODIFIED:20210303T090739Z
UID:7461-1615248000-1615334399@jcrjudo.nl
SUMMARY:Trainingstijden locatie Blijdorp
DESCRIPTION:16.00 uur tot 16.45 uur vanaf 4 jaar 16.45 uur tot 17.45 uur vanaf 9 jaar en ouder
URL:https://jcrjudo.nl/agenda/trainingstijden-locatie-blijdorp-14/
LOCATION:Blijdorp\, Kolkmanstraat 8; Gymzaal ‘De Margriet’\, Rotterdam\, Zuid Holland\, 3039 PH\, Nederland
END:VEVENT
BEGIN:VEVENT
DTSTART;TZID=Europe/Amsterdam:20210310T000000
DTEND;TZID=Europe/Amsterdam:20210310T235959
DTSTAMP:20260423T184549
CREATED:20210303T090951Z
LAST-MODIFIED:20210303T090952Z
UID:7465-1615334400-1615420799@jcrjudo.nl
SUMMARY:Trainingstijden locatie Waterpoort Barendrecht
DESCRIPTION:14.45 uur tot 15.30 uur vanaf 4 jaar  15.30 uur tot 16.30 uur vanaf 7 jaar16.30 uur tot 17.30 uur vanaf 9 jaar
URL:https://jcrjudo.nl/agenda/trainingstijden-locatie-waterpoort-barendrecht-22/
LOCATION:Barendrecht waterpoort\, Middeldijkerplein 9\, Barendrecht\, Nederland
END:VEVENT
BEGIN:VEVENT
DTSTART;TZID=Europe/Amsterdam:20210310T000000
DTEND;TZID=Europe/Amsterdam:20210310T235959
DTSTAMP:20260423T184549
CREATED:20210303T091059Z
LAST-MODIFIED:20210303T091100Z
UID:7467-1615334400-1615420799@jcrjudo.nl
SUMMARY:Trainingstijden locatie Auris Taalfontijn IJsselmonde
DESCRIPTION:16.15 uur tot 17.00 uur vanaf 4 jaar  17.00 uur tot 18.00 uur vanaf 9 jaar 18.00 uur tot 19.00 uur vanaf 12 jaar en ouder
URL:https://jcrjudo.nl/agenda/trainingstijden-locatie-auris-taalfontijn-ijsselmonde-17/
LOCATION:IJsselmonde\, Kraaijeveldstraat 2; Sportzaal ‘Auris Taalfonteinschool’\, (ingang: Noorder Kerkedijk 8)\, Rotterdam\, Zuid Holland\, 3078 PE\, Nederland
END:VEVENT
BEGIN:VEVENT
DTSTART;TZID=Europe/Amsterdam:20210310T000000
DTEND;TZID=Europe/Amsterdam:20210310T235959
DTSTAMP:20260423T184549
CREATED:20210303T091149Z
LAST-MODIFIED:20210303T091149Z
UID:7469-1615334400-1615420799@jcrjudo.nl
SUMMARY:Trainingstijden locatie Delfshaven pier 80
DESCRIPTION:13.00 uur tot 13.45 uur vanaf 4 jaar 13.45 uur tot 14.45 uur vanaf 9 jaar en ouder 
URL:https://jcrjudo.nl/agenda/trainingstijden-locatie-delfshaven-pier-80-5/
LOCATION:Delfshaven\, Rösener Manszstraat 80; Wijkcentrum Pier 80\, Rotterdam\, Zuid Holland\, 3026 TV\, Nederland
END:VEVENT
BEGIN:VEVENT
DTSTART;TZID=Europe/Amsterdam:20210311T000000
DTEND;TZID=Europe/Amsterdam:20210311T235959
DTSTAMP:20260423T184549
CREATED:20210303T091229Z
LAST-MODIFIED:20210303T091312Z
UID:7471-1615420800-1615507199@jcrjudo.nl
SUMMARY:Trainingstijden locatie Nesselande Beachclub
DESCRIPTION:Adres: Beach club Rotterdam Kosboulevard Rotterdam Nesselande 15.30 uur tot 16.15 uur vanaf 4 jaar 16.15 uur tot 17.15 uur vanaf 9 jaar en ouder
URL:https://jcrjudo.nl/agenda/trainingstijden-locatie-nesselande-beachclub-11/
END:VEVENT
BEGIN:VEVENT
DTSTART;TZID=Europe/Amsterdam:20210311T000000
DTEND;TZID=Europe/Amsterdam:20210311T235959
DTSTAMP:20260423T184549
CREATED:20210303T091421Z
LAST-MODIFIED:20210303T091422Z
UID:7473-1615420800-1615507199@jcrjudo.nl
SUMMARY:Trainingstijden locatie Aksent Barendrecht
DESCRIPTION:15.45 uur tot 16.45 uur vanaf 7 jaar 16.45 uur tot 17.45 uur vanaf 9 jaar
URL:https://jcrjudo.nl/agenda/trainingstijden-locatie-aksent-barendrecht-11/
LOCATION:aksent\, Bachlaan 12\, barendrecht\, 2292 GK\, Nederland
END:VEVENT
BEGIN:VEVENT
DTSTART;TZID=Europe/Amsterdam:20210312T000000
DTEND;TZID=Europe/Amsterdam:20210312T235959
DTSTAMP:20260423T184549
CREATED:20210303T091522Z
LAST-MODIFIED:20210309T091651Z
UID:7475-1615507200-1615593599@jcrjudo.nl
SUMMARY:Trainingstijden locatie Mr schatsschool Hilgersberg
DESCRIPTION:16.00 uur tot 16.45 uur vanaf 4 jaar  16.45 uur tot 17.45 uur vanaf 7 jaar17.45 uur tot 18.45 uur vanaf 9 jaar
URL:https://jcrjudo.nl/agenda/trainingstijden-locatie-mr-schatsschool-hilgersberg-13/
LOCATION:IJsselmonde\, Kraaijeveldstraat 2; Sportzaal ‘Auris Taalfonteinschool’\, (ingang: Noorder Kerkedijk 8)\, Rotterdam\, Zuid Holland\, 3078 PE\, Nederland
END:VEVENT
BEGIN:VEVENT
DTSTART;TZID=Europe/Amsterdam:20210312T000000
DTEND;TZID=Europe/Amsterdam:20210312T235959
DTSTAMP:20260423T184549
CREATED:20210303T091629Z
LAST-MODIFIED:20210303T091630Z
UID:7477-1615507200-1615593599@jcrjudo.nl
SUMMARY:Trainingstijden locatie Waterpoort Barendrecht
DESCRIPTION:16.00 uur tot 16.45 uur vanaf 4 jaar  16.45 uur tot 17.45 uur vanaf 7 jaar 17.45 uur tot 18.45 uur vanaf 12 en ouder
URL:https://jcrjudo.nl/agenda/trainingstijden-locatie-waterpoort-barendrecht-23/
LOCATION:Barendrecht waterpoort\, Middeldijkerplein 9\, Barendrecht\, Nederland
END:VEVENT
BEGIN:VEVENT
DTSTART;TZID=Europe/Amsterdam:20210312T000000
DTEND;TZID=Europe/Amsterdam:20210312T235959
DTSTAMP:20260423T184549
CREATED:20210303T091722Z
LAST-MODIFIED:20210303T091722Z
UID:7479-1615507200-1615593599@jcrjudo.nl
SUMMARY:Trainingstijden locatie beverwaard
DESCRIPTION:15.30 uur tot 16.15 uur vanaf 4 jaar 16.15 uur tot 17.15 uur vanaf 9 jaar en ouder 
URL:https://jcrjudo.nl/agenda/trainingstijden-locatie-beverwaard-5/
LOCATION:Beverwaard\, Gronsvelderf 105; Gymzaal ‘Regenboog’\, Rotterdam\, Zuid Holland\, 3077 SB\, Nederland
END:VEVENT
BEGIN:VEVENT
DTSTART;TZID=Europe/Amsterdam:20210313T000000
DTEND;TZID=Europe/Amsterdam:20210313T235959
DTSTAMP:20260423T184549
CREATED:20210303T091808Z
LAST-MODIFIED:20210303T091809Z
UID:7481-1615593600-1615679999@jcrjudo.nl
SUMMARY:Trainingstijden locatie Kruidentuin
DESCRIPTION:14.00 uur tot 14.45 uur vanaf 4 jaar 14.45 uur tot 15.45 uur vanaf 7 jaar en ouder
URL:https://jcrjudo.nl/agenda/trainingstijden-locatie-kruidentuin-5/
LOCATION:kruidentuin\, kruidentuin 2\, barendrecht\, 2991RK\, Nederland
END:VEVENT
BEGIN:VEVENT
DTSTART;TZID=Europe/Amsterdam:20210307T000000
DTEND;TZID=Europe/Amsterdam:20210307T235959
DTSTAMP:20260423T184549
CREATED:20210303T091903Z
LAST-MODIFIED:20210303T091953Z
UID:7483-1615075200-1615161599@jcrjudo.nl
SUMMARY:Trainingstijden locatie Auris Taalfontijn IJsselmonde
DESCRIPTION:10.30 uur tot 11.30 uur vanaf 9 jaar buiten conditie training
URL:https://jcrjudo.nl/agenda/trainingstijden-locatie-auris-taalfontijn-ijsselmonde-18/
LOCATION:IJsselmonde\, Kraaijeveldstraat 2; Sportzaal ‘Auris Taalfonteinschool’\, (ingang: Noorder Kerkedijk 8)\, Rotterdam\, Zuid Holland\, 3078 PE\, Nederland
END:VEVENT
BEGIN:VEVENT
DTSTART;TZID=Europe/Amsterdam:20210314T000000
DTEND;TZID=Europe/Amsterdam:20210314T235959
DTSTAMP:20260423T184549
CREATED:20210303T092052Z
LAST-MODIFIED:20210303T092052Z
UID:7485-1615680000-1615766399@jcrjudo.nl
SUMMARY:Trainingstijden locatie Auris Taalfontijn IJsselmonde
DESCRIPTION:10.30 uur tot 11.30 uur vanaf 9 jaar buiten conditie training
URL:https://jcrjudo.nl/agenda/trainingstijden-locatie-auris-taalfontijn-ijsselmonde-19/
LOCATION:IJsselmonde\, Kraaijeveldstraat 2; Sportzaal ‘Auris Taalfonteinschool’\, (ingang: Noorder Kerkedijk 8)\, Rotterdam\, Zuid Holland\, 3078 PE\, Nederland
END:VEVENT
BEGIN:VEVENT
DTSTART;TZID=Europe/Amsterdam:20210315T000000
DTEND;TZID=Europe/Amsterdam:20210315T235959
DTSTAMP:20260423T184549
CREATED:20210309T092008Z
LAST-MODIFIED:20210309T092009Z
UID:7496-1615766400-1615852799@jcrjudo.nl
SUMMARY:Trainingstijden locatie Nieuwe Westen
DESCRIPTION:15.45 uur tot 16.30 uur vanaf 4 jaar 16.30 uur tot 17.30 uur vanaf 7 jaar en ouder 
URL:https://jcrjudo.nl/agenda/trainingstijden-locatie-nieuwe-westen-6/
LOCATION:Nieuwe Westen\, Nozemanstraat 77; Gymzaal Vierambachtschool\, Rotterdam\, Zuid Holland\, 3023 TM\, Nederland
END:VEVENT
BEGIN:VEVENT
DTSTART;TZID=Europe/Amsterdam:20210315T000000
DTEND;TZID=Europe/Amsterdam:20210315T235959
DTSTAMP:20260423T184549
CREATED:20210309T092122Z
LAST-MODIFIED:20210309T092122Z
UID:7498-1615766400-1615852799@jcrjudo.nl
SUMMARY:Trainingstijden locatie Blijdorp
DESCRIPTION:16.00 uur tot 16.45 uur vanaf 4 jaar 16.45 uur tot 17.45 uur vanaf 9 jaar 17.45 uur tot 18.45 uur vanaf 12 jaar
URL:https://jcrjudo.nl/agenda/trainingstijden-locatie-blijdorp-15/
LOCATION:Blijdorp\, Kolkmanstraat 8; Gymzaal ‘De Margriet’\, Rotterdam\, Zuid Holland\, 3039 PH\, Nederland
END:VEVENT
BEGIN:VEVENT
DTSTART;TZID=Europe/Amsterdam:20210316T000000
DTEND;TZID=Europe/Amsterdam:20210316T235959
DTSTAMP:20260423T184549
CREATED:20210309T092303Z
LAST-MODIFIED:20210309T092304Z
UID:7500-1615852800-1615939199@jcrjudo.nl
SUMMARY:Trainingstijden locatie Katendrecht
DESCRIPTION:16.00 uur tot 16.45 uur vanaf 4 jaar  16.45 uur tot 17.45 uur vanaf 6 jaar17.45 uur tot 18.45 uur vanaf 9 uur
URL:https://jcrjudo.nl/agenda/trainingstijden-locatie-katendrecht-14/
LOCATION:Katendrecht\, Walhallalaan 116; Gymzaal de Globetrotter\, Rotterdam\, Zuid Holland\, 3072 EX\, Nederland
END:VEVENT
BEGIN:VEVENT
DTSTART;TZID=Europe/Amsterdam:20210316T000000
DTEND;TZID=Europe/Amsterdam:20210316T235959
DTSTAMP:20260423T184549
CREATED:20210309T092431Z
LAST-MODIFIED:20210309T092431Z
UID:7502-1615852800-1615939199@jcrjudo.nl
SUMMARY:Trainingstijden locatie Blijdorp
DESCRIPTION:16.00 uur tot 16.45 uur vanaf 4 jaar 16.45 uur tot 17.45 uur vanaf 9 jaar en ouder
URL:https://jcrjudo.nl/agenda/trainingstijden-locatie-blijdorp-16/
LOCATION:Blijdorp\, Kolkmanstraat 8; Gymzaal ‘De Margriet’\, Rotterdam\, Zuid Holland\, 3039 PH\, Nederland
END:VEVENT
BEGIN:VEVENT
DTSTART;TZID=Europe/Amsterdam:20210317T000000
DTEND;TZID=Europe/Amsterdam:20210317T235959
DTSTAMP:20260423T184549
CREATED:20210309T092519Z
LAST-MODIFIED:20210309T092519Z
UID:7504-1615939200-1616025599@jcrjudo.nl
SUMMARY:Trainingstijden locatie Waterpoort Barendrecht
DESCRIPTION:14.45 uur tot 15.30 uur vanaf 4 jaar  15.30 uur tot 16.30 uur vanaf 7 jaar16.30 uur tot 17.30 uur vanaf 9 jaar
URL:https://jcrjudo.nl/agenda/trainingstijden-locatie-waterpoort-barendrecht-24/
LOCATION:Barendrecht waterpoort\, Middeldijkerplein 9\, Barendrecht\, Nederland
END:VEVENT
BEGIN:VEVENT
DTSTART;TZID=Europe/Amsterdam:20210317T000000
DTEND;TZID=Europe/Amsterdam:20210317T235959
DTSTAMP:20260423T184549
CREATED:20210309T092705Z
LAST-MODIFIED:20210309T092705Z
UID:7506-1615939200-1616025599@jcrjudo.nl
SUMMARY:Trainingstijden locatie Auris Taalfontijn IJsselmonde
DESCRIPTION:16.15 uur tot 17.00 uur vanaf 4 jaar  17.00 uur tot 18.00 uur vanaf 9 jaar 18.00 uur tot 19.00 uur vanaf 12 jaar en ouder
URL:https://jcrjudo.nl/agenda/trainingstijden-locatie-auris-taalfontijn-ijsselmonde-20/
LOCATION:IJsselmonde\, Kraaijeveldstraat 2; Sportzaal ‘Auris Taalfonteinschool’\, (ingang: Noorder Kerkedijk 8)\, Rotterdam\, Zuid Holland\, 3078 PE\, Nederland
END:VEVENT
BEGIN:VEVENT
DTSTART;TZID=Europe/Amsterdam:20210317T000000
DTEND;TZID=Europe/Amsterdam:20210317T235959
DTSTAMP:20260423T184549
CREATED:20210309T092751Z
LAST-MODIFIED:20210309T092752Z
UID:7508-1615939200-1616025599@jcrjudo.nl
SUMMARY:Trainingstijden locatie Delfshaven pier 80
DESCRIPTION:13.00 uur tot 13.45 uur vanaf 4 jaar 13.45 uur tot 14.45 uur vanaf 9 jaar en ouder 
URL:https://jcrjudo.nl/agenda/trainingstijden-locatie-delfshaven-pier-80-6/
LOCATION:Delfshaven\, Rösener Manszstraat 80; Wijkcentrum Pier 80\, Rotterdam\, Zuid Holland\, 3026 TV\, Nederland
END:VEVENT
BEGIN:VEVENT
DTSTART;TZID=Europe/Amsterdam:20210318T000000
DTEND;TZID=Europe/Amsterdam:20210318T235959
DTSTAMP:20260423T184549
CREATED:20210309T092840Z
LAST-MODIFIED:20210309T092841Z
UID:7510-1616025600-1616111999@jcrjudo.nl
SUMMARY:Trainingstijden locatie Nesselande Beachclub
DESCRIPTION:Adres: Beach club Rotterdam Kosboulevard Rotterdam Nesselande 15.30 uur tot 16.15 uur vanaf 4 jaar 16.15 uur tot 17.15 uur vanaf 9 jaar en ouder
URL:https://jcrjudo.nl/agenda/trainingstijden-locatie-nesselande-beachclub-12/
END:VEVENT
BEGIN:VEVENT
DTSTART;TZID=Europe/Amsterdam:20210318T000000
DTEND;TZID=Europe/Amsterdam:20210318T235959
DTSTAMP:20260423T184549
CREATED:20210309T092923Z
LAST-MODIFIED:20210309T092924Z
UID:7512-1616025600-1616111999@jcrjudo.nl
SUMMARY:Trainingstijden locatie Aksent Barendrecht
DESCRIPTION:15.45 uur tot 16.45 uur vanaf 7 jaar 16.45 uur tot 17.45 uur vanaf 9 jaar
URL:https://jcrjudo.nl/agenda/trainingstijden-locatie-aksent-barendrecht-12/
LOCATION:aksent\, Bachlaan 12\, barendrecht\, 2292 GK\, Nederland
END:VEVENT
BEGIN:VEVENT
DTSTART;TZID=Europe/Amsterdam:20210319T000000
DTEND;TZID=Europe/Amsterdam:20210319T235959
DTSTAMP:20260423T184549
CREATED:20210309T093019Z
LAST-MODIFIED:20210309T093019Z
UID:7514-1616112000-1616198399@jcrjudo.nl
SUMMARY:Trainingstijden locatie Mr schatsschool Hilgersberg
DESCRIPTION:16.00 uur tot 16.45 uur vanaf 4 jaar  16.45 uur tot 17.45 uur vanaf 7 jaar17.45 uur tot 18.45 uur vanaf 9 jaar
URL:https://jcrjudo.nl/agenda/trainingstijden-locatie-mr-schatsschool-hilgersberg-14/
LOCATION:Hillegersberg\, Van Enckevoirtlaan 129; Gymzaal instituut Mr Schats Noord\, Rotterdam\, Zuid Holland\, 3052 KR\, Nederland
END:VEVENT
BEGIN:VEVENT
DTSTART;TZID=Europe/Amsterdam:20210319T000000
DTEND;TZID=Europe/Amsterdam:20210319T235959
DTSTAMP:20260423T184549
CREATED:20210309T093106Z
LAST-MODIFIED:20210309T093107Z
UID:7516-1616112000-1616198399@jcrjudo.nl
SUMMARY:Trainingstijden locatie Waterpoort Barendrecht
DESCRIPTION:16.00 uur tot 16.45 uur vanaf 4 jaar  16.45 uur tot 17.45 uur vanaf 7 jaar 17.45 uur tot 18.45 uur vanaf 12 en ouder
URL:https://jcrjudo.nl/agenda/trainingstijden-locatie-waterpoort-barendrecht-25/
LOCATION:Barendrecht waterpoort\, Middeldijkerplein 9\, Barendrecht\, Nederland
END:VEVENT
BEGIN:VEVENT
DTSTART;TZID=Europe/Amsterdam:20210319T000000
DTEND;TZID=Europe/Amsterdam:20210319T235959
DTSTAMP:20260423T184549
CREATED:20210309T093154Z
LAST-MODIFIED:20210309T093154Z
UID:7518-1616112000-1616198399@jcrjudo.nl
SUMMARY:Trainingstijden locatie beverwaard
DESCRIPTION:15.30 uur tot 16.15 uur vanaf 4 jaar 16.15 uur tot 17.15 uur vanaf 9 jaar en ouder
URL:https://jcrjudo.nl/agenda/trainingstijden-locatie-beverwaard-6/
LOCATION:Beverwaard\, Gronsvelderf 105; Gymzaal ‘Regenboog’\, Rotterdam\, Zuid Holland\, 3077 SB\, Nederland
END:VEVENT
BEGIN:VEVENT
DTSTART;TZID=Europe/Amsterdam:20210320T000000
DTEND;TZID=Europe/Amsterdam:20210320T235959
DTSTAMP:20260423T184549
CREATED:20210309T093246Z
LAST-MODIFIED:20210309T093247Z
UID:7520-1616198400-1616284799@jcrjudo.nl
SUMMARY:Trainingstijden locatie Kruidentuin
DESCRIPTION:14.00 uur tot 14.45 uur vanaf 4 jaar 14.45 uur tot 15.45 uur vanaf 7 jaar en ouder
URL:https://jcrjudo.nl/agenda/trainingstijden-locatie-kruidentuin-6/
LOCATION:kruidentuin\, kruidentuin 2\, barendrecht\, 2991RK\, Nederland
END:VEVENT
BEGIN:VEVENT
DTSTART;TZID=Europe/Amsterdam:20210321T000000
DTEND;TZID=Europe/Amsterdam:20210321T235959
DTSTAMP:20260423T184549
CREATED:20210309T093327Z
LAST-MODIFIED:20210309T093328Z
UID:7522-1616284800-1616371199@jcrjudo.nl
SUMMARY:Trainingstijden locatie Auris Taalfontijn IJsselmonde
DESCRIPTION:10.30 uur tot 11.30 uur vanaf 9 jaar buiten conditie training
URL:https://jcrjudo.nl/agenda/trainingstijden-locatie-auris-taalfontijn-ijsselmonde-21/
LOCATION:IJsselmonde\, Kraaijeveldstraat 2; Sportzaal ‘Auris Taalfonteinschool’\, (ingang: Noorder Kerkedijk 8)\, Rotterdam\, Zuid Holland\, 3078 PE\, Nederland
END:VEVENT
END:VCALENDAR