BEGIN:VCALENDAR
VERSION:2.0
PRODID:-//JCR Judo - ECPv6.15.17.1//NONSGML v1.0//EN
CALSCALE:GREGORIAN
METHOD:PUBLISH
X-WR-CALNAME:JCR Judo
X-ORIGINAL-URL:https://jcrjudo.nl
X-WR-CALDESC:Evenementen voor JCR Judo
REFRESH-INTERVAL;VALUE=DURATION:PT1H
X-Robots-Tag:noindex
X-PUBLISHED-TTL:PT1H
BEGIN:VTIMEZONE
TZID:Europe/Amsterdam
BEGIN:DAYLIGHT
TZOFFSETFROM:+0100
TZOFFSETTO:+0200
TZNAME:CEST
DTSTART:20190331T010000
END:DAYLIGHT
BEGIN:STANDARD
TZOFFSETFROM:+0200
TZOFFSETTO:+0100
TZNAME:CET
DTSTART:20191027T010000
END:STANDARD
BEGIN:DAYLIGHT
TZOFFSETFROM:+0100
TZOFFSETTO:+0200
TZNAME:CEST
DTSTART:20200329T010000
END:DAYLIGHT
BEGIN:STANDARD
TZOFFSETFROM:+0200
TZOFFSETTO:+0100
TZNAME:CET
DTSTART:20201025T010000
END:STANDARD
BEGIN:DAYLIGHT
TZOFFSETFROM:+0100
TZOFFSETTO:+0200
TZNAME:CEST
DTSTART:20210328T010000
END:DAYLIGHT
BEGIN:STANDARD
TZOFFSETFROM:+0200
TZOFFSETTO:+0100
TZNAME:CET
DTSTART:20211031T010000
END:STANDARD
END:VTIMEZONE
BEGIN:VEVENT
DTSTART;TZID=Europe/Amsterdam:20201221T000000
DTEND;TZID=Europe/Amsterdam:20201221T235959
DTSTAMP:20260420T224728
CREATED:20201215T110420Z
LAST-MODIFIED:20201215T110420Z
UID:6788-1608508800-1608595199@jcrjudo.nl
SUMMARY:Trainingstijden locatie Mr schatsschool Hilgersberg
DESCRIPTION:15.00 uur tot 16.00 uur alle leeftijden
URL:https://jcrjudo.nl/agenda/trainingstijden-locatie-mr-schatsschool-hilgersberg/
LOCATION:Hillegersberg\, Van Enckevoirtlaan 129; Gymzaal instituut Mr Schats Noord\, Rotterdam\, Zuid Holland\, 3052 KR\, Nederland
END:VEVENT
BEGIN:VEVENT
DTSTART;TZID=Europe/Amsterdam:20201218T000000
DTEND;TZID=Europe/Amsterdam:20201218T235959
DTSTAMP:20260420T224728
CREATED:20201215T110139Z
LAST-MODIFIED:20201215T110202Z
UID:6784-1608249600-1608335999@jcrjudo.nl
SUMMARY:Trainingstijden locatie Mr schatsschool Hilgersberg
DESCRIPTION:14.00 uur tot 15.00 uur 4 t/m 8 jaar 15.00 uur tot 16.00 uur 9 jaar en ouder
URL:https://jcrjudo.nl/agenda/trainingstijden-locatie-mr-schetsschool-hilgersberg/
LOCATION:Hillegersberg\, Van Enckevoirtlaan 129; Gymzaal instituut Mr Schats Noord\, Rotterdam\, Zuid Holland\, 3052 KR\, Nederland
END:VEVENT
BEGIN:VEVENT
DTSTART;TZID=Europe/Amsterdam:20201218T000000
DTEND;TZID=Europe/Amsterdam:20201218T235959
DTSTAMP:20260420T224728
CREATED:20201215T105355Z
LAST-MODIFIED:20201215T105355Z
UID:6779-1608249600-1608335999@jcrjudo.nl
SUMMARY:Trainingstijden locatie Waterpoort Barendrecht
DESCRIPTION:14.00 uur tot 15.00 uur 4 t/m 8 jaar 15.00 uur tot 16.00 uur 9 jaar en ouder
URL:https://jcrjudo.nl/agenda/trainingstijden-locatie-waterpoort-barendrecht-2/
LOCATION:Barendrecht waterpoort\, Middeldijkerplein 9\, Barendrecht\, Nederland
END:VEVENT
BEGIN:VEVENT
DTSTART;TZID=Europe/Amsterdam:20201217T000000
DTEND;TZID=Europe/Amsterdam:20201217T235959
DTSTAMP:20260420T224728
CREATED:20201215T105247Z
LAST-MODIFIED:20201215T110030Z
UID:6777-1608163200-1608249599@jcrjudo.nl
SUMMARY:Trainingstijden locatie Aksent Barendrecht
DESCRIPTION:15.00 uur tot 16.00 uur alle leeftijden
URL:https://jcrjudo.nl/agenda/trainingstijden-locatie-aksent-barendrecht/
LOCATION:aksent\, Bachlaan 12\, barendrecht\, 2292 GK\, Nederland
END:VEVENT
BEGIN:VEVENT
DTSTART;TZID=Europe/Amsterdam:20201217T000000
DTEND;TZID=Europe/Amsterdam:20201217T235959
DTSTAMP:20260420T224728
CREATED:20201215T105057Z
LAST-MODIFIED:20201215T113841Z
UID:6775-1608163200-1608249599@jcrjudo.nl
SUMMARY:Trainingstijden locatie Nesselande Beachclub
DESCRIPTION:Adres: Beach club Rotterdam Kosboulevard Rotterdam Nesselande 14.00 uur tot 15.00 uur 4 t/m 8 jaar 15.00 uur tot 16.00 uur 9 jaar en ouder 
URL:https://jcrjudo.nl/agenda/trainingstijden-locatie-nesselande-beachclub/
LOCATION:Beach club Rotterdam\, kosboulevard\, Rotterdam\, 3059 XZ\, Netherlands
END:VEVENT
BEGIN:VEVENT
DTSTART;TZID=Europe/Amsterdam:20201216T000000
DTEND;TZID=Europe/Amsterdam:20201216T235959
DTSTAMP:20260420T224728
CREATED:20201215T104707Z
LAST-MODIFIED:20201215T104708Z
UID:6772-1608076800-1608163199@jcrjudo.nl
SUMMARY:Trainingstijden locatie Auris Taalfontijn IJsselmonde
DESCRIPTION:14.00 uur tot 15.00 uur 4 t/m 8 jaar 15.00 uur tot 16.00 uur 9 jaar en ouder 
URL:https://jcrjudo.nl/agenda/trainingstijden-locatie-auris-taalfontijn-ijsselmonde/
LOCATION:IJsselmonde\, Kraaijeveldstraat 2; Sportzaal ‘Auris Taalfonteinschool’\, (ingang: Noorder Kerkedijk 8)\, Rotterdam\, Zuid Holland\, 3078 PE\, Nederland
END:VEVENT
BEGIN:VEVENT
DTSTART;TZID=Europe/Amsterdam:20201216T000000
DTEND;TZID=Europe/Amsterdam:20201216T235959
DTSTAMP:20260420T224728
CREATED:20201215T104340Z
LAST-MODIFIED:20201215T104731Z
UID:6770-1608076800-1608163199@jcrjudo.nl
SUMMARY:Trainingstijden locatie Waterpoort Barendrecht
DESCRIPTION:14.00 uur tot 15.00 uur 4 t/m 8 jaar 15.00 uur tot 16.00 uur 9 jaar en ouder
URL:https://jcrjudo.nl/agenda/trainingstijden-locatie-waterpoort-barendrecht/
LOCATION:Barendrecht waterpoort\, Middeldijkerplein 9\, Barendrecht\, Nederland
END:VEVENT
BEGIN:VEVENT
DTSTART;TZID=Europe/Amsterdam:20201215T000000
DTEND;TZID=Europe/Amsterdam:20201215T235959
DTSTAMP:20260420T224728
CREATED:20201214T192826Z
LAST-MODIFIED:20201215T103228Z
UID:6760-1607990400-1608076799@jcrjudo.nl
SUMMARY:Geen les op onze locatie's Katendrecht en Blijdorp ivm afwachting noodverordening Rotterdam.
DESCRIPTION:
URL:https://jcrjudo.nl/agenda/geen-les-op-alle-locaties-ivm-afwachting-noodverordening-rotterdam/
END:VEVENT
BEGIN:VEVENT
DTSTART;TZID=Europe/Amsterdam:20201213T000000
DTEND;TZID=Europe/Amsterdam:20201213T235959
DTSTAMP:20260420T224729
CREATED:20201208T084454Z
LAST-MODIFIED:20201208T084454Z
UID:6723-1607817600-1607903999@jcrjudo.nl
SUMMARY:Wedstrijd training
DESCRIPTION: Wedstrijd training vanaf 7 jaar aanwezig 9:15 start 9:30 tot 11:00 uur ( ook -15 -18 -21 en senioren)
URL:https://jcrjudo.nl/agenda/wedstrijd-training-65/
LOCATION:IJsselmonde\, Kraaijeveldstraat 2; Sportzaal ‘Auris Taalfonteinschool’\, (ingang: Noorder Kerkedijk 8)\, Rotterdam\, Zuid Holland\, 3078 PE\, Nederland
END:VEVENT
BEGIN:VEVENT
DTSTART;TZID=Europe/Amsterdam:20201212T000000
DTEND;TZID=Europe/Amsterdam:20201212T235959
DTSTAMP:20260420T224729
CREATED:20201208T084413Z
LAST-MODIFIED:20201208T084414Z
UID:6721-1607731200-1607817599@jcrjudo.nl
SUMMARY:Wedstrijd training locatie Barendrecht Noord
DESCRIPTION:Wedstrijd training vanaf 7 jaar 15.45 uur tot 17.00 uur
URL:https://jcrjudo.nl/agenda/wedstrijd-training-locatie-barendrecht-noord-12/
LOCATION:kruidentuin\, kruidentuin 2\, barendrecht\, 2991RK\, Nederland
END:VEVENT
BEGIN:VEVENT
DTSTART;TZID=Europe/Amsterdam:20201211T000000
DTEND;TZID=Europe/Amsterdam:20201211T235959
DTSTAMP:20260420T224729
CREATED:20201208T084334Z
LAST-MODIFIED:20201208T084335Z
UID:6719-1607644800-1607731199@jcrjudo.nl
SUMMARY:Wedstrijd training locatie IJsselmonde
DESCRIPTION:Wedstrijdtraining vanaf 12 jaar van 19:30 uur tot 21:00 uur
URL:https://jcrjudo.nl/agenda/wedstrijd-training-locatie-ijsselmonde-23/
LOCATION:IJsselmonde\, Kraaijeveldstraat 2; Sportzaal ‘Auris Taalfonteinschool’\, (ingang: Noorder Kerkedijk 8)\, Rotterdam\, Zuid Holland\, 3078 PE\, Nederland
END:VEVENT
BEGIN:VEVENT
DTSTART;TZID=Europe/Amsterdam:20201209T000000
DTEND;TZID=Europe/Amsterdam:20201209T235959
DTSTAMP:20260420T224729
CREATED:20201208T084254Z
LAST-MODIFIED:20201208T084255Z
UID:6717-1607472000-1607558399@jcrjudo.nl
SUMMARY:Wedstrijd training locatie IJsselmonde
DESCRIPTION:Wedstrijdtraining vanaf 12 jaar van 17:45 uur tot 19:15 uu
URL:https://jcrjudo.nl/agenda/wedstrijd-training-locatie-ijsselmonde-22/
LOCATION:IJsselmonde\, Kraaijeveldstraat 2; Sportzaal ‘Auris Taalfonteinschool’\, (ingang: Noorder Kerkedijk 8)\, Rotterdam\, Zuid Holland\, 3078 PE\, Nederland
END:VEVENT
BEGIN:VEVENT
DTSTART;TZID=Europe/Amsterdam:20201208T000000
DTEND;TZID=Europe/Amsterdam:20201208T235959
DTSTAMP:20260420T224729
CREATED:20201208T084204Z
LAST-MODIFIED:20201208T084205Z
UID:6715-1607385600-1607471999@jcrjudo.nl
SUMMARY:Wedstrijd training locatie Blijdorp
DESCRIPTION:Wedstrijd training vanaf 7 jaar 17.45 uur tot 19.00 uur
URL:https://jcrjudo.nl/agenda/wedstrijd-training-locatie-blijdorp-8/
LOCATION:Blijdorp\, Kolkmanstraat 8; Gymzaal ‘De Margriet’\, Rotterdam\, Zuid Holland\, 3039 PH\, Nederland
END:VEVENT
BEGIN:VEVENT
DTSTART;TZID=Europe/Amsterdam:20201206T093000
DTEND;TZID=Europe/Amsterdam:20201206T113000
DTSTAMP:20260420T224729
CREATED:20201126T201953Z
LAST-MODIFIED:20201126T201954Z
UID:6674-1607247000-1607254200@jcrjudo.nl
SUMMARY:Extra corona examen
DESCRIPTION:sluiting inschrijving 29 november
URL:https://jcrjudo.nl/agenda/extra-corona-examen/
LOCATION:IJsselmonde\, Kraaijeveldstraat 2; Sportzaal ‘Auris Taalfonteinschool’\, (ingang: Noorder Kerkedijk 8)\, Rotterdam\, Zuid Holland\, 3078 PE\, Nederland
END:VEVENT
BEGIN:VEVENT
DTSTART;TZID=Europe/Amsterdam:20201206T080000
DTEND;TZID=Europe/Amsterdam:20201206T170000
DTSTAMP:20260420T224729
CREATED:20201130T075859Z
LAST-MODIFIED:20201130T075900Z
UID:6682-1607241600-1607274000@jcrjudo.nl
SUMMARY:Geen wedstrijd training
DESCRIPTION:
URL:https://jcrjudo.nl/agenda/geen-wedstrijd-training-6/
LOCATION:IJsselmonde\, Kraaijeveldstraat 2; Sportzaal ‘Auris Taalfonteinschool’\, (ingang: Noorder Kerkedijk 8)\, Rotterdam\, Zuid Holland\, 3078 PE\, Nederland
END:VEVENT
BEGIN:VEVENT
DTSTART;TZID=Europe/Amsterdam:20201205T000000
DTEND;TZID=Europe/Amsterdam:20201205T235959
DTSTAMP:20260420T224729
CREATED:20201204T075004Z
LAST-MODIFIED:20201204T075005Z
UID:6697-1607126400-1607212799@jcrjudo.nl
SUMMARY:judo lessen gaan door !
DESCRIPTION:
URL:https://jcrjudo.nl/agenda/judo-lessen-gaan-door/
LOCATION:kruidentuin\, kruidentuin 2\, barendrecht\, 2991RK\, Nederland
END:VEVENT
BEGIN:VEVENT
DTSTART;TZID=Europe/Amsterdam:20201205T000000
DTEND;TZID=Europe/Amsterdam:20201205T235959
DTSTAMP:20260420T224729
CREATED:20201204T074834Z
LAST-MODIFIED:20201204T074834Z
UID:6695-1607126400-1607212799@jcrjudo.nl
SUMMARY:Wedstrijd training locatie Barendrecht Noord
DESCRIPTION:Wedstrijd training vanaf 7 jaar 15.45 uur tot 17.00 uur
URL:https://jcrjudo.nl/agenda/wedstrijd-training-locatie-barendrecht-noord-11/
LOCATION:kruidentuin\, kruidentuin 2\, barendrecht\, 2991RK\, Nederland
END:VEVENT
BEGIN:VEVENT
DTSTART;TZID=Europe/Amsterdam:20201204T000000
DTEND;TZID=Europe/Amsterdam:20201204T235959
DTSTAMP:20260420T224729
CREATED:20201204T074738Z
LAST-MODIFIED:20201204T074738Z
UID:6693-1607040000-1607126399@jcrjudo.nl
SUMMARY:Wedstrijd training locatie IJsselmonde
DESCRIPTION:Wedstrijdtraining vanaf 12 jaar van 19:30 uur tot 21:00 uur
URL:https://jcrjudo.nl/agenda/wedstrijd-training-locatie-ijsselmonde-21/
LOCATION:IJsselmonde\, Kraaijeveldstraat 2; Sportzaal ‘Auris Taalfonteinschool’\, (ingang: Noorder Kerkedijk 8)\, Rotterdam\, Zuid Holland\, 3078 PE\, Nederland
END:VEVENT
BEGIN:VEVENT
DTSTART;TZID=Europe/Amsterdam:20201129T000000
DTEND;TZID=Europe/Amsterdam:20201129T235959
DTSTAMP:20260420T224729
CREATED:20201126T201706Z
LAST-MODIFIED:20201126T201707Z
UID:6672-1606608000-1606694399@jcrjudo.nl
SUMMARY:Wedstrijd training
DESCRIPTION: Wedstrijd training vanaf 7 jaar aanwezig 9:15 start 9:30 tot 11:00 uur ( ook -15 -18 -21 en senioren)
URL:https://jcrjudo.nl/agenda/wedstrijd-training-64/
LOCATION:IJsselmonde\, Kraaijeveldstraat 2; Sportzaal ‘Auris Taalfonteinschool’\, (ingang: Noorder Kerkedijk 8)\, Rotterdam\, Zuid Holland\, 3078 PE\, Nederland
END:VEVENT
BEGIN:VEVENT
DTSTART;TZID=Europe/Amsterdam:20201128T000000
DTEND;TZID=Europe/Amsterdam:20201128T235959
DTSTAMP:20260420T224729
CREATED:20201126T201608Z
LAST-MODIFIED:20201126T201608Z
UID:6669-1606521600-1606607999@jcrjudo.nl
SUMMARY:Wedstrijd training locatie Barendrecht Noord
DESCRIPTION:Wedstrijd training vanaf 7 jaar 15.45 uur tot 17.00 uur
URL:https://jcrjudo.nl/agenda/wedstrijd-training-locatie-barendrecht-noord-10/
LOCATION:kruidentuin\, kruidentuin 2\, barendrecht\, 2991RK\, Nederland
END:VEVENT
BEGIN:VEVENT
DTSTART;TZID=Europe/Amsterdam:20201127T000000
DTEND;TZID=Europe/Amsterdam:20201127T235959
DTSTAMP:20260420T224729
CREATED:20201126T201441Z
LAST-MODIFIED:20201126T201442Z
UID:6667-1606435200-1606521599@jcrjudo.nl
SUMMARY:Wedstrijd training locatie IJsselmonde
DESCRIPTION:Wedstrijdtraining vanaf 12 jaar van 19:30 uur tot 21:00 uur
URL:https://jcrjudo.nl/agenda/wedstrijd-training-locatie-ijsselmonde-20/
LOCATION:IJsselmonde\, Kraaijeveldstraat 2; Sportzaal ‘Auris Taalfonteinschool’\, (ingang: Noorder Kerkedijk 8)\, Rotterdam\, Zuid Holland\, 3078 PE\, Nederland
END:VEVENT
BEGIN:VEVENT
DTSTART;TZID=Europe/Amsterdam:20201127T000000
DTEND;TZID=Europe/Amsterdam:20201127T235959
DTSTAMP:20260420T224729
CREATED:20201112T085058Z
LAST-MODIFIED:20201112T085059Z
UID:6648-1606435200-1606521599@jcrjudo.nl
SUMMARY:Examen Barendrecht Waterpoort
DESCRIPTION:examen les 1 aanvang: 16.00 uurexamen les 2 aanvang: 16.45 uurexamen les 3 aanvang: 17.45 uur je kan alleen meedoen als je ingeschreven bent. De les kan worden ingehaald op een van onze andere locaties
URL:https://jcrjudo.nl/agenda/examen-barendrecht-waterpoort-2/
LOCATION:Barendrecht waterpoort\, Middeldijkerplein 9\, Barendrecht\, Nederland
END:VEVENT
BEGIN:VEVENT
DTSTART;TZID=Europe/Amsterdam:20201126T000000
DTEND;TZID=Europe/Amsterdam:20201126T235959
DTSTAMP:20260420T224729
CREATED:20201112T084911Z
LAST-MODIFIED:20201112T084911Z
UID:6646-1606348800-1606435199@jcrjudo.nl
SUMMARY:Examen Barendrecht Aksent
DESCRIPTION:examen les 1 aanvang: 15.45 uurexamen les 2 aanvang: 16.45 uur je kan alleen meedoen als je ingeschreven bent. De les kan worden ingehaald op een van onze andere locaties
URL:https://jcrjudo.nl/agenda/examen-barendrecht-aksent/
LOCATION:aksent\, Bachlaan 12\, barendrecht\, 2292 GK\, Nederland
END:VEVENT
BEGIN:VEVENT
DTSTART;TZID=Europe/Amsterdam:20201125T000000
DTEND;TZID=Europe/Amsterdam:20201125T235959
DTSTAMP:20260420T224729
CREATED:20201112T084751Z
LAST-MODIFIED:20201112T084752Z
UID:6644-1606262400-1606348799@jcrjudo.nl
SUMMARY:Examen IJsselmonde
DESCRIPTION:examen les 1 aanvang: 16.00 uurexamen les 2 aanvang: 16.45 uurband examen voor gele en oranje band aanvang: 17.45 uur band examen voor groene band en hoger aanvang: 19.15 uur je kan alleen meedoen als je ingeschreven bent. De les kan worden ingehaald op een van onze andere locaties
URL:https://jcrjudo.nl/agenda/examen-ijsselmonde/
LOCATION:IJsselmonde\, Kraaijeveldstraat 2; Sportzaal ‘Auris Taalfonteinschool’\, (ingang: Noorder Kerkedijk 8)\, Rotterdam\, Zuid Holland\, 3078 PE\, Nederland
END:VEVENT
BEGIN:VEVENT
DTSTART;TZID=Europe/Amsterdam:20201124T000000
DTEND;TZID=Europe/Amsterdam:20201124T235959
DTSTAMP:20260420T224729
CREATED:20201112T084417Z
LAST-MODIFIED:20201112T084418Z
UID:6642-1606176000-1606262399@jcrjudo.nl
SUMMARY:Examen Blijdorp
DESCRIPTION:examen les 1 aanvang: 16.00 uurexamen les 2 aanvang: 16.45 uurband examen voor gele en oranje band aanvang: 17.45 uur je kan alleen meedoen als je ingeschreven bent. De les kan worden ingehaald op een van onze andere locaties
URL:https://jcrjudo.nl/agenda/examen-blijdorp-2/
LOCATION:Blijdorp\, Kolkmanstraat 8; Gymzaal ‘De Margriet’\, Rotterdam\, Zuid Holland\, 3039 PH\, Nederland
END:VEVENT
BEGIN:VEVENT
DTSTART;TZID=Europe/Amsterdam:20201123T000000
DTEND;TZID=Europe/Amsterdam:20201123T235959
DTSTAMP:20260420T224729
CREATED:20201112T084205Z
LAST-MODIFIED:20201112T084205Z
UID:6636-1606089600-1606175999@jcrjudo.nl
SUMMARY:Examen Nieuwe westen
DESCRIPTION:examen les 1 aanvang: 15.45 uurexamen les 2 aanvang: 16.30 uurexamen les 3 aanvang: 17.30 uur je kan alleen meedoen als je ingeschreven bent. De les kan worden ingehaald op een van onze andere locaties
URL:https://jcrjudo.nl/agenda/examen-nieuwe-westen/
LOCATION:Nieuwe Westen\, Nozemanstraat 77; Gymzaal Vierambachtschool\, Rotterdam\, Zuid Holland\, 3023 TM\, Nederland
END:VEVENT
BEGIN:VEVENT
DTSTART;TZID=Europe/Amsterdam:20201122T000000
DTEND;TZID=Europe/Amsterdam:20201122T235959
DTSTAMP:20260420T224729
CREATED:20201114T092311Z
LAST-MODIFIED:20201114T092312Z
UID:6659-1606003200-1606089599@jcrjudo.nl
SUMMARY:Wedstrijd training
DESCRIPTION: Wedstrijd training vanaf 7 jaar aanwezig 9:15 start 9:30 tot 11:00 uur ( ook -15 -18 -21 en senioren)
URL:https://jcrjudo.nl/agenda/wedstrijd-training-63/
LOCATION:IJsselmonde\, Kraaijeveldstraat 2; Sportzaal ‘Auris Taalfonteinschool’\, (ingang: Noorder Kerkedijk 8)\, Rotterdam\, Zuid Holland\, 3078 PE\, Nederland
END:VEVENT
BEGIN:VEVENT
DTSTART;TZID=Europe/Amsterdam:20201121T000000
DTEND;TZID=Europe/Amsterdam:20201121T235959
DTSTAMP:20260420T224729
CREATED:20201121T102446Z
LAST-MODIFIED:20201121T102447Z
UID:6665-1605916800-1606003199@jcrjudo.nl
SUMMARY:geen wedstrijd training
DESCRIPTION:
URL:https://jcrjudo.nl/agenda/geen-wedstrijd-training-5/
LOCATION:kruidentuin\, kruidentuin 2\, barendrecht\, 2991RK\, Nederland
END:VEVENT
BEGIN:VEVENT
DTSTART;TZID=Europe/Amsterdam:20201121T000000
DTEND;TZID=Europe/Amsterdam:20201121T235959
DTSTAMP:20260420T224729
CREATED:20201112T084018Z
LAST-MODIFIED:20201112T085338Z
UID:6634-1605916800-1606003199@jcrjudo.nl
SUMMARY:Examen Barendrecht kruidentuin
DESCRIPTION:examen les 1 aanvang: 14.00 uurexamen les 2 aanvang: 14.45 uurband examen voor gele en oranje band aanvang: 15.45 uur je kan alleen meedoen als je ingeschreven bent. De les kan worden ingehaald op een van onze andere locaties
URL:https://jcrjudo.nl/agenda/examen-barendrecht-kruidentuin/
LOCATION:kruidentuin\, kruidentuin 2\, barendrecht\, 2991RK\, Nederland
END:VEVENT
BEGIN:VEVENT
DTSTART;TZID=Europe/Amsterdam:20201120T080000
DTEND;TZID=Europe/Amsterdam:20201120T170000
DTSTAMP:20260420T224729
CREATED:20201112T083849Z
LAST-MODIFIED:20201112T083849Z
UID:6632-1605859200-1605891600@jcrjudo.nl
SUMMARY:Examen Hilgersberg
DESCRIPTION:examen les 1 aanvang: 16.00 uurexamen les 2 aanvang: 16.45 uurexamen les 3 aanvang: 17.45 uur je kan alleen meedoen als je ingeschreven bent. De les kan worden ingehaald op een van onze andere locaties
URL:https://jcrjudo.nl/agenda/examen-hilgersberg/
LOCATION:Hillegersberg\, Van Enckevoirtlaan 129; Gymzaal instituut Mr Schats Noord\, Rotterdam\, Zuid Holland\, 3052 KR\, Nederland
END:VEVENT
END:VCALENDAR