BEGIN:VCALENDAR
VERSION:2.0
PRODID:-//JCR Judo - ECPv6.15.17.1//NONSGML v1.0//EN
CALSCALE:GREGORIAN
METHOD:PUBLISH
X-ORIGINAL-URL:https://jcrjudo.nl
X-WR-CALDESC:Evenementen voor JCR Judo
REFRESH-INTERVAL;VALUE=DURATION:PT1H
X-Robots-Tag:noindex
X-PUBLISHED-TTL:PT1H
BEGIN:VTIMEZONE
TZID:Europe/Amsterdam
BEGIN:DAYLIGHT
TZOFFSETFROM:+0100
TZOFFSETTO:+0200
TZNAME:CEST
DTSTART:20200329T010000
END:DAYLIGHT
BEGIN:STANDARD
TZOFFSETFROM:+0200
TZOFFSETTO:+0100
TZNAME:CET
DTSTART:20201025T010000
END:STANDARD
BEGIN:DAYLIGHT
TZOFFSETFROM:+0100
TZOFFSETTO:+0200
TZNAME:CEST
DTSTART:20210328T010000
END:DAYLIGHT
BEGIN:STANDARD
TZOFFSETFROM:+0200
TZOFFSETTO:+0100
TZNAME:CET
DTSTART:20211031T010000
END:STANDARD
BEGIN:DAYLIGHT
TZOFFSETFROM:+0100
TZOFFSETTO:+0200
TZNAME:CEST
DTSTART:20220327T010000
END:DAYLIGHT
BEGIN:STANDARD
TZOFFSETFROM:+0200
TZOFFSETTO:+0100
TZNAME:CET
DTSTART:20221030T010000
END:STANDARD
END:VTIMEZONE
BEGIN:VEVENT
DTSTART;TZID=Europe/Amsterdam:20210510T000000
DTEND;TZID=Europe/Amsterdam:20210510T235959
DTSTAMP:20260424T093611
CREATED:20210505T153128Z
LAST-MODIFIED:20210505T153128Z
UID:7982-1620604800-1620691199@jcrjudo.nl
SUMMARY:Buiten trainingstijden locatie Nieuwe Westen
DESCRIPTION:15.45 uur tot 16.30 uur vanaf 4 jaar 16.30 uur tot 17.30 uur vanaf 7 jaar 17.30 uur tot 18.30 uur vanaf 9 jaar
URL:https://jcrjudo.nl/agenda/buiten-trainingstijden-locatie-nieuwe-westen-4/
LOCATION:Nieuwe Westen\, Nozemanstraat 77; Gymzaal Vierambachtschool\, Rotterdam\, Zuid Holland\, 3023 TM\, Nederland
END:VEVENT
BEGIN:VEVENT
DTSTART;TZID=Europe/Amsterdam:20210511T000000
DTEND;TZID=Europe/Amsterdam:20210511T235959
DTSTAMP:20260424T093611
CREATED:20210505T153229Z
LAST-MODIFIED:20210505T153230Z
UID:7984-1620691200-1620777599@jcrjudo.nl
SUMMARY:Trainingstijden locatie Katendrecht
DESCRIPTION:16.00 uur tot 16.45 uur vanaf 4 jaar  16.45 uur tot 17.45 uur vanaf 6 jaar17.45 uur tot 18.45 uur vanaf 9 jaar
URL:https://jcrjudo.nl/agenda/trainingstijden-locatie-katendrecht-21/
LOCATION:Katendrecht\, Walhallalaan 116; Gymzaal de Globetrotter\, Rotterdam\, Zuid Holland\, 3072 EX\, Nederland
END:VEVENT
BEGIN:VEVENT
DTSTART;TZID=Europe/Amsterdam:20210511T000000
DTEND;TZID=Europe/Amsterdam:20210511T235959
DTSTAMP:20260424T093611
CREATED:20210505T153322Z
LAST-MODIFIED:20210505T153322Z
UID:7986-1620691200-1620777599@jcrjudo.nl
SUMMARY:Trainingstijden locatie Blijdorp
DESCRIPTION:16.00 uur tot 16.45 uur vanaf 4 jaar 16.45 uur tot 17.45 uur vanaf 9 jaar 17.45 uur tot 19.00 uur wedstrijdgroep alle leeftijden
URL:https://jcrjudo.nl/agenda/trainingstijden-locatie-blijdorp-24/
LOCATION:Blijdorp\, Kolkmanstraat 8; Gymzaal ‘De Margriet’\, Rotterdam\, Zuid Holland\, 3039 PH\, Nederland
END:VEVENT
BEGIN:VEVENT
DTSTART;TZID=Europe/Amsterdam:20210512T000000
DTEND;TZID=Europe/Amsterdam:20210512T235959
DTSTAMP:20260424T093611
CREATED:20210505T153412Z
LAST-MODIFIED:20210505T153413Z
UID:7988-1620777600-1620863999@jcrjudo.nl
SUMMARY:Trainingstijden locatie Auris Taalfontijn IJsselmonde
DESCRIPTION:16.15 uur tot 17.00 uur vanaf 4 jaar  17.00 uur tot 18.00 uur vanaf 9 jaar 18.00 uur tot 19.00 uur vanaf 12 jaar en ouder
URL:https://jcrjudo.nl/agenda/trainingstijden-locatie-auris-taalfontijn-ijsselmonde-34/
LOCATION:IJsselmonde\, Kraaijeveldstraat 2; Sportzaal ‘Auris Taalfonteinschool’\, (ingang: Noorder Kerkedijk 8)\, Rotterdam\, Zuid Holland\, 3078 PE\, Nederland
END:VEVENT
BEGIN:VEVENT
DTSTART;TZID=Europe/Amsterdam:20210512T000000
DTEND;TZID=Europe/Amsterdam:20210512T235959
DTSTAMP:20260424T093611
CREATED:20210505T153458Z
LAST-MODIFIED:20210505T153459Z
UID:7990-1620777600-1620863999@jcrjudo.nl
SUMMARY:Trainingstijden locatie Delfshaven pier 80
DESCRIPTION:13.00 uur tot 13.45 uur vanaf 4 jaar 13.45 uur tot 14.45 uur vanaf 9 jaar en ouder 
URL:https://jcrjudo.nl/agenda/trainingstijden-locatie-delfshaven-pier-80-13/
LOCATION:Delfshaven\, Rösener Manszstraat 80; Wijkcentrum Pier 80\, Rotterdam\, Zuid Holland\, 3026 TV\, Nederland
END:VEVENT
BEGIN:VEVENT
DTSTART;TZID=Europe/Amsterdam:20210512T000000
DTEND;TZID=Europe/Amsterdam:20210512T235959
DTSTAMP:20260424T093611
CREATED:20210505T153538Z
LAST-MODIFIED:20210505T153539Z
UID:7992-1620777600-1620863999@jcrjudo.nl
SUMMARY:Trainingstijden locatie Waterpoort Barendrecht
DESCRIPTION:14.45 uur tot 15.30 uur vanaf 4 jaar  15.30 uur tot 16.30 uur vanaf 7 jaar16.30 uur tot 17.30 uur vanaf 9 jaar
URL:https://jcrjudo.nl/agenda/trainingstijden-locatie-waterpoort-barendrecht-39/
LOCATION:Barendrecht waterpoort\, Middeldijkerplein 9\, Barendrecht\, Nederland
END:VEVENT
BEGIN:VEVENT
DTSTART;TZID=Europe/Amsterdam:20210513T000000
DTEND;TZID=Europe/Amsterdam:20210513T235959
DTSTAMP:20260424T093611
CREATED:20210506T115446Z
LAST-MODIFIED:20210506T121806Z
UID:7999-1620864000-1620950399@jcrjudo.nl
SUMMARY:Geen trainingen ivm hemelvaartsdag
DESCRIPTION:
URL:https://jcrjudo.nl/agenda/trainingstijden-locatie-nesselande-beachclub-20/
END:VEVENT
BEGIN:VEVENT
DTSTART;TZID=Europe/Amsterdam:20210514T000000
DTEND;TZID=Europe/Amsterdam:20210514T235959
DTSTAMP:20260424T093611
CREATED:20210506T115643Z
LAST-MODIFIED:20210506T115644Z
UID:8003-1620950400-1621036799@jcrjudo.nl
SUMMARY:Trainingstijden locatie Mr schatsschool Hilgersberg
DESCRIPTION:16.00 uur tot 16.45 uur vanaf 4 jaar  16.45 uur tot 17.45 uur vanaf 7 jaar17.45 uur tot 18.45 uur vanaf 9 jaar
URL:https://jcrjudo.nl/agenda/trainingstijden-locatie-mr-schatsschool-hilgersberg-21/
LOCATION:Hillegersberg\, Van Enckevoirtlaan 129; Gymzaal instituut Mr Schats Noord\, Rotterdam\, Zuid Holland\, 3052 KR\, Nederland
END:VEVENT
BEGIN:VEVENT
DTSTART;TZID=Europe/Amsterdam:20210514T000000
DTEND;TZID=Europe/Amsterdam:20210514T235959
DTSTAMP:20260424T093611
CREATED:20210506T115737Z
LAST-MODIFIED:20210506T115737Z
UID:8005-1620950400-1621036799@jcrjudo.nl
SUMMARY:let op vakantie rooster locatie Waterpoort Barendrecht
DESCRIPTION:16.00 uur tot 16.45 uur vanaf 4 jaar  16.45 uur tot 17.45 uur vanaf 7 jaar 17.45 uur tot 18.45 uur vanaf 12 en ouder
URL:https://jcrjudo.nl/agenda/let-op-vakantie-rooster-locatie-waterpoort-barendrecht/
LOCATION:Barendrecht waterpoort\, Middeldijkerplein 9\, Barendrecht\, Nederland
END:VEVENT
BEGIN:VEVENT
DTSTART;TZID=Europe/Amsterdam:20210514T000000
DTEND;TZID=Europe/Amsterdam:20210514T235959
DTSTAMP:20260424T093611
CREATED:20210506T115924Z
LAST-MODIFIED:20210506T115925Z
UID:8009-1620950400-1621036799@jcrjudo.nl
SUMMARY:Trainingstijden locatie beverwaard
DESCRIPTION:15.30 uur tot 16.15 uur vanaf 4 jaar 16.15 uur tot 17.15 uur vanaf 9 jaar en ouder
URL:https://jcrjudo.nl/agenda/trainingstijden-locatie-beverwaard-12/
LOCATION:Beverwaard\, Gronsvelderf 105; Gymzaal ‘Regenboog’\, Rotterdam\, Zuid Holland\, 3077 SB\, Nederland
END:VEVENT
BEGIN:VEVENT
DTSTART;TZID=Europe/Amsterdam:20210515T000000
DTEND;TZID=Europe/Amsterdam:20210515T235959
DTSTAMP:20260424T093611
CREATED:20210506T115830Z
LAST-MODIFIED:20210506T115831Z
UID:8007-1621036800-1621123199@jcrjudo.nl
SUMMARY:Trainingstijden locatie Kruidentuin
DESCRIPTION:14.00 uur tot 14.45 uur vanaf 4 jaar 14.45 uur tot 15.45 uur vanaf 7 jaar en ouder
URL:https://jcrjudo.nl/agenda/trainingstijden-locatie-kruidentuin-13/
LOCATION:kruidentuin\, kruidentuin 2\, barendrecht\, 2991RK\, Nederland
END:VEVENT
BEGIN:VEVENT
DTSTART;TZID=Europe/Amsterdam:20210516T080000
DTEND;TZID=Europe/Amsterdam:20210516T170000
DTSTAMP:20260424T093611
CREATED:20210515T202528Z
LAST-MODIFIED:20210515T202529Z
UID:8057-1621152000-1621184400@jcrjudo.nl
SUMMARY:Trainingstijden locatie Auris Taalfontijn IJsselmonde
DESCRIPTION:10.30 uur tot 11.30 uur vanaf 9 jaar buiten conditie training
URL:https://jcrjudo.nl/agenda/trainingstijden-locatie-auris-taalfontijn-ijsselmonde-36/
LOCATION:IJsselmonde\, Kraaijeveldstraat 2; Sportzaal ‘Auris Taalfonteinschool’\, (ingang: Noorder Kerkedijk 8)\, Rotterdam\, Zuid Holland\, 3078 PE\, Nederland
END:VEVENT
BEGIN:VEVENT
DTSTART;TZID=Europe/Amsterdam:20210517T000000
DTEND;TZID=Europe/Amsterdam:20210517T235959
DTSTAMP:20260424T093611
CREATED:20210510T200810Z
LAST-MODIFIED:20210510T200811Z
UID:8019-1621209600-1621295999@jcrjudo.nl
SUMMARY:Buiten trainingstijden locatie Blijdorp
DESCRIPTION:16.00 uur tot 16.45 uur vanaf 4 jaar 16.45 uur tot 17.35 uur vanaf 7 jaar 17.35 uur tot 18.25 uur vanaf 9 jaar18.25 uur tot 19.25 uur vanaf 12 jaar
URL:https://jcrjudo.nl/agenda/buiten-trainingstijden-locatie-blijdorp-6/
LOCATION:Blijdorp\, Kolkmanstraat 8; Gymzaal ‘De Margriet’\, Rotterdam\, Zuid Holland\, 3039 PH\, Nederland
END:VEVENT
BEGIN:VEVENT
DTSTART;TZID=Europe/Amsterdam:20210517T000000
DTEND;TZID=Europe/Amsterdam:20210517T235959
DTSTAMP:20260424T093611
CREATED:20210510T200906Z
LAST-MODIFIED:20210510T200907Z
UID:8021-1621209600-1621295999@jcrjudo.nl
SUMMARY:Buiten trainingstijden locatie Nieuwe Westen
DESCRIPTION:15.45 uur tot 16.30 uur vanaf 4 jaar 16.30 uur tot 17.30 uur vanaf 7 jaar 17.30 uur tot 18.30 uur vanaf 9 jaar
URL:https://jcrjudo.nl/agenda/buiten-trainingstijden-locatie-nieuwe-westen-5/
LOCATION:Nieuwe Westen\, Nozemanstraat 77; Gymzaal Vierambachtschool\, Rotterdam\, Zuid Holland\, 3023 TM\, Nederland
END:VEVENT
BEGIN:VEVENT
DTSTART;TZID=Europe/Amsterdam:20210518T000000
DTEND;TZID=Europe/Amsterdam:20210518T235959
DTSTAMP:20260424T093611
CREATED:20210510T201009Z
LAST-MODIFIED:20210510T201010Z
UID:8023-1621296000-1621382399@jcrjudo.nl
SUMMARY:Trainingstijden locatie Katendrecht
DESCRIPTION:16.00 uur tot 16.45 uur vanaf 4 jaar  16.45 uur tot 17.45 uur vanaf 6 jaar17.45 uur tot 18.45 uur vanaf 9 jaar
URL:https://jcrjudo.nl/agenda/trainingstijden-locatie-katendrecht-22/
LOCATION:Katendrecht\, Walhallalaan 116; Gymzaal de Globetrotter\, Rotterdam\, Zuid Holland\, 3072 EX\, Nederland
END:VEVENT
BEGIN:VEVENT
DTSTART;TZID=Europe/Amsterdam:20210518T000000
DTEND;TZID=Europe/Amsterdam:20210518T235959
DTSTAMP:20260424T093611
CREATED:20210510T201053Z
LAST-MODIFIED:20210510T201054Z
UID:8025-1621296000-1621382399@jcrjudo.nl
SUMMARY:Trainingstijden locatie Blijdorp
DESCRIPTION:16.00 uur tot 16.45 uur vanaf 4 jaar 16.45 uur tot 17.45 uur vanaf 9 jaar 17.45 uur tot 19.00 uur wedstrijdgroep alle leeftijden
URL:https://jcrjudo.nl/agenda/trainingstijden-locatie-blijdorp-25/
LOCATION:Blijdorp\, Kolkmanstraat 8; Gymzaal ‘De Margriet’\, Rotterdam\, Zuid Holland\, 3039 PH\, Nederland
END:VEVENT
BEGIN:VEVENT
DTSTART;TZID=Europe/Amsterdam:20210530T000000
DTEND;TZID=Europe/Amsterdam:20210530T235959
DTSTAMP:20260424T093611
CREATED:20210528T092553Z
LAST-MODIFIED:20210528T092623Z
UID:8221-1622332800-1622419199@jcrjudo.nl
SUMMARY:Wedstrijd training Auris Taalfontijn IJsselmonde
DESCRIPTION:10.30 uur tot 12.00 uur wedstrijd training
URL:https://jcrjudo.nl/agenda/trainingstijden-locatie-auris-taalfontijn-ijsselmonde-35/
LOCATION:IJsselmonde\, Kraaijeveldstraat 2; Sportzaal ‘Auris Taalfonteinschool’\, (ingang: Noorder Kerkedijk 8)\, Rotterdam\, Zuid Holland\, 3078 PE\, Nederland
END:VEVENT
BEGIN:VEVENT
DTSTART;TZID=Europe/Amsterdam:20210606T000000
DTEND;TZID=Europe/Amsterdam:20210606T235959
DTSTAMP:20260424T093611
CREATED:20210528T092735Z
LAST-MODIFIED:20210528T092736Z
UID:8224-1622937600-1623023999@jcrjudo.nl
SUMMARY:Wedstrijd training Auris Taalfontijn IJsselmonde
DESCRIPTION:10.30 uur tot 12.00 uur wedstrijd training
URL:https://jcrjudo.nl/agenda/wedstrijd-training-auris-taalfontijn-ijsselmonde/
LOCATION:IJsselmonde\, Kraaijeveldstraat 2; Sportzaal ‘Auris Taalfonteinschool’\, (ingang: Noorder Kerkedijk 8)\, Rotterdam\, Zuid Holland\, 3078 PE\, Nederland
END:VEVENT
BEGIN:VEVENT
DTSTART;TZID=Europe/Amsterdam:20210613T000000
DTEND;TZID=Europe/Amsterdam:20210613T235959
DTSTAMP:20260424T093611
CREATED:20210606T182719Z
LAST-MODIFIED:20210606T182720Z
UID:8269-1623542400-1623628799@jcrjudo.nl
SUMMARY:Wedstrijd training Auris Taalfontijn IJsselmonde
DESCRIPTION:10.30 uur tot 12.00 uur wedstrijd training 10.15 aanwezig voor de mat
URL:https://jcrjudo.nl/agenda/wedstrijd-training-auris-taalfontijn-ijsselmonde-3/
LOCATION:IJsselmonde\, Kraaijeveldstraat 2; Sportzaal ‘Auris Taalfonteinschool’\, (ingang: Noorder Kerkedijk 8)\, Rotterdam\, Zuid Holland\, 3078 PE\, Nederland
END:VEVENT
BEGIN:VEVENT
DTSTART;TZID=Europe/Amsterdam:20210620T000000
DTEND;TZID=Europe/Amsterdam:20210620T235959
DTSTAMP:20260424T093611
CREATED:20210615T074645Z
LAST-MODIFIED:20210615T074646Z
UID:8282-1624147200-1624233599@jcrjudo.nl
SUMMARY:Wedstrijd training Auris Taalfontijn IJsselmonde
DESCRIPTION:10.30 uur tot 12.00 uur wedstrijd training
URL:https://jcrjudo.nl/agenda/wedstrijd-training-auris-taalfontijn-ijsselmonde-2/
LOCATION:IJsselmonde\, Kraaijeveldstraat 2; Sportzaal ‘Auris Taalfonteinschool’\, (ingang: Noorder Kerkedijk 8)\, Rotterdam\, Zuid Holland\, 3078 PE\, Nederland
END:VEVENT
BEGIN:VEVENT
DTSTART;TZID=Europe/Amsterdam:20210627T000000
DTEND;TZID=Europe/Amsterdam:20210627T235959
DTSTAMP:20260424T093611
CREATED:20210625T085349Z
LAST-MODIFIED:20210625T085350Z
UID:8330-1624752000-1624838399@jcrjudo.nl
SUMMARY:Wedstrijd training Auris Taalfontijn IJsselmonde
DESCRIPTION:10.30 uur tot 12.00 uur wedstrijd training 10.15 aanwezig voor de mat
URL:https://jcrjudo.nl/agenda/wedstrijd-training-auris-taalfontijn-ijsselmonde-4/
LOCATION:IJsselmonde\, Kraaijeveldstraat 2; Sportzaal ‘Auris Taalfonteinschool’\, (ingang: Noorder Kerkedijk 8)\, Rotterdam\, Zuid Holland\, 3078 PE\, Nederland
END:VEVENT
BEGIN:VEVENT
DTSTART;TZID=Europe/Amsterdam:20210704T000000
DTEND;TZID=Europe/Amsterdam:20210704T235959
DTSTAMP:20260424T093611
CREATED:20210703T122318Z
LAST-MODIFIED:20210703T122318Z
UID:8350-1625356800-1625443199@jcrjudo.nl
SUMMARY:Wedstrijd training Auris Taalfontijn IJsselmonde
DESCRIPTION:10.30 uur tot 12.00 uur wedstrijd training
URL:https://jcrjudo.nl/agenda/wedstrijd-training-auris-taalfontijn-ijsselmonde-5/
LOCATION:IJsselmonde\, Kraaijeveldstraat 2; Sportzaal ‘Auris Taalfonteinschool’\, (ingang: Noorder Kerkedijk 8)\, Rotterdam\, Zuid Holland\, 3078 PE\, Nederland
END:VEVENT
BEGIN:VEVENT
DTSTART;TZID=Europe/Amsterdam:20210710T000000
DTEND;TZID=Europe/Amsterdam:20210710T235959
DTSTAMP:20260424T093611
CREATED:20210705T073835Z
LAST-MODIFIED:20210705T073836Z
UID:8359-1625875200-1625961599@jcrjudo.nl
SUMMARY:geen wedstrijdtraining
DESCRIPTION:
URL:https://jcrjudo.nl/agenda/geen-wedstrijdtraining/
LOCATION:aksent\, Bachlaan 12\, barendrecht\, 2292 GK\, Nederland
END:VEVENT
BEGIN:VEVENT
DTSTART;TZID=Europe/Amsterdam:20210710T093000
DTEND;TZID=Europe/Amsterdam:20210710T180000
DTSTAMP:20260424T093611
CREATED:20210622T145145Z
LAST-MODIFIED:20210707T060332Z
UID:8316-1625909400-1625940000@jcrjudo.nl
SUMMARY:Zomertoernooi 2021
DESCRIPTION:Sporthal Waterpoortmiddelijkerplein 9 Barendrecht \n\n\n\nZomertoernooi voor de judoka’s geboren in 2014 t/m 20102014 geboren toernooi start om 9.30 uur.2013 en 2012 geboren toernooi start om 11.30 uur 2011 en 2010 geboren toernooi start om 13.30 uur Kom niet eerder als 10 minuten voor aanvangstijd binnen in de zaal( we willen stipt op de aanvangstijd beginnen.er kan ivm de corona maatregelen maar 1 ouder mee als begeleider.
URL:https://jcrjudo.nl/agenda/zomertoernooi-2021/
LOCATION:Barendrecht waterpoort\, Middeldijkerplein 9\, Barendrecht\, Nederland
END:VEVENT
BEGIN:VEVENT
DTSTART;TZID=Europe/Amsterdam:20210711T080000
DTEND;TZID=Europe/Amsterdam:20210711T170000
DTSTAMP:20260424T093611
CREATED:20210705T074134Z
LAST-MODIFIED:20210705T074135Z
UID:8362-1625990400-1626022800@jcrjudo.nl
SUMMARY:Wedstrijd training Auris Taalfontijn IJsselmonde
DESCRIPTION:LAATSTE WEDSTRIJDTRAINING VAN DIT SEIZOEN 10.30 uur tot 12.00 uur wedstrijd training
URL:https://jcrjudo.nl/agenda/wedstrijd-training-auris-taalfontijn-ijsselmonde-6/
LOCATION:IJsselmonde\, Kraaijeveldstraat 2; Sportzaal ‘Auris Taalfonteinschool’\, (ingang: Noorder Kerkedijk 8)\, Rotterdam\, Zuid Holland\, 3078 PE\, Nederland
END:VEVENT
BEGIN:VEVENT
DTSTART;TZID=Europe/Amsterdam:20210716T000000
DTEND;TZID=Europe/Amsterdam:20210716T235959
DTSTAMP:20260424T093611
CREATED:20210714T154555Z
LAST-MODIFIED:20210714T154556Z
UID:8463-1626393600-1626479999@jcrjudo.nl
SUMMARY:Geen wedstrijdtrainingen meer tot na de vakantie
DESCRIPTION:
URL:https://jcrjudo.nl/agenda/geen-wedstrijdtrainingen-meer-tot-na-de-vakantie-3/
LOCATION:IJsselmonde\, Kraaijeveldstraat 2; Sportzaal ‘Auris Taalfonteinschool’\, (ingang: Noorder Kerkedijk 8)\, Rotterdam\, Zuid Holland\, 3078 PE\, Nederland
END:VEVENT
BEGIN:VEVENT
DTSTART;TZID=Europe/Amsterdam:20210717T080000
DTEND;TZID=Europe/Amsterdam:20210717T170000
DTSTAMP:20260424T093611
CREATED:20210705T095721Z
LAST-MODIFIED:20210705T095721Z
UID:8365-1626508800-1626541200@jcrjudo.nl
SUMMARY:Geen wedstrijdtrainingen meer tot na de vakantie
DESCRIPTION:
URL:https://jcrjudo.nl/agenda/geen-wedstrijdtrainingen-meer-tot-na-de-vakantie/
LOCATION:kruidentuin\, kruidentuin 2\, barendrecht\, 2991RK\, Nederland
END:VEVENT
BEGIN:VEVENT
DTSTART;TZID=Europe/Amsterdam:20210718T080000
DTEND;TZID=Europe/Amsterdam:20210718T170000
DTSTAMP:20260424T093611
CREATED:20210705T095812Z
LAST-MODIFIED:20210705T095813Z
UID:8367-1626595200-1626627600@jcrjudo.nl
SUMMARY:Geen wedstrijdtrainingen meer tot na de vakantie
DESCRIPTION:
URL:https://jcrjudo.nl/agenda/geen-wedstrijdtrainingen-meer-tot-na-de-vakantie-2/
LOCATION:IJsselmonde\, Kraaijeveldstraat 2; Sportzaal ‘Auris Taalfonteinschool’\, (ingang: Noorder Kerkedijk 8)\, Rotterdam\, Zuid Holland\, 3078 PE\, Nederland
END:VEVENT
BEGIN:VEVENT
DTSTART;TZID=Europe/Amsterdam:20210719T093000
DTEND;TZID=Europe/Amsterdam:20210719T113000
DTSTAMP:20260424T093611
CREATED:20210528T064217Z
LAST-MODIFIED:20210528T064945Z
UID:8176-1626687000-1626694200@jcrjudo.nl
SUMMARY:Judo instuif gymzaal de Margriet
DESCRIPTION:judo instuif in gymzaal de Margriet kolkmanstraat 8 in Rotterdam Blijdorp
URL:https://jcrjudo.nl/agenda/judo-instuif-in-blijdorp/
END:VEVENT
BEGIN:VEVENT
DTSTART;TZID=Europe/Amsterdam:20210721T093000
DTEND;TZID=Europe/Amsterdam:20210721T113000
DTSTAMP:20260424T093611
CREATED:20210528T064508Z
LAST-MODIFIED:20210528T064508Z
UID:8178-1626859800-1626867000@jcrjudo.nl
SUMMARY:Judo instuif Waterpoort
DESCRIPTION:Judo instuif Waterpoort middeldijker plein Barendrecht
URL:https://jcrjudo.nl/agenda/judo-instuif-waterpoort/
END:VEVENT
END:VCALENDAR