BEGIN:VCALENDAR
VERSION:2.0
PRODID:-//JCR Judo - ECPv6.15.17.1//NONSGML v1.0//EN
CALSCALE:GREGORIAN
METHOD:PUBLISH
X-WR-CALNAME:JCR Judo
X-ORIGINAL-URL:https://jcrjudo.nl
X-WR-CALDESC:Evenementen voor JCR Judo
REFRESH-INTERVAL;VALUE=DURATION:PT1H
X-Robots-Tag:noindex
X-PUBLISHED-TTL:PT1H
BEGIN:VTIMEZONE
TZID:Europe/Amsterdam
BEGIN:DAYLIGHT
TZOFFSETFROM:+0100
TZOFFSETTO:+0200
TZNAME:CEST
DTSTART:20190331T010000
END:DAYLIGHT
BEGIN:STANDARD
TZOFFSETFROM:+0200
TZOFFSETTO:+0100
TZNAME:CET
DTSTART:20191027T010000
END:STANDARD
BEGIN:DAYLIGHT
TZOFFSETFROM:+0100
TZOFFSETTO:+0200
TZNAME:CEST
DTSTART:20200329T010000
END:DAYLIGHT
BEGIN:STANDARD
TZOFFSETFROM:+0200
TZOFFSETTO:+0100
TZNAME:CET
DTSTART:20201025T010000
END:STANDARD
BEGIN:DAYLIGHT
TZOFFSETFROM:+0100
TZOFFSETTO:+0200
TZNAME:CEST
DTSTART:20210328T010000
END:DAYLIGHT
BEGIN:STANDARD
TZOFFSETFROM:+0200
TZOFFSETTO:+0100
TZNAME:CET
DTSTART:20211031T010000
END:STANDARD
END:VTIMEZONE
BEGIN:VEVENT
DTSTART;TZID=Europe/Amsterdam:20200824T160000
DTEND;TZID=Europe/Amsterdam:20200824T160000
DTSTAMP:20260423T002628
CREATED:20200724T153033Z
LAST-MODIFIED:20200724T153034Z
UID:6180-1598284800-1598284800@jcrjudo.nl
SUMMARY:Vakantie-rooster Blijdorp
DESCRIPTION:Gymzaal  ‘De Margriet’  Kolkmanstraat 8 Rotterdam 16:00 uur t/m 17:00 tot 8 jaar17:00 uur t/m 18:00 vanaf 9 jaar18:00 uur t/m 19:00 vanaf 12 jaar
URL:https://jcrjudo.nl/agenda/vakantie-rooster-blijdorp-5/
END:VEVENT
BEGIN:VEVENT
DTSTART;TZID=Europe/Amsterdam:20200822T110000
DTEND;TZID=Europe/Amsterdam:20200822T120000
DTSTAMP:20260423T002628
CREATED:20200728T164109Z
LAST-MODIFIED:20200805T091858Z
UID:6216-1598094000-1598097600@jcrjudo.nl
SUMMARY:instuif Wedstrijd-Judo  voor iedere wedstrijd-judo vanaf 7 jaar t/m 15 jaar
DESCRIPTION:Sporthal waterpoort Middeldijkerplein 9 Barendrecht
URL:https://jcrjudo.nl/agenda/instuif-wedstrijd-judo-voor-iedere-wedstrijd-judo-t-m-15-jaar/
END:VEVENT
BEGIN:VEVENT
DTSTART;TZID=Europe/Amsterdam:20200822T100000
DTEND;TZID=Europe/Amsterdam:20200822T190000
DTSTAMP:20260423T002628
CREATED:20200724T152853Z
LAST-MODIFIED:20200724T152854Z
UID:6178-1598090400-1598122800@jcrjudo.nl
SUMMARY:Vakantie-rooster Carnisselande
DESCRIPTION:Sporthal ‘Waterpoort’  Middeldijkerplein 9 Barendrecht10:00 uur t/m 11.00 uur t/m 12 jaar
URL:https://jcrjudo.nl/agenda/vakantie-rooster-carnisselande-9/
END:VEVENT
BEGIN:VEVENT
DTSTART;TZID=Europe/Amsterdam:20200821T160000
DTEND;TZID=Europe/Amsterdam:20200821T160000
DTSTAMP:20260423T002628
CREATED:20200724T152542Z
LAST-MODIFIED:20200724T152543Z
UID:6176-1598025600-1598025600@jcrjudo.nl
SUMMARY:Vakantie-rooster Hillegersberg
DESCRIPTION:Gymzaal Mr Schats Noord Enckevoirtlaan 129 Rotterdam16:00 uur t/m 17:00 uur tot 8 jaar17:00 uur t/m 18:00 uur vanaf 9 jaar18:00 uur t/m 19:00 uur vanaf 12 jaar
URL:https://jcrjudo.nl/agenda/vakantie-rooster-hillegersberg-4/
END:VEVENT
BEGIN:VEVENT
DTSTART;TZID=Europe/Amsterdam:20200820T100000
DTEND;TZID=Europe/Amsterdam:20200820T100000
DTSTAMP:20260423T002628
CREATED:20200724T152356Z
LAST-MODIFIED:20200724T152357Z
UID:6174-1597917600-1597917600@jcrjudo.nl
SUMMARY:Vakantie-rooster Nesselande
DESCRIPTION:Beach club Nesselande einde Kosboulevard Rotterdam10:00 uur t/m 11.00 uur sport en spel Buitentraining voor iedereen
URL:https://jcrjudo.nl/agenda/vakantie-rooster-nesselande-4/
END:VEVENT
BEGIN:VEVENT
DTSTART;TZID=Europe/Amsterdam:20200819T160000
DTEND;TZID=Europe/Amsterdam:20200819T160000
DTSTAMP:20260423T002628
CREATED:20200724T152122Z
LAST-MODIFIED:20200724T152123Z
UID:6172-1597852800-1597852800@jcrjudo.nl
SUMMARY:Vakantie-rooster Carnisselande
DESCRIPTION:Sporthal ‘Waterpoort’  Middeldijkerplein 9 Barendrecht16:00 uur t/m 17:00 uur tot 8 jaar17:00 uur t/m 18:00 uur vanaf 9 jaar18:00 uur t/m 19:00 vanaf 12 jaar
URL:https://jcrjudo.nl/agenda/vakantie-rooster-carnisselande-8/
END:VEVENT
BEGIN:VEVENT
DTSTART;TZID=Europe/Amsterdam:20200818T163000
DTEND;TZID=Europe/Amsterdam:20200818T163000
DTSTAMP:20260423T002628
CREATED:20200724T151938Z
LAST-MODIFIED:20200724T151939Z
UID:6170-1597768200-1597768200@jcrjudo.nl
SUMMARY:Vakantie-rooster Katendrecht
DESCRIPTION:Gymzaal de Globetrotter  Walhallalaan 116 Rotterdam16:30 -17:30 t/m 12 jaar.
URL:https://jcrjudo.nl/agenda/vakantie-rooster-katendrecht-4/
END:VEVENT
BEGIN:VEVENT
DTSTART;TZID=Europe/Amsterdam:20200817T160000
DTEND;TZID=Europe/Amsterdam:20200817T160000
DTSTAMP:20260423T002628
CREATED:20200724T151728Z
LAST-MODIFIED:20200724T151730Z
UID:6168-1597680000-1597680000@jcrjudo.nl
SUMMARY:Vakantie-rooster Blijdorp
DESCRIPTION:Gymzaal  ‘De Margriet’  Kolkmanstraat 8 Rotterdam16:00 uur t/m 17:00 tot 8 jaar17:00 uur t/m 18:00 vanaf 9 jaar18:00 uur t/m 19:00 vanaf 12 jaar
URL:https://jcrjudo.nl/agenda/vakantie-rooster-blijdorp-4/
END:VEVENT
BEGIN:VEVENT
DTSTART;TZID=Europe/Amsterdam:20200815T100000
DTEND;TZID=Europe/Amsterdam:20200815T100000
DTSTAMP:20260423T002628
CREATED:20200724T151553Z
LAST-MODIFIED:20200724T151554Z
UID:6166-1597485600-1597485600@jcrjudo.nl
SUMMARY:Vakantie-rooster Carnisselande
DESCRIPTION:Sporthal ‘Waterpoort’  Middeldijkerplein 9 Barendrecht10:00 uur t/m 11.00 uur t/m 12 jaar
URL:https://jcrjudo.nl/agenda/vakantie-rooster-carnisselande-7/
END:VEVENT
BEGIN:VEVENT
DTSTART;TZID=Europe/Amsterdam:20200814T160000
DTEND;TZID=Europe/Amsterdam:20200814T160000
DTSTAMP:20260423T002628
CREATED:20200724T151430Z
LAST-MODIFIED:20200724T151431Z
UID:6164-1597420800-1597420800@jcrjudo.nl
SUMMARY:Vakantie-rooster Hillegersberg
DESCRIPTION:Gymzaal Mr Schats Noord  Enckevoirtlaan 129 Rotterdam 16:00 uur t/m 17:00 uur tot 8 jaar17:00 uur t/m 18:00 uur vanaf 9 jaar18:00 uur t/m 19:00 uur vanaf 12 jaar
URL:https://jcrjudo.nl/agenda/vakantie-rooster-hillegersberg-3/
END:VEVENT
BEGIN:VEVENT
DTSTART;TZID=Europe/Amsterdam:20200813T100000
DTEND;TZID=Europe/Amsterdam:20200813T100000
DTSTAMP:20260423T002628
CREATED:20200724T151106Z
LAST-MODIFIED:20200724T151106Z
UID:6162-1597312800-1597312800@jcrjudo.nl
SUMMARY:Vakantie-rooster Nesselande
DESCRIPTION:Beach club Nesselande einde Kosboulevard Rotterdam10:00 uur t/m 11.00 uur sport en spel Buitentraining voor iedereen
URL:https://jcrjudo.nl/agenda/vakantie-rooster-nesselande-3/
END:VEVENT
BEGIN:VEVENT
DTSTART;TZID=Europe/Amsterdam:20200812T160000
DTEND;TZID=Europe/Amsterdam:20200812T160000
DTSTAMP:20260423T002628
CREATED:20200724T150949Z
LAST-MODIFIED:20200724T150950Z
UID:6160-1597248000-1597248000@jcrjudo.nl
SUMMARY:Vakantie-rooster Carnisselande
DESCRIPTION:Sporthal ‘Waterpoort’  Middeldijkerplein 9 Barendrecht16:00 uur t/m 17:00 uur tot 8 jaar17:00 uur t/m 18:00 uur vanaf 9 jaar18:00 uur t/m 19:00 vanaf 12 jaar
URL:https://jcrjudo.nl/agenda/vakantie-rooster-carnisselande-6/
END:VEVENT
BEGIN:VEVENT
DTSTART;TZID=Europe/Amsterdam:20200811T163000
DTEND;TZID=Europe/Amsterdam:20200811T163000
DTSTAMP:20260423T002628
CREATED:20200724T150820Z
LAST-MODIFIED:20200724T150821Z
UID:6158-1597163400-1597163400@jcrjudo.nl
SUMMARY:Vakantie-rooster Katendrecht
DESCRIPTION:Gymzaal de Globetrotter  Walhallalaan 116 Rotterdam16:30 -17:30 t/m 12 jaar.
URL:https://jcrjudo.nl/agenda/vakantie-rooster-katendrecht-3/
END:VEVENT
BEGIN:VEVENT
DTSTART;TZID=Europe/Amsterdam:20200810T160000
DTEND;TZID=Europe/Amsterdam:20200810T160000
DTSTAMP:20260423T002628
CREATED:20200724T150540Z
LAST-MODIFIED:20200724T150541Z
UID:6156-1597075200-1597075200@jcrjudo.nl
SUMMARY:Vakantie-rooster Blijdorp
DESCRIPTION:Gymzaal  ‘De Margriet’  Kolkmanstraat 8 Rotterdam16:00 uur t/m 17:00 tot 8 jaar17:00 uur t/m 18:00 vanaf 9 jaar18:00 uur t/m 19:00 vanaf 12 jaar
URL:https://jcrjudo.nl/agenda/vakantie-rooster-blijdorp-3/
END:VEVENT
BEGIN:VEVENT
DTSTART;TZID=Europe/Amsterdam:20200808T100000
DTEND;TZID=Europe/Amsterdam:20200808T100000
DTSTAMP:20260423T002628
CREATED:20200724T150354Z
LAST-MODIFIED:20200724T150355Z
UID:6154-1596880800-1596880800@jcrjudo.nl
SUMMARY:Vakantie-rooster Carnisselande
DESCRIPTION:Sporthal ‘Waterpoort’  Middeldijkerplein 9 Barendrecht10:00 uur t/m 11.00 uur t/m 12 jaar
URL:https://jcrjudo.nl/agenda/vakantie-rooster-carnisselande-5/
END:VEVENT
BEGIN:VEVENT
DTSTART;TZID=Europe/Amsterdam:20200807T160000
DTEND;TZID=Europe/Amsterdam:20200807T160000
DTSTAMP:20260423T002628
CREATED:20200724T150230Z
LAST-MODIFIED:20200724T150231Z
UID:6152-1596816000-1596816000@jcrjudo.nl
SUMMARY:Vakantie-rooster Hillegersberg
DESCRIPTION:Gymzaal Mr Schats Noord  Enckevoirtlaan 129 Rotterdam  16:00 uur t/m 17:00 uur tot 8 jaar17:00 uur t/m 18:00 uur vanaf 9 jaar18:00 uur t/m 19:00 uur vanaf 12 jaar
URL:https://jcrjudo.nl/agenda/vakantie-rooster-hillegersberg-2/
END:VEVENT
BEGIN:VEVENT
DTSTART;TZID=Europe/Amsterdam:20200806T100000
DTEND;TZID=Europe/Amsterdam:20200806T100000
DTSTAMP:20260423T002628
CREATED:20200724T150044Z
LAST-MODIFIED:20200724T150045Z
UID:6150-1596708000-1596708000@jcrjudo.nl
SUMMARY:Vakantie-rooster Nesselande
DESCRIPTION:Beach club Nesselande einde Kosboulevard Rotterdam10:00 uur t/m 11.00 uur sport en spel Buitentraining voor iedereen
URL:https://jcrjudo.nl/agenda/vakantie-rooster-nesselande-2/
END:VEVENT
BEGIN:VEVENT
DTSTART;TZID=Europe/Amsterdam:20200805T160000
DTEND;TZID=Europe/Amsterdam:20200805T160000
DTSTAMP:20260423T002628
CREATED:20200724T145852Z
LAST-MODIFIED:20200724T145853Z
UID:6148-1596643200-1596643200@jcrjudo.nl
SUMMARY:Vakantie-rooster Carnisselande
DESCRIPTION:Sporthal ‘Waterpoort’  Middeldijkerplein 9 Barendrecht16:00 uur t/m 17:00 uur tot 8 jaar17:00 uur t/m 18:00 uur vanaf 9 jaar18:00 uur t/m 19:00 vanaf 12 jaar
URL:https://jcrjudo.nl/agenda/vakantie-rooster-carnisselande-4/
END:VEVENT
BEGIN:VEVENT
DTSTART;TZID=Europe/Amsterdam:20200804T163000
DTEND;TZID=Europe/Amsterdam:20200804T163000
DTSTAMP:20260423T002628
CREATED:20200724T145351Z
LAST-MODIFIED:20200724T145352Z
UID:6144-1596558600-1596558600@jcrjudo.nl
SUMMARY:Vakantie-rooster Katendrecht
DESCRIPTION:Gymzaal de Globetrotter  Walhallalaan 116 Rotterdam16:30 -17:30 t/m 12 jaar.
URL:https://jcrjudo.nl/agenda/vakantie-rooster-katendrecht-2/
END:VEVENT
BEGIN:VEVENT
DTSTART;TZID=Europe/Amsterdam:20200803T160000
DTEND;TZID=Europe/Amsterdam:20200803T160000
DTSTAMP:20260423T002628
CREATED:20200724T145231Z
LAST-MODIFIED:20200724T145232Z
UID:6142-1596470400-1596470400@jcrjudo.nl
SUMMARY:Vakantie-rooster Blijdorp
DESCRIPTION:Gymzaal  ‘De Margriet’ Kolkmanstraat 8 Rotterdam 16:00 uur t/m 17:00 tot 8 jaar17:00 uur t/m 18:00 vanaf 9 jaar18:00 uur t/m 19:00 vanaf 12 jaar
URL:https://jcrjudo.nl/agenda/vakantie-rooster-blijdorp-2/
END:VEVENT
BEGIN:VEVENT
DTSTART;TZID=Europe/Amsterdam:20200801T100000
DTEND;TZID=Europe/Amsterdam:20200801T100000
DTSTAMP:20260423T002628
CREATED:20200724T145035Z
LAST-MODIFIED:20200724T145036Z
UID:6140-1596276000-1596276000@jcrjudo.nl
SUMMARY:Vakantie-rooster Carnisselande
DESCRIPTION:Sporthal ‘Waterpoort’  Middeldijkerplein 9 Barendrecht10:00 uur t/m 11.00 uur t/m 12 jaar
URL:https://jcrjudo.nl/agenda/vakantie-rooster-carnisselande-3/
END:VEVENT
BEGIN:VEVENT
DTSTART;TZID=Europe/Amsterdam:20200731T160000
DTEND;TZID=Europe/Amsterdam:20200731T160000
DTSTAMP:20260423T002628
CREATED:20200724T144858Z
LAST-MODIFIED:20200724T144859Z
UID:6138-1596211200-1596211200@jcrjudo.nl
SUMMARY:Vakantie-rooster Hillegersberg
DESCRIPTION:Gymzaal Mr Schats Noord Enckevoirtlaan 129 Rotterdam16:00 uur t/m 17:00 uur tot 8 jaar17:00 uur t/m 18:00 uur vanaf 9 jaar18:00 uur t/m 19:00 uur vanaf 12
URL:https://jcrjudo.nl/agenda/vakantie-rooster-hillegersberg/
END:VEVENT
BEGIN:VEVENT
DTSTART;TZID=Europe/Amsterdam:20200730T100000
DTEND;TZID=Europe/Amsterdam:20200730T100000
DTSTAMP:20260423T002628
CREATED:20200724T144626Z
LAST-MODIFIED:20200724T144628Z
UID:6136-1596103200-1596103200@jcrjudo.nl
SUMMARY:Vakantie-rooster Nesselande
DESCRIPTION:Beach club Nesselande einde Kosboulevard Rotterdam10:00 uur t/m 11.00 uur sport en spel Buitentraining voor iedereen
URL:https://jcrjudo.nl/agenda/vakantie-rooster-nesselande/
END:VEVENT
BEGIN:VEVENT
DTSTART;TZID=Europe/Amsterdam:20200729T160000
DTEND;TZID=Europe/Amsterdam:20200729T160000
DTSTAMP:20260423T002628
CREATED:20200724T144342Z
LAST-MODIFIED:20200724T144343Z
UID:6134-1596038400-1596038400@jcrjudo.nl
SUMMARY:Vakantie-rooster Carnisselande
DESCRIPTION:Sporthal ‘Waterpoort’  Middeldijkerplein 9 Barendrecht16:00 uur t/m 17:00 uur tot 8 jaar17:00 uur t/m 18:00 uur vanaf 9 jaar18:00 uur t/m 19:00 vanaf 12 jaar
URL:https://jcrjudo.nl/agenda/vakantie-rooster-carnisselande-2/
END:VEVENT
BEGIN:VEVENT
DTSTART;TZID=Europe/Amsterdam:20200728T163000
DTEND;TZID=Europe/Amsterdam:20200728T163000
DTSTAMP:20260423T002628
CREATED:20200724T144032Z
LAST-MODIFIED:20200724T144033Z
UID:6132-1595953800-1595953800@jcrjudo.nl
SUMMARY:Vakantie-rooster Katendrecht
DESCRIPTION:Gymzaal de Globetrotter Walhallalaan 116 Rotterdam16:30 -17:30 t/m 12 jaar.
URL:https://jcrjudo.nl/agenda/vakantie-rooster-katendrecht/
END:VEVENT
BEGIN:VEVENT
DTSTART;TZID=Europe/Amsterdam:20200728T110000
DTEND;TZID=Europe/Amsterdam:20200728T120000
DTSTAMP:20260423T002628
CREATED:20200728T092829Z
LAST-MODIFIED:20200728T092830Z
UID:6208-1595934000-1595937600@jcrjudo.nl
SUMMARY:Wedstrijd judo Instuif t/m 15 jaar
DESCRIPTION:Openbaar ook voor niet leden \n\n\n\nSporthal WaterpoortMiddeldijkerplein 92993 DL Barendrecht
URL:https://jcrjudo.nl/agenda/wedstrijd-judo-instuif-t-m-15-jaar/
END:VEVENT
BEGIN:VEVENT
DTSTART;TZID=Europe/Amsterdam:20200727T160000
DTEND;TZID=Europe/Amsterdam:20200727T160000
DTSTAMP:20260423T002628
CREATED:20200724T143835Z
LAST-MODIFIED:20200724T143836Z
UID:6130-1595865600-1595865600@jcrjudo.nl
SUMMARY:Vakantie-rooster Blijdorp
DESCRIPTION:Gymzaal  ‘De Margriet’  Kolkmanstraat 8 Rotterdam16:00 uur t/m 17:00 tot 8 jaar17:00 uur t/m 18:00 vanaf 9 jaar18:00 uur t/m 19:00 vanaf 12 jaar
URL:https://jcrjudo.nl/agenda/vakantie-rooster-blijdorp/
END:VEVENT
BEGIN:VEVENT
DTSTART;TZID=Europe/Amsterdam:20200725T100000
DTEND;TZID=Europe/Amsterdam:20200725T100000
DTSTAMP:20260423T002628
CREATED:20200724T143342Z
LAST-MODIFIED:20200724T143342Z
UID:6127-1595671200-1595671200@jcrjudo.nl
SUMMARY:Vakantie-rooster Carnisselande
DESCRIPTION:Sporthal ‘Waterpoort’ Middeldijkerplein 9 Barendrecht10:00 uur t/m 11.00 uur t/m 12 jaar
URL:https://jcrjudo.nl/agenda/vakantie-rooster-carnisselande/
END:VEVENT
BEGIN:VEVENT
DTSTART;TZID=Europe/Amsterdam:20200601T170000
DTEND;TZID=Europe/Amsterdam:20200601T220000
DTSTAMP:20260423T002628
CREATED:20200528T112128Z
LAST-MODIFIED:20200528T112129Z
UID:5803-1591030800-1591048800@jcrjudo.nl
SUMMARY:Geen lessen ivm 2de pinksterdag
DESCRIPTION:
URL:https://jcrjudo.nl/agenda/geen-lessen-ivm-2de-pinksterdag/
END:VEVENT
BEGIN:VEVENT
DTSTART;TZID=Europe/Amsterdam:20200531T080000
DTEND;TZID=Europe/Amsterdam:20200531T170000
DTSTAMP:20260423T002628
CREATED:20200108T115936Z
LAST-MODIFIED:20200514T083301Z
UID:5002-1590912000-1590944400@jcrjudo.nl
SUMMARY:geen wedstrijd training
DESCRIPTION:
URL:https://jcrjudo.nl/agenda/wedstrijd-training-50/
LOCATION:IJsselmonde\, Kraaijeveldstraat 2; Sportzaal ‘Auris Taalfonteinschool’\, (ingang: Noorder Kerkedijk 8)\, Rotterdam\, Zuid Holland\, 3078 PE\, Nederland
END:VEVENT
END:VCALENDAR