BEGIN:VCALENDAR
VERSION:2.0
PRODID:-//JCR Judo - ECPv6.15.17.1//NONSGML v1.0//EN
CALSCALE:GREGORIAN
METHOD:PUBLISH
X-WR-CALNAME:JCR Judo
X-ORIGINAL-URL:https://jcrjudo.nl
X-WR-CALDESC:Evenementen voor JCR Judo
REFRESH-INTERVAL;VALUE=DURATION:PT1H
X-Robots-Tag:noindex
X-PUBLISHED-TTL:PT1H
BEGIN:VTIMEZONE
TZID:Europe/Amsterdam
BEGIN:DAYLIGHT
TZOFFSETFROM:+0100
TZOFFSETTO:+0200
TZNAME:CEST
DTSTART:20210328T010000
END:DAYLIGHT
BEGIN:STANDARD
TZOFFSETFROM:+0200
TZOFFSETTO:+0100
TZNAME:CET
DTSTART:20211031T010000
END:STANDARD
BEGIN:DAYLIGHT
TZOFFSETFROM:+0100
TZOFFSETTO:+0200
TZNAME:CEST
DTSTART:20220327T010000
END:DAYLIGHT
BEGIN:STANDARD
TZOFFSETFROM:+0200
TZOFFSETTO:+0100
TZNAME:CET
DTSTART:20221030T010000
END:STANDARD
BEGIN:DAYLIGHT
TZOFFSETFROM:+0100
TZOFFSETTO:+0200
TZNAME:CEST
DTSTART:20230326T010000
END:DAYLIGHT
BEGIN:STANDARD
TZOFFSETFROM:+0200
TZOFFSETTO:+0100
TZNAME:CET
DTSTART:20231029T010000
END:STANDARD
END:VTIMEZONE
BEGIN:VEVENT
DTSTART;TZID=Europe/Amsterdam:20220123T000000
DTEND;TZID=Europe/Amsterdam:20220123T235959
DTSTAMP:20260423T212101
CREATED:20220114T183417Z
LAST-MODIFIED:20220114T183418Z
UID:9828-1642896000-1642982399@jcrjudo.nl
SUMMARY:Wedstrijd training Auris Taalfontijn IJsselmonde
DESCRIPTION:10.30 uur tot 12.00 uur wedstrijd training
URL:https://jcrjudo.nl/agenda/wedstrijd-training-auris-taalfontijn-ijsselmonde-23/
LOCATION:IJsselmonde\, Kraaijeveldstraat 2; Sportzaal ‘Auris Taalfonteinschool’\, (ingang: Noorder Kerkedijk 8)\, Rotterdam\, Zuid Holland\, 3078 PE\, Nederland
END:VEVENT
BEGIN:VEVENT
DTSTART;TZID=Europe/Amsterdam:20220130T000000
DTEND;TZID=Europe/Amsterdam:20220130T235959
DTSTAMP:20260423T212101
CREATED:20220114T183504Z
LAST-MODIFIED:20220114T183506Z
UID:9830-1643500800-1643587199@jcrjudo.nl
SUMMARY:Wedstrijd training Auris Taalfontijn IJsselmonde
DESCRIPTION:10.30 uur tot 12.00 uur wedstrijd training
URL:https://jcrjudo.nl/agenda/wedstrijd-training-auris-taalfontijn-ijsselmonde-24/
LOCATION:IJsselmonde\, Kraaijeveldstraat 2; Sportzaal ‘Auris Taalfonteinschool’\, (ingang: Noorder Kerkedijk 8)\, Rotterdam\, Zuid Holland\, 3078 PE\, Nederland
END:VEVENT
BEGIN:VEVENT
DTSTART;TZID=Europe/Amsterdam:20220206T000000
DTEND;TZID=Europe/Amsterdam:20220206T235959
DTSTAMP:20260423T212101
CREATED:20220114T183540Z
LAST-MODIFIED:20220114T183542Z
UID:9832-1644105600-1644191999@jcrjudo.nl
SUMMARY:Wedstrijd training Auris Taalfontijn IJsselmonde
DESCRIPTION:10.30 uur tot 12.00 uur wedstrijd training
URL:https://jcrjudo.nl/agenda/wedstrijd-training-auris-taalfontijn-ijsselmonde-25/
LOCATION:IJsselmonde\, Kraaijeveldstraat 2; Sportzaal ‘Auris Taalfonteinschool’\, (ingang: Noorder Kerkedijk 8)\, Rotterdam\, Zuid Holland\, 3078 PE\, Nederland
END:VEVENT
BEGIN:VEVENT
DTSTART;TZID=Europe/Amsterdam:20220213T000000
DTEND;TZID=Europe/Amsterdam:20220213T235959
DTSTAMP:20260423T212101
CREATED:20220114T183617Z
LAST-MODIFIED:20220114T183618Z
UID:9834-1644710400-1644796799@jcrjudo.nl
SUMMARY:Wedstrijd training Auris Taalfontijn IJsselmonde
DESCRIPTION:10.30 uur tot 12.00 uur wedstrijd training
URL:https://jcrjudo.nl/agenda/wedstrijd-training-auris-taalfontijn-ijsselmonde-26/
LOCATION:IJsselmonde\, Kraaijeveldstraat 2; Sportzaal ‘Auris Taalfonteinschool’\, (ingang: Noorder Kerkedijk 8)\, Rotterdam\, Zuid Holland\, 3078 PE\, Nederland
END:VEVENT
BEGIN:VEVENT
DTSTART;TZID=Europe/Amsterdam:20220220T000000
DTEND;TZID=Europe/Amsterdam:20220220T235959
DTSTAMP:20260423T212101
CREATED:20220114T183646Z
LAST-MODIFIED:20220114T183648Z
UID:9836-1645315200-1645401599@jcrjudo.nl
SUMMARY:Wedstrijd training Auris Taalfontijn IJsselmonde
DESCRIPTION:10.30 uur tot 12.00 uur wedstrijd training
URL:https://jcrjudo.nl/agenda/wedstrijd-training-auris-taalfontijn-ijsselmonde-27/
LOCATION:IJsselmonde\, Kraaijeveldstraat 2; Sportzaal ‘Auris Taalfonteinschool’\, (ingang: Noorder Kerkedijk 8)\, Rotterdam\, Zuid Holland\, 3078 PE\, Nederland
END:VEVENT
BEGIN:VEVENT
DTSTART;TZID=Europe/Amsterdam:20220227T000000
DTEND;TZID=Europe/Amsterdam:20220227T235959
DTSTAMP:20260423T212101
CREATED:20220114T183719Z
LAST-MODIFIED:20220114T183720Z
UID:9838-1645920000-1646006399@jcrjudo.nl
SUMMARY:Wedstrijd training Auris Taalfontijn IJsselmonde
DESCRIPTION:10.30 uur tot 12.00 uur wedstrijd training
URL:https://jcrjudo.nl/agenda/wedstrijd-training-auris-taalfontijn-ijsselmonde-28/
LOCATION:IJsselmonde\, Kraaijeveldstraat 2; Sportzaal ‘Auris Taalfonteinschool’\, (ingang: Noorder Kerkedijk 8)\, Rotterdam\, Zuid Holland\, 3078 PE\, Nederland
END:VEVENT
BEGIN:VEVENT
DTSTART;TZID=Europe/Amsterdam:20220306T000000
DTEND;TZID=Europe/Amsterdam:20220306T235959
DTSTAMP:20260423T212101
CREATED:20220301T082315Z
LAST-MODIFIED:20220301T082316Z
UID:10050-1646524800-1646611199@jcrjudo.nl
SUMMARY:Wedstrijd training Auris Taalfontijn IJsselmonde
DESCRIPTION:10.30 uur tot 12.00 uur wedstrijd training
URL:https://jcrjudo.nl/agenda/wedstrijd-training-auris-taalfontijn-ijsselmonde-29/
LOCATION:IJsselmonde\, Kraaijeveldstraat 2; Sportzaal ‘Auris Taalfonteinschool’\, (ingang: Noorder Kerkedijk 8)\, Rotterdam\, Zuid Holland\, 3078 PE\, Nederland
END:VEVENT
BEGIN:VEVENT
DTSTART;TZID=Europe/Amsterdam:20220312T113000
DTEND;TZID=Europe/Amsterdam:20220312T170000
DTSTAMP:20260423T212101
CREATED:20220113T114102Z
LAST-MODIFIED:20220113T122411Z
UID:9771-1647084600-1647104400@jcrjudo.nl
SUMMARY:Kyu graad (band) examens
DESCRIPTION:Inschrijven kan alleen als je aan de onderstaande eisen voldoet en kan alleen via de ledenlogin of via de JCR judo app \n\n\n\nGROEP 1Voor wie: Alleen voor judoka’s geboren in 2014-2013-2012-2011 en in het bezit zijn van een BRUINE SLIP aan hun 6de  kyu (witte) of 5de kyu (gele) band!.Aanvang: om 11:30 uur (zaal open om 11:15 uur)Inschrijven: voor 26 februari 2022 (inverband met de grote voorbereiding is na 26 februari 2022 inschrijven NIET MEER MOGELIJK) \n\n\n\nGROEP 2Voor wie:    judoka’s geboren in 2010 en 2009 en in het bezit zijn van 6de kyu (witte) 5de kyu (gele) 4de kyu(oranje) en 3de Kyu (groene band) ongeacht welke slip er aan de band zit.Aanvang:    om 13:15 uurInschrijven: voor 26 februari 2022 (inverband met de grote voorbereiding is na 26 februari 2022 inschrijven NIET MEER MOGELIJK) \n\n\n\nGROEP 3Voor wie:    examen voor judoka’s geboren in 2008\,2007\,2006 enz.Aanvang:    om 15:00 uurInschrijven: voor 26 februari 2022 (inverband met de grote voorbereiding is na 26 februari 2022 inschrijven NIET MEER MOGELIJK)
URL:https://jcrjudo.nl/agenda/kyu-band-graad-examens/
LOCATION:IJsselmonde\, Kraaijeveldstraat 2; Sportzaal ‘Auris Taalfonteinschool’\, (ingang: Noorder Kerkedijk 8)\, Rotterdam\, Zuid Holland\, 3078 PE\, Nederland
END:VEVENT
BEGIN:VEVENT
DTSTART;TZID=Europe/Amsterdam:20220313T000000
DTEND;TZID=Europe/Amsterdam:20220313T235959
DTSTAMP:20260423T212101
CREATED:20220301T082425Z
LAST-MODIFIED:20220301T082426Z
UID:10052-1647129600-1647215999@jcrjudo.nl
SUMMARY:Wedstrijd training Auris Taalfontijn IJsselmonde
DESCRIPTION:10.30 uur tot 12.00 uur wedstrijd training
URL:https://jcrjudo.nl/agenda/wedstrijd-training-auris-taalfontijn-ijsselmonde-30/
LOCATION:IJsselmonde\, Kraaijeveldstraat 2; Sportzaal ‘Auris Taalfonteinschool’\, (ingang: Noorder Kerkedijk 8)\, Rotterdam\, Zuid Holland\, 3078 PE\, Nederland
END:VEVENT
BEGIN:VEVENT
DTSTART;TZID=Europe/Amsterdam:20220320T000000
DTEND;TZID=Europe/Amsterdam:20220320T235959
DTSTAMP:20260423T212101
CREATED:20220301T082457Z
LAST-MODIFIED:20220301T082458Z
UID:10054-1647734400-1647820799@jcrjudo.nl
SUMMARY:Wedstrijd training Auris Taalfontijn IJsselmonde
DESCRIPTION:10.30 uur tot 12.00 uur wedstrijd training
URL:https://jcrjudo.nl/agenda/wedstrijd-training-auris-taalfontijn-ijsselmonde-31/
LOCATION:IJsselmonde\, Kraaijeveldstraat 2; Sportzaal ‘Auris Taalfonteinschool’\, (ingang: Noorder Kerkedijk 8)\, Rotterdam\, Zuid Holland\, 3078 PE\, Nederland
END:VEVENT
BEGIN:VEVENT
DTSTART;TZID=Europe/Amsterdam:20220327T000000
DTEND;TZID=Europe/Amsterdam:20220327T235959
DTSTAMP:20260423T212101
CREATED:20220301T082530Z
LAST-MODIFIED:20220301T082531Z
UID:10056-1648339200-1648425599@jcrjudo.nl
SUMMARY:Wedstrijd training Auris Taalfontijn IJsselmonde
DESCRIPTION:10.30 uur tot 12.00 uur wedstrijd training
URL:https://jcrjudo.nl/agenda/wedstrijd-training-auris-taalfontijn-ijsselmonde-32/
LOCATION:IJsselmonde\, Kraaijeveldstraat 2; Sportzaal ‘Auris Taalfonteinschool’\, (ingang: Noorder Kerkedijk 8)\, Rotterdam\, Zuid Holland\, 3078 PE\, Nederland
END:VEVENT
BEGIN:VEVENT
DTSTART;TZID=Europe/Amsterdam:20220403T000000
DTEND;TZID=Europe/Amsterdam:20220403T235959
DTSTAMP:20260423T212101
CREATED:20220301T082601Z
LAST-MODIFIED:20220301T082602Z
UID:10058-1648944000-1649030399@jcrjudo.nl
SUMMARY:Wedstrijd training Auris Taalfontijn IJsselmonde
DESCRIPTION:10.30 uur tot 12.00 uur wedstrijd training
URL:https://jcrjudo.nl/agenda/wedstrijd-training-auris-taalfontijn-ijsselmonde-33/
LOCATION:IJsselmonde\, Kraaijeveldstraat 2; Sportzaal ‘Auris Taalfonteinschool’\, (ingang: Noorder Kerkedijk 8)\, Rotterdam\, Zuid Holland\, 3078 PE\, Nederland
END:VEVENT
BEGIN:VEVENT
DTSTART;TZID=Europe/Amsterdam:20220410T000000
DTEND;TZID=Europe/Amsterdam:20220410T235959
DTSTAMP:20260423T212101
CREATED:20220301T082632Z
LAST-MODIFIED:20220323T121828Z
UID:10060-1649548800-1649635199@jcrjudo.nl
SUMMARY:GEEN Wedstrijd training ivm wedstrijd Rockanje
DESCRIPTION:
URL:https://jcrjudo.nl/agenda/wedstrijd-training-auris-taalfontijn-ijsselmonde-34/
LOCATION:IJsselmonde\, Kraaijeveldstraat 2; Sportzaal ‘Auris Taalfonteinschool’\, (ingang: Noorder Kerkedijk 8)\, Rotterdam\, Zuid Holland\, 3078 PE\, Nederland
END:VEVENT
BEGIN:VEVENT
DTSTART;TZID=Europe/Amsterdam:20220415T000000
DTEND;TZID=Europe/Amsterdam:20220415T235959
DTSTAMP:20260423T212101
CREATED:20220401T214311Z
LAST-MODIFIED:20220401T214313Z
UID:10237-1649980800-1650067199@jcrjudo.nl
SUMMARY:geen judo lessen ivm goede vrijdag
DESCRIPTION:
URL:https://jcrjudo.nl/agenda/geen-judo-lessen-ivm-goede-vrijdag/
END:VEVENT
BEGIN:VEVENT
DTSTART;TZID=Europe/Amsterdam:20220417T000000
DTEND;TZID=Europe/Amsterdam:20220417T235959
DTSTAMP:20260423T212101
CREATED:20220301T082659Z
LAST-MODIFIED:20220405T085241Z
UID:10062-1650153600-1650239999@jcrjudo.nl
SUMMARY:geen Wedstrijd training ivm 1ste paasdag
DESCRIPTION:10.30 uur tot 12.00 uur wedstrijd training
URL:https://jcrjudo.nl/agenda/wedstrijd-training-auris-taalfontijn-ijsselmonde-35/
LOCATION:IJsselmonde\, Kraaijeveldstraat 2; Sportzaal ‘Auris Taalfonteinschool’\, (ingang: Noorder Kerkedijk 8)\, Rotterdam\, Zuid Holland\, 3078 PE\, Nederland
END:VEVENT
BEGIN:VEVENT
DTSTART;TZID=Europe/Amsterdam:20220424T000000
DTEND;TZID=Europe/Amsterdam:20220424T235959
DTSTAMP:20260423T212101
CREATED:20220301T082744Z
LAST-MODIFIED:20220301T082746Z
UID:10064-1650758400-1650844799@jcrjudo.nl
SUMMARY:Wedstrijd training Auris Taalfontijn IJsselmonde
DESCRIPTION:10.30 uur tot 12.00 uur wedstrijd training
URL:https://jcrjudo.nl/agenda/wedstrijd-training-auris-taalfontijn-ijsselmonde-36/
LOCATION:IJsselmonde\, Kraaijeveldstraat 2; Sportzaal ‘Auris Taalfonteinschool’\, (ingang: Noorder Kerkedijk 8)\, Rotterdam\, Zuid Holland\, 3078 PE\, Nederland
END:VEVENT
BEGIN:VEVENT
DTSTART;TZID=Europe/Amsterdam:20220427T000000
DTEND;TZID=Europe/Amsterdam:20220427T235959
DTSTAMP:20260423T212101
CREATED:20220419T075049Z
LAST-MODIFIED:20220419T075052Z
UID:10385-1651017600-1651103999@jcrjudo.nl
SUMMARY:Geen judo lessen ivm koningsdag
DESCRIPTION:
URL:https://jcrjudo.nl/agenda/geen-judo-lessen-ivm-koningsdag/
END:VEVENT
BEGIN:VEVENT
DTSTART;TZID=Europe/Amsterdam:20220501T000000
DTEND;TZID=Europe/Amsterdam:20220501T235959
DTSTAMP:20260423T212101
CREATED:20220419T074935Z
LAST-MODIFIED:20220419T075242Z
UID:10383-1651363200-1651449599@jcrjudo.nl
SUMMARY:Wedstrijd training Auris Taalfontijn IJsselmonde
DESCRIPTION:10.30 uur tot 12.00 uur wedstrijd training
URL:https://jcrjudo.nl/agenda/wedstrijd-training-auris-taalfontijn-ijsselmonde-37/
LOCATION:IJsselmonde\, Kraaijeveldstraat 2; Sportzaal ‘Auris Taalfonteinschool’\, (ingang: Noorder Kerkedijk 8)\, Rotterdam\, Zuid Holland\, 3078 PE\, Nederland
END:VEVENT
BEGIN:VEVENT
DTSTART;TZID=Europe/Amsterdam:20220508T000000
DTEND;TZID=Europe/Amsterdam:20220508T235959
DTSTAMP:20260423T212101
CREATED:20220419T075153Z
LAST-MODIFIED:20220419T075156Z
UID:10387-1651968000-1652054399@jcrjudo.nl
SUMMARY:Wedstrijd training Auris Taalfontijn IJsselmonde
DESCRIPTION:10.30 uur tot 12.00 uur wedstrijd training
URL:https://jcrjudo.nl/agenda/wedstrijd-training-auris-taalfontijn-ijsselmonde-38/
LOCATION:IJsselmonde\, Kraaijeveldstraat 2; Sportzaal ‘Auris Taalfonteinschool’\, (ingang: Noorder Kerkedijk 8)\, Rotterdam\, Zuid Holland\, 3078 PE\, Nederland
END:VEVENT
BEGIN:VEVENT
DTSTART;TZID=Europe/Amsterdam:20220514T000000
DTEND;TZID=Europe/Amsterdam:20220514T235959
DTSTAMP:20260423T212101
CREATED:20220510T090018Z
LAST-MODIFIED:20220510T090021Z
UID:10612-1652486400-1652572799@jcrjudo.nl
SUMMARY:Wedstrijd training Auris Taalfontijn IJsselmonde
DESCRIPTION:10.30 uur tot 12.00 uur wedstrijd training
URL:https://jcrjudo.nl/agenda/wedstrijd-training-auris-taalfontijn-ijsselmonde-42/
LOCATION:IJsselmonde\, Kraaijeveldstraat 2; Sportzaal ‘Auris Taalfonteinschool’\, (ingang: Noorder Kerkedijk 8)\, Rotterdam\, Zuid Holland\, 3078 PE\, Nederland
END:VEVENT
BEGIN:VEVENT
DTSTART;TZID=Europe/Amsterdam:20220522T000000
DTEND;TZID=Europe/Amsterdam:20220522T235959
DTSTAMP:20260423T212101
CREATED:20220509T063349Z
LAST-MODIFIED:20220509T063352Z
UID:10597-1653177600-1653263999@jcrjudo.nl
SUMMARY:Wedstrijd training Auris Taalfontijn IJsselmonde
DESCRIPTION:10.30 uur tot 12.00 uur wedstrijd training
URL:https://jcrjudo.nl/agenda/wedstrijd-training-auris-taalfontijn-ijsselmonde-39/
LOCATION:IJsselmonde\, Kraaijeveldstraat 2; Sportzaal ‘Auris Taalfonteinschool’\, (ingang: Noorder Kerkedijk 8)\, Rotterdam\, Zuid Holland\, 3078 PE\, Nederland
END:VEVENT
BEGIN:VEVENT
DTSTART;TZID=Europe/Amsterdam:20220526T000000
DTEND;TZID=Europe/Amsterdam:20220526T235959
DTSTAMP:20260423T212101
CREATED:20220516T074320Z
LAST-MODIFIED:20220516T074323Z
UID:10632-1653523200-1653609599@jcrjudo.nl
SUMMARY:Geen lessen ivm Hemelvaartsdag
DESCRIPTION:u kunt de les inhalen op een van onze andere locaties in dezelfde week
URL:https://jcrjudo.nl/agenda/geen-lessen-ivm-hemelvaartsdag/
END:VEVENT
BEGIN:VEVENT
DTSTART;TZID=Europe/Amsterdam:20220529T000000
DTEND;TZID=Europe/Amsterdam:20220529T235959
DTSTAMP:20260423T212101
CREATED:20220509T063453Z
LAST-MODIFIED:20220509T063457Z
UID:10599-1653782400-1653868799@jcrjudo.nl
SUMMARY:Wedstrijd training Auris Taalfontijn IJsselmonde
DESCRIPTION:10.30 uur tot 12.00 uur wedstrijd training
URL:https://jcrjudo.nl/agenda/wedstrijd-training-auris-taalfontijn-ijsselmonde-40/
LOCATION:IJsselmonde\, Kraaijeveldstraat 2; Sportzaal ‘Auris Taalfonteinschool’\, (ingang: Noorder Kerkedijk 8)\, Rotterdam\, Zuid Holland\, 3078 PE\, Nederland
END:VEVENT
BEGIN:VEVENT
DTSTART;TZID=Europe/Amsterdam:20220605T000000
DTEND;TZID=Europe/Amsterdam:20220605T235959
DTSTAMP:20260423T212101
CREATED:20220509T063556Z
LAST-MODIFIED:20220531T095919Z
UID:10601-1654387200-1654473599@jcrjudo.nl
SUMMARY:geen wedstrijd training ivm 1ste pinksterdag
DESCRIPTION:
URL:https://jcrjudo.nl/agenda/wedstrijd-training-auris-taalfontijn-ijsselmonde-41/
LOCATION:IJsselmonde\, Kraaijeveldstraat 2; Sportzaal ‘Auris Taalfonteinschool’\, (ingang: Noorder Kerkedijk 8)\, Rotterdam\, Zuid Holland\, 3078 PE\, Nederland
END:VEVENT
BEGIN:VEVENT
DTSTART;TZID=Europe/Amsterdam:20220612T000000
DTEND;TZID=Europe/Amsterdam:20220612T235959
DTSTAMP:20260423T212101
CREATED:20220530T090652Z
LAST-MODIFIED:20220530T090656Z
UID:10698-1654992000-1655078399@jcrjudo.nl
SUMMARY:Wedstrijd training Auris Taalfontijn IJsselmonde
DESCRIPTION:10.30 uur tot 12.00 uur wedstrijd training
URL:https://jcrjudo.nl/agenda/wedstrijd-training-auris-taalfontijn-ijsselmonde-43/
LOCATION:IJsselmonde\, Kraaijeveldstraat 2; Sportzaal ‘Auris Taalfonteinschool’\, (ingang: Noorder Kerkedijk 8)\, Rotterdam\, Zuid Holland\, 3078 PE\, Nederland
END:VEVENT
BEGIN:VEVENT
DTSTART;TZID=Europe/Amsterdam:20220619T000000
DTEND;TZID=Europe/Amsterdam:20220619T235959
DTSTAMP:20260423T212101
CREATED:20220530T090745Z
LAST-MODIFIED:20220617T090031Z
UID:10700-1655596800-1655683199@jcrjudo.nl
SUMMARY:laatste wedstrijd training van het seizoen                                  Auris Taalfontijn IJsselmonde
DESCRIPTION:10.30 uur tot 12.00 uur wedstrijd training
URL:https://jcrjudo.nl/agenda/wedstrijd-training-auris-taalfontijn-ijsselmonde-44/
LOCATION:IJsselmonde\, Kraaijeveldstraat 2; Sportzaal ‘Auris Taalfonteinschool’\, (ingang: Noorder Kerkedijk 8)\, Rotterdam\, Zuid Holland\, 3078 PE\, Nederland
END:VEVENT
BEGIN:VEVENT
DTSTART;TZID=Europe/Amsterdam:20220626T000000
DTEND;TZID=Europe/Amsterdam:20220626T235959
DTSTAMP:20260423T212101
CREATED:20220521T095150Z
LAST-MODIFIED:20220623T084011Z
UID:10664-1656201600-1656287999@jcrjudo.nl
SUMMARY:Seizoens afsluitingstoernooi
DESCRIPTION:kijk in de mail voor de juiste aanvangstijden
URL:https://jcrjudo.nl/agenda/seizoens-afsluitingstoernooi/
LOCATION:IJsselmonde\, Kraaijeveldstraat 2; Sportzaal ‘Auris Taalfonteinschool’\, (ingang: Noorder Kerkedijk 8)\, Rotterdam\, Zuid Holland\, 3078 PE\, Nederland
END:VEVENT
BEGIN:VEVENT
DTSTART;TZID=Europe/Amsterdam:20220702T100000
DTEND;TZID=Europe/Amsterdam:20220702T110000
DTSTAMP:20260423T212101
CREATED:20220617T095749Z
LAST-MODIFIED:20220617T095752Z
UID:10925-1656756000-1656759600@jcrjudo.nl
SUMMARY:herexamens Kyu graden
DESCRIPTION:alleen voordegene die al ingeschreven waren voor 12 maart 2022 !!!!
URL:https://jcrjudo.nl/agenda/herexamens-kyu-graden/
LOCATION:IJsselmonde\, Kraaijeveldstraat 2; Sportzaal ‘Auris Taalfonteinschool’\, (ingang: Noorder Kerkedijk 8)\, Rotterdam\, Zuid Holland\, 3078 PE\, Nederland
END:VEVENT
BEGIN:VEVENT
DTSTART;TZID=Europe/Amsterdam:20220803T140000
DTEND;TZID=Europe/Amsterdam:20220803T140000
DTSTAMP:20260423T212101
CREATED:20220629T063514Z
LAST-MODIFIED:20220629T063517Z
UID:11022-1659535200-1659535200@jcrjudo.nl
SUMMARY:Speciale wedstrijd Judoclinic. Sporthal Vrijenburgpoort in Barendrecht
DESCRIPTION:
URL:https://jcrjudo.nl/agenda/speciale-wedstrijd-judoclinic-sporthal-vrijenburgpoort-in-barendrecht/
END:VEVENT
BEGIN:VEVENT
DTSTART;TZID=Europe/Amsterdam:20220810T140000
DTEND;TZID=Europe/Amsterdam:20220810T140000
DTSTAMP:20260423T212101
CREATED:20220629T063710Z
LAST-MODIFIED:20220629T063714Z
UID:11024-1660140000-1660140000@jcrjudo.nl
SUMMARY:Speciale wedstrijd Judoclinic. Sporthal Vrijenburgpoort in Barendrecht
DESCRIPTION:
URL:https://jcrjudo.nl/agenda/speciale-wedstrijd-judoclinic-sporthal-vrijenburgpoort-in-barendrecht-2/
END:VEVENT
END:VCALENDAR