BEGIN:VCALENDAR
VERSION:2.0
PRODID:-//JCR Judo - ECPv6.15.17.1//NONSGML v1.0//EN
CALSCALE:GREGORIAN
METHOD:PUBLISH
X-ORIGINAL-URL:https://jcrjudo.nl
X-WR-CALDESC:Evenementen voor JCR Judo
REFRESH-INTERVAL;VALUE=DURATION:PT1H
X-Robots-Tag:noindex
X-PUBLISHED-TTL:PT1H
BEGIN:VTIMEZONE
TZID:Europe/Amsterdam
BEGIN:DAYLIGHT
TZOFFSETFROM:+0100
TZOFFSETTO:+0200
TZNAME:CEST
DTSTART:20180325T010000
END:DAYLIGHT
BEGIN:STANDARD
TZOFFSETFROM:+0200
TZOFFSETTO:+0100
TZNAME:CET
DTSTART:20181028T010000
END:STANDARD
BEGIN:DAYLIGHT
TZOFFSETFROM:+0100
TZOFFSETTO:+0200
TZNAME:CEST
DTSTART:20190331T010000
END:DAYLIGHT
BEGIN:STANDARD
TZOFFSETFROM:+0200
TZOFFSETTO:+0100
TZNAME:CET
DTSTART:20191027T010000
END:STANDARD
BEGIN:DAYLIGHT
TZOFFSETFROM:+0100
TZOFFSETTO:+0200
TZNAME:CEST
DTSTART:20200329T010000
END:DAYLIGHT
BEGIN:STANDARD
TZOFFSETFROM:+0200
TZOFFSETTO:+0100
TZNAME:CET
DTSTART:20201025T010000
END:STANDARD
END:VTIMEZONE
BEGIN:VEVENT
DTSTART;TZID=Europe/Amsterdam:20191005T000000
DTEND;TZID=Europe/Amsterdam:20191005T235900
DTSTAMP:20260423T201809
CREATED:20190830T115219Z
LAST-MODIFIED:20190930T183219Z
UID:4286-1570233600-1570319940@jcrjudo.nl
SUMMARY:Randori toernooi
DESCRIPTION:om 9.45 uur aanwezig zijn
URL:https://jcrjudo.nl/agenda/randori-toernooi-3/
LOCATION:Barendrecht waterpoort\, Middeldijkerplein 9\, Barendrecht\, Nederland
END:VEVENT
BEGIN:VEVENT
DTSTART;TZID=Europe/Amsterdam:20191006T000000
DTEND;TZID=Europe/Amsterdam:20191006T235959
DTSTAMP:20260423T201809
CREATED:20190830T114845Z
LAST-MODIFIED:20190830T114846Z
UID:4278-1570320000-1570406399@jcrjudo.nl
SUMMARY:Wedstrijd training
DESCRIPTION:Wedstrijd training starters vanaf 7 jaar 09.30 uur tot 10.30 uur judotraining 10.30 uur tot 11.00 uur buitentrainingWedstrijd training gevorderde persoonlijke uitnodiging vanaf 8 jaar 09.30 uur tot 10.30 uur buitentraining 10.30 uur tot 11.30 uur judotraining 
URL:https://jcrjudo.nl/agenda/wedstrijd-training-19/
LOCATION:IJsselmonde\, Kraaijeveldstraat 2; Sportzaal ‘Auris Taalfonteinschool’\, (ingang: Noorder Kerkedijk 8)\, Rotterdam\, Zuid Holland\, 3078 PE\, Nederland
END:VEVENT
BEGIN:VEVENT
DTSTART;TZID=Europe/Amsterdam:20191013T000000
DTEND;TZID=Europe/Amsterdam:20191013T235959
DTSTAMP:20260423T201809
CREATED:20190830T114927Z
LAST-MODIFIED:20190830T114928Z
UID:4280-1570924800-1571011199@jcrjudo.nl
SUMMARY:Wedstrijd training
DESCRIPTION:Wedstrijd training starters vanaf 7 jaar 09.30 uur tot 10.30 uur judotraining 10.30 uur tot 11.00 uur buitentrainingWedstrijd training gevorderde persoonlijke uitnodiging vanaf 8 jaar 09.30 uur tot 10.30 uur buitentraining 10.30 uur tot 11.30 uur judotraining 
URL:https://jcrjudo.nl/agenda/wedstrijd-training-20/
LOCATION:IJsselmonde\, Kraaijeveldstraat 2; Sportzaal ‘Auris Taalfonteinschool’\, (ingang: Noorder Kerkedijk 8)\, Rotterdam\, Zuid Holland\, 3078 PE\, Nederland
END:VEVENT
BEGIN:VEVENT
DTSTART;TZID=Europe/Amsterdam:20191013T000000
DTEND;TZID=Europe/Amsterdam:20191013T235900
DTSTAMP:20260423T201809
CREATED:20190830T115712Z
LAST-MODIFIED:20191006T112812Z
UID:4289-1570924800-1571011140@jcrjudo.nl
SUMMARY:Deelname aan de Wereld kampioenschappen Marrakech Marokko
DESCRIPTION:
URL:https://jcrjudo.nl/agenda/wereld-kampioenschappen-marrakech-marokko/
LOCATION:Marrakech\, Marrakech\, Marokko
END:VEVENT
BEGIN:VEVENT
DTSTART;TZID=Europe/Amsterdam:20191020T000000
DTEND;TZID=Europe/Amsterdam:20191020T235959
DTSTAMP:20260423T201809
CREATED:20190830T115013Z
LAST-MODIFIED:20190830T115014Z
UID:4282-1571529600-1571615999@jcrjudo.nl
SUMMARY:Wedstrijd training
DESCRIPTION:Wedstrijd training starters vanaf 7 jaar 09.30 uur tot 10.30 uur judotraining 10.30 uur tot 11.00 uur buitentrainingWedstrijd training gevorderde persoonlijke uitnodiging vanaf 8 jaar 09.30 uur tot 10.30 uur buitentraining 10.30 uur tot 11.30 uur judotraining 
URL:https://jcrjudo.nl/agenda/wedstrijd-training-21/
LOCATION:IJsselmonde\, Kraaijeveldstraat 2; Sportzaal ‘Auris Taalfonteinschool’\, (ingang: Noorder Kerkedijk 8)\, Rotterdam\, Zuid Holland\, 3078 PE\, Nederland
END:VEVENT
BEGIN:VEVENT
DTSTART;TZID=Europe/Amsterdam:20191020T080000
DTEND;TZID=Europe/Amsterdam:20191020T170000
DTSTAMP:20260423T201809
CREATED:20190830T122426Z
LAST-MODIFIED:20190830T122427Z
UID:4293-1571558400-1571590800@jcrjudo.nl
SUMMARY:Jt Belgie -14 en -17
DESCRIPTION:
URL:https://jcrjudo.nl/agenda/jt-belgie-14-en-17/
END:VEVENT
BEGIN:VEVENT
DTSTART;TZID=Europe/Amsterdam:20191023T180000
DTEND;TZID=Europe/Amsterdam:20191023T190000
DTSTAMP:20260423T201809
CREATED:20191020T201726Z
LAST-MODIFIED:20191020T201727Z
UID:4640-1571853600-1571857200@jcrjudo.nl
SUMMARY:geen wedstrijdtraining -15 jaar
DESCRIPTION:
URL:https://jcrjudo.nl/agenda/geen-wedstrijdtraining-15-jaar/
END:VEVENT
BEGIN:VEVENT
DTSTART;TZID=Europe/Amsterdam:20191026T000000
DTEND;TZID=Europe/Amsterdam:20191026T235959
DTSTAMP:20260423T201809
CREATED:20190830T122549Z
LAST-MODIFIED:20190830T122550Z
UID:4295-1572048000-1572134399@jcrjudo.nl
SUMMARY:JT Finland -18 -21 en senioren
DESCRIPTION:
URL:https://jcrjudo.nl/agenda/jt-finland-18-21-en-senioren/
LOCATION:turku\, turku\, Finland
END:VEVENT
BEGIN:VEVENT
DTSTART;TZID=Europe/Amsterdam:20191027T000000
DTEND;TZID=Europe/Amsterdam:20191027T235959
DTSTAMP:20260423T201809
CREATED:20190830T115100Z
LAST-MODIFIED:20190830T115101Z
UID:4284-1572134400-1572220799@jcrjudo.nl
SUMMARY:Wedstrijd training
DESCRIPTION:Wedstrijd training starters vanaf 7 jaar 09.30 uur tot 10.30 uur judotraining 10.30 uur tot 11.00 uur buitentrainingWedstrijd training gevorderde persoonlijke uitnodiging vanaf 8 jaar 09.30 uur tot 10.30 uur buitentraining 10.30 uur tot 11.30 uur judotraining 
URL:https://jcrjudo.nl/agenda/wedstrijd-training-22/
LOCATION:IJsselmonde\, Kraaijeveldstraat 2; Sportzaal ‘Auris Taalfonteinschool’\, (ingang: Noorder Kerkedijk 8)\, Rotterdam\, Zuid Holland\, 3078 PE\, Nederland
END:VEVENT
END:VCALENDAR