BEGIN:VCALENDAR
VERSION:2.0
PRODID:-//JCR Judo - ECPv6.15.17.1//NONSGML v1.0//EN
CALSCALE:GREGORIAN
METHOD:PUBLISH
X-ORIGINAL-URL:https://jcrjudo.nl
X-WR-CALDESC:Evenementen voor JCR Judo
REFRESH-INTERVAL;VALUE=DURATION:PT1H
X-Robots-Tag:noindex
X-PUBLISHED-TTL:PT1H
BEGIN:VTIMEZONE
TZID:Europe/Amsterdam
BEGIN:DAYLIGHT
TZOFFSETFROM:+0100
TZOFFSETTO:+0200
TZNAME:CEST
DTSTART:20180325T010000
END:DAYLIGHT
BEGIN:STANDARD
TZOFFSETFROM:+0200
TZOFFSETTO:+0100
TZNAME:CET
DTSTART:20181028T010000
END:STANDARD
BEGIN:DAYLIGHT
TZOFFSETFROM:+0100
TZOFFSETTO:+0200
TZNAME:CEST
DTSTART:20190331T010000
END:DAYLIGHT
BEGIN:STANDARD
TZOFFSETFROM:+0200
TZOFFSETTO:+0100
TZNAME:CET
DTSTART:20191027T010000
END:STANDARD
BEGIN:DAYLIGHT
TZOFFSETFROM:+0100
TZOFFSETTO:+0200
TZNAME:CEST
DTSTART:20200329T010000
END:DAYLIGHT
BEGIN:STANDARD
TZOFFSETFROM:+0200
TZOFFSETTO:+0100
TZNAME:CET
DTSTART:20201025T010000
END:STANDARD
END:VTIMEZONE
BEGIN:VEVENT
DTSTART;TZID=Europe/Amsterdam:20191102T080000
DTEND;TZID=Europe/Amsterdam:20191102T170000
DTSTAMP:20260423T185925
CREATED:20191006T094157Z
LAST-MODIFIED:20191018T082843Z
UID:4578-1572681600-1572714000@jcrjudo.nl
SUMMARY:2e Randori toernooi
DESCRIPTION:Wie:Voor judoka’s vanaf 6 jaar t/m 14 jaarInschrijven:voor 30 oktober naar info@jcrjudo.nlOnder vermelding Randori competitie.Kosten:Leden van JCRjudo gratis.Niet leden van JCRjudo € 10\,00 pp.Adres:Gymzaal  Auris TaalfonteinschoolKraaijeveldstraat 2Rotterdam Aanwezig: 12.45 uur ! zorg dat je op tijd bent  \n\n\n\n PS:Bij niet afmelden kan er een een bedrag van €10\,- administratie kosten in rekening worden gebracht.
URL:https://jcrjudo.nl/agenda/2e-randori-toernooi/
LOCATION:IJsselmonde\, Kraaijeveldstraat 2; Sportzaal ‘Auris Taalfonteinschool’\, (ingang: Noorder Kerkedijk 8)\, Rotterdam\, Zuid Holland\, 3078 PE\, Nederland
END:VEVENT
BEGIN:VEVENT
DTSTART;TZID=Europe/Amsterdam:20191103T000000
DTEND;TZID=Europe/Amsterdam:20191103T235959
DTSTAMP:20260423T185925
CREATED:20190830T122740Z
LAST-MODIFIED:20190830T122742Z
UID:4300-1572739200-1572825599@jcrjudo.nl
SUMMARY:Wedstrijd training
DESCRIPTION:Wedstrijd training starters vanaf 7 jaar 09.30 uur tot 10.30 uur judotraining 10.30 uur tot 11.00 uur buitentrainingWedstrijd training gevorderde persoonlijke uitnodiging vanaf 8 jaar 09.30 uur tot 10.30 uur buitentraining 10.30 uur tot 11.30 uur judotraining 
URL:https://jcrjudo.nl/agenda/wedstrijd-training-23/
LOCATION:IJsselmonde\, Kraaijeveldstraat 2; Sportzaal ‘Auris Taalfonteinschool’\, (ingang: Noorder Kerkedijk 8)\, Rotterdam\, Zuid Holland\, 3078 PE\, Nederland
END:VEVENT
BEGIN:VEVENT
DTSTART;TZID=Europe/Amsterdam:20191110T000000
DTEND;TZID=Europe/Amsterdam:20191110T235959
DTSTAMP:20260423T185925
CREATED:20190830T122944Z
LAST-MODIFIED:20190830T122945Z
UID:4304-1573344000-1573430399@jcrjudo.nl
SUMMARY:Wedstrijd training
DESCRIPTION:Wedstrijd training starters vanaf 7 jaar 09.30 uur tot 10.30 uur judotraining 10.30 uur tot 11.00 uur buitentrainingWedstrijd training gevorderde persoonlijke uitnodiging vanaf 8 jaar 09.30 uur tot 10.30 uur buitentraining 10.30 uur tot 11.30 uur judotraining 
URL:https://jcrjudo.nl/agenda/wedstrijd-training-24/
LOCATION:IJsselmonde\, Kraaijeveldstraat 2; Sportzaal ‘Auris Taalfonteinschool’\, (ingang: Noorder Kerkedijk 8)\, Rotterdam\, Zuid Holland\, 3078 PE\, Nederland
END:VEVENT
BEGIN:VEVENT
DTSTART;TZID=Europe/Amsterdam:20191110T000000
DTEND;TZID=Europe/Amsterdam:20191110T235959
DTSTAMP:20260423T185925
CREATED:20190830T123106Z
LAST-MODIFIED:20190830T123107Z
UID:4308-1573344000-1573430399@jcrjudo.nl
SUMMARY:JT den Haag meetmoment -18
DESCRIPTION:
URL:https://jcrjudo.nl/agenda/jt-den-haag-meetmoment-18/
END:VEVENT
BEGIN:VEVENT
DTSTART;TZID=Europe/Amsterdam:20191113T150000
DTEND;TZID=Europe/Amsterdam:20191113T210000
DTSTAMP:20260423T185925
CREATED:20191111T183145Z
LAST-MODIFIED:20191111T183146Z
UID:4719-1573657200-1573678800@jcrjudo.nl
SUMMARY:Geen judo les ivm evenement Auris school
DESCRIPTION:U kunt de les in deze week inhalen op een van onze andere locaties( wel even aanmelden via de app)
URL:https://jcrjudo.nl/agenda/geen-judo-les-ivm-evenement-auris-school/
LOCATION:IJsselmonde\, Kraaijeveldstraat 2; Sportzaal ‘Auris Taalfonteinschool’\, (ingang: Noorder Kerkedijk 8)\, Rotterdam\, Zuid Holland\, 3078 PE\, Nederland
END:VEVENT
BEGIN:VEVENT
DTSTART;TZID=Europe/Amsterdam:20191117T000000
DTEND;TZID=Europe/Amsterdam:20191117T235959
DTSTAMP:20260423T185925
CREATED:20190830T123244Z
LAST-MODIFIED:20190830T123245Z
UID:4310-1573948800-1574035199@jcrjudo.nl
SUMMARY:wedstrijd training
DESCRIPTION:Wedstrijd training starters vanaf 7 jaar 09.30 uur tot 10.30 uur judotraining 10.30 uur tot 11.00 uur buitentrainingWedstrijd training gevorderde persoonlijke uitnodiging vanaf 8 jaar 09.30 uur tot 10.30 uur buitentraining 10.30 uur tot 11.30 uur judotraining 
URL:https://jcrjudo.nl/agenda/wedstrijd-training-25/
LOCATION:IJsselmonde\, Kraaijeveldstraat 2; Sportzaal ‘Auris Taalfonteinschool’\, (ingang: Noorder Kerkedijk 8)\, Rotterdam\, Zuid Holland\, 3078 PE\, Nederland
END:VEVENT
BEGIN:VEVENT
DTSTART;TZID=Europe/Amsterdam:20191124T000000
DTEND;TZID=Europe/Amsterdam:20191124T235900
DTSTAMP:20260423T185925
CREATED:20190830T123342Z
LAST-MODIFIED:20191111T114531Z
UID:4312-1574553600-1574639940@jcrjudo.nl
SUMMARY:Wedstrijd training 1 groep
DESCRIPTION:Wedstrijd training 09.30 uur tot 11.00 uur judotraining 
URL:https://jcrjudo.nl/agenda/wedstrijd-training-26/
LOCATION:IJsselmonde\, Kraaijeveldstraat 2; Sportzaal ‘Auris Taalfonteinschool’\, (ingang: Noorder Kerkedijk 8)\, Rotterdam\, Zuid Holland\, 3078 PE\, Nederland
END:VEVENT
BEGIN:VEVENT
DTSTART;TZID=Europe/Amsterdam:20191124T000000
DTEND;TZID=Europe/Amsterdam:20191124T235959
DTSTAMP:20260423T185925
CREATED:20190830T123435Z
LAST-MODIFIED:20190830T123436Z
UID:4314-1574553600-1574639999@jcrjudo.nl
SUMMARY:JT beek en donk -12-15-18-21
DESCRIPTION:
URL:https://jcrjudo.nl/agenda/jt-beek-en-donk-12-15-18-21/
END:VEVENT
END:VCALENDAR