BEGIN:VCALENDAR
VERSION:2.0
PRODID:-//JCR Judo - ECPv6.15.17.1//NONSGML v1.0//EN
CALSCALE:GREGORIAN
METHOD:PUBLISH
X-WR-CALNAME:JCR Judo
X-ORIGINAL-URL:https://jcrjudo.nl
X-WR-CALDESC:Evenementen voor JCR Judo
REFRESH-INTERVAL;VALUE=DURATION:PT1H
X-Robots-Tag:noindex
X-PUBLISHED-TTL:PT1H
BEGIN:VTIMEZONE
TZID:Europe/Amsterdam
BEGIN:DAYLIGHT
TZOFFSETFROM:+0100
TZOFFSETTO:+0200
TZNAME:CEST
DTSTART:20190331T010000
END:DAYLIGHT
BEGIN:STANDARD
TZOFFSETFROM:+0200
TZOFFSETTO:+0100
TZNAME:CET
DTSTART:20191027T010000
END:STANDARD
BEGIN:DAYLIGHT
TZOFFSETFROM:+0100
TZOFFSETTO:+0200
TZNAME:CEST
DTSTART:20200329T010000
END:DAYLIGHT
BEGIN:STANDARD
TZOFFSETFROM:+0200
TZOFFSETTO:+0100
TZNAME:CET
DTSTART:20201025T010000
END:STANDARD
BEGIN:DAYLIGHT
TZOFFSETFROM:+0100
TZOFFSETTO:+0200
TZNAME:CEST
DTSTART:20210328T010000
END:DAYLIGHT
BEGIN:STANDARD
TZOFFSETFROM:+0200
TZOFFSETTO:+0100
TZNAME:CET
DTSTART:20211031T010000
END:STANDARD
END:VTIMEZONE
BEGIN:VEVENT
DTSTART;TZID=Europe/Amsterdam:20200301T000000
DTEND;TZID=Europe/Amsterdam:20200301T235900
DTSTAMP:20260424T014410
CREATED:20200108T114946Z
LAST-MODIFIED:20200312T203812Z
UID:4976-1583020800-1583107140@jcrjudo.nl
SUMMARY:Geen Wedstrijd training
DESCRIPTION:
URL:https://jcrjudo.nl/agenda/wedstrijd-training-38/
LOCATION:IJsselmonde\, Kraaijeveldstraat 2; Sportzaal ‘Auris Taalfonteinschool’\, (ingang: Noorder Kerkedijk 8)\, Rotterdam\, Zuid Holland\, 3078 PE\, Nederland
END:VEVENT
BEGIN:VEVENT
DTSTART;TZID=Europe/Amsterdam:20200302T160000
DTEND;TZID=Europe/Amsterdam:20200302T193000
DTSTAMP:20260424T014410
CREATED:20200302T090710Z
LAST-MODIFIED:20200302T090711Z
UID:5357-1583164800-1583177400@jcrjudo.nl
SUMMARY:Geen les op onze locatie blijdorp ivm werkzaamheden
DESCRIPTION:
URL:https://jcrjudo.nl/agenda/geen-les-op-onze-locatie-blijdorp-ivm-werkzaamheden/
END:VEVENT
BEGIN:VEVENT
DTSTART;TZID=Europe/Amsterdam:20200307T123000
DTEND;TZID=Europe/Amsterdam:20200307T143000
DTSTAMP:20260424T014410
CREATED:20200214T085835Z
LAST-MODIFIED:20200214T085836Z
UID:5258-1583584200-1583591400@jcrjudo.nl
SUMMARY:Randori competitie
DESCRIPTION:Adres:Gymzaal  Auris TaalfonteinschoolKraaijeveldstraat 2Rotterdam Aanwezig: 12.45 uur ! zorg dat je op tijd bent
URL:https://jcrjudo.nl/agenda/randori-competitie/
LOCATION:IJsselmonde\, Kraaijeveldstraat 2; Sportzaal ‘Auris Taalfonteinschool’\, (ingang: Noorder Kerkedijk 8)\, Rotterdam\, Zuid Holland\, 3078 PE\, Nederland
END:VEVENT
BEGIN:VEVENT
DTSTART;TZID=Europe/Amsterdam:20200308T080000
DTEND;TZID=Europe/Amsterdam:20200308T170000
DTSTAMP:20260424T014410
CREATED:20200108T115021Z
LAST-MODIFIED:20200108T115022Z
UID:4978-1583654400-1583686800@jcrjudo.nl
SUMMARY:Wedstrijd training
DESCRIPTION:Wedstrijd training starters vanaf 7 jaar 09.30 uur tot 10.30 uur judotraining 10.30 uur tot 11.00 uur buitentrainingWedstrijd training gevorderde persoonlijke uitnodiging vanaf 8 jaar 09.30 uur tot 10.30 uur buitentraining 10.30 uur tot 11.30 uur judotraining 
URL:https://jcrjudo.nl/agenda/wedstrijd-training-39/
LOCATION:IJsselmonde\, Kraaijeveldstraat 2; Sportzaal ‘Auris Taalfonteinschool’\, (ingang: Noorder Kerkedijk 8)\, Rotterdam\, Zuid Holland\, 3078 PE\, Nederland
END:VEVENT
BEGIN:VEVENT
DTSTART;TZID=Europe/Amsterdam:20200315T000000
DTEND;TZID=Europe/Amsterdam:20200315T235900
DTSTAMP:20260424T014410
CREATED:20200108T115107Z
LAST-MODIFIED:20200312T204014Z
UID:4980-1584230400-1584316740@jcrjudo.nl
SUMMARY:Geen wedstrijd training
DESCRIPTION:
URL:https://jcrjudo.nl/agenda/wedstrijd-training-40/
LOCATION:IJsselmonde\, Kraaijeveldstraat 2; Sportzaal ‘Auris Taalfonteinschool’\, (ingang: Noorder Kerkedijk 8)\, Rotterdam\, Zuid Holland\, 3078 PE\, Nederland
END:VEVENT
BEGIN:VEVENT
DTSTART;TZID=Europe/Amsterdam:20200322T080000
DTEND;TZID=Europe/Amsterdam:20200322T170000
DTSTAMP:20260424T014410
CREATED:20200108T115146Z
LAST-MODIFIED:20200312T204121Z
UID:4982-1584864000-1584896400@jcrjudo.nl
SUMMARY:Geen wedstrijd training
DESCRIPTION:
URL:https://jcrjudo.nl/agenda/wedstrijd-training-41/
LOCATION:IJsselmonde\, Kraaijeveldstraat 2; Sportzaal ‘Auris Taalfonteinschool’\, (ingang: Noorder Kerkedijk 8)\, Rotterdam\, Zuid Holland\, 3078 PE\, Nederland
END:VEVENT
BEGIN:VEVENT
DTSTART;TZID=Europe/Amsterdam:20200329T080000
DTEND;TZID=Europe/Amsterdam:20200329T170000
DTSTAMP:20260424T014410
CREATED:20200108T115226Z
LAST-MODIFIED:20200312T204302Z
UID:4984-1585468800-1585501200@jcrjudo.nl
SUMMARY:Geen wedstrijd training
DESCRIPTION:
URL:https://jcrjudo.nl/agenda/wedstrijd-training-42/
LOCATION:IJsselmonde\, Kraaijeveldstraat 2; Sportzaal ‘Auris Taalfonteinschool’\, (ingang: Noorder Kerkedijk 8)\, Rotterdam\, Zuid Holland\, 3078 PE\, Nederland
END:VEVENT
END:VCALENDAR