BEGIN:VCALENDAR
VERSION:2.0
PRODID:-//JCR Judo - ECPv6.15.17.1//NONSGML v1.0//EN
CALSCALE:GREGORIAN
METHOD:PUBLISH
X-WR-CALNAME:JCR Judo
X-ORIGINAL-URL:https://jcrjudo.nl
X-WR-CALDESC:Evenementen voor JCR Judo
REFRESH-INTERVAL;VALUE=DURATION:PT1H
X-Robots-Tag:noindex
X-PUBLISHED-TTL:PT1H
BEGIN:VTIMEZONE
TZID:Europe/Amsterdam
BEGIN:DAYLIGHT
TZOFFSETFROM:+0100
TZOFFSETTO:+0200
TZNAME:CEST
DTSTART:20190331T010000
END:DAYLIGHT
BEGIN:STANDARD
TZOFFSETFROM:+0200
TZOFFSETTO:+0100
TZNAME:CET
DTSTART:20191027T010000
END:STANDARD
BEGIN:DAYLIGHT
TZOFFSETFROM:+0100
TZOFFSETTO:+0200
TZNAME:CEST
DTSTART:20200329T010000
END:DAYLIGHT
BEGIN:STANDARD
TZOFFSETFROM:+0200
TZOFFSETTO:+0100
TZNAME:CET
DTSTART:20201025T010000
END:STANDARD
BEGIN:DAYLIGHT
TZOFFSETFROM:+0100
TZOFFSETTO:+0200
TZNAME:CEST
DTSTART:20210328T010000
END:DAYLIGHT
BEGIN:STANDARD
TZOFFSETFROM:+0200
TZOFFSETTO:+0100
TZNAME:CET
DTSTART:20211031T010000
END:STANDARD
END:VTIMEZONE
BEGIN:VEVENT
DTSTART;TZID=Europe/Amsterdam:20200405T080000
DTEND;TZID=Europe/Amsterdam:20200405T170000
DTSTAMP:20260424T014412
CREATED:20200108T115307Z
LAST-MODIFIED:20200315T165253Z
UID:4986-1586073600-1586106000@jcrjudo.nl
SUMMARY:Geen wedstrijd training
DESCRIPTION:
URL:https://jcrjudo.nl/agenda/wedstrijd-training-43/
LOCATION:IJsselmonde\, Kraaijeveldstraat 2; Sportzaal ‘Auris Taalfonteinschool’\, (ingang: Noorder Kerkedijk 8)\, Rotterdam\, Zuid Holland\, 3078 PE\, Nederland
END:VEVENT
BEGIN:VEVENT
DTSTART;TZID=Europe/Amsterdam:20200412T080000
DTEND;TZID=Europe/Amsterdam:20200412T170000
DTSTAMP:20260424T014412
CREATED:20200108T115355Z
LAST-MODIFIED:20200331T175059Z
UID:4988-1586678400-1586710800@jcrjudo.nl
SUMMARY:Geen wedstrijd training
DESCRIPTION:
URL:https://jcrjudo.nl/agenda/wedstrijd-training-44/
LOCATION:IJsselmonde\, Kraaijeveldstraat 2; Sportzaal ‘Auris Taalfonteinschool’\, (ingang: Noorder Kerkedijk 8)\, Rotterdam\, Zuid Holland\, 3078 PE\, Nederland
END:VEVENT
BEGIN:VEVENT
DTSTART;TZID=Europe/Amsterdam:20200419T080000
DTEND;TZID=Europe/Amsterdam:20200419T170000
DTSTAMP:20260424T014412
CREATED:20200108T115504Z
LAST-MODIFIED:20200331T175154Z
UID:4990-1587283200-1587315600@jcrjudo.nl
SUMMARY:Geen wedstrijd training
DESCRIPTION:
URL:https://jcrjudo.nl/agenda/wedstrijd-training-45/
LOCATION:IJsselmonde\, Kraaijeveldstraat 2; Sportzaal ‘Auris Taalfonteinschool’\, (ingang: Noorder Kerkedijk 8)\, Rotterdam\, Zuid Holland\, 3078 PE\, Nederland
END:VEVENT
BEGIN:VEVENT
DTSTART;TZID=Europe/Amsterdam:20200426T080000
DTEND;TZID=Europe/Amsterdam:20200426T170000
DTSTAMP:20260424T014412
CREATED:20200108T115545Z
LAST-MODIFIED:20200331T175233Z
UID:4992-1587888000-1587920400@jcrjudo.nl
SUMMARY:Geen wedstrijd training
DESCRIPTION:
URL:https://jcrjudo.nl/agenda/wedstrijd-training-46/
LOCATION:IJsselmonde\, Kraaijeveldstraat 2; Sportzaal ‘Auris Taalfonteinschool’\, (ingang: Noorder Kerkedijk 8)\, Rotterdam\, Zuid Holland\, 3078 PE\, Nederland
END:VEVENT
BEGIN:VEVENT
DTSTART;TZID=Europe/Amsterdam:20200429T000000
DTEND;TZID=Europe/Amsterdam:20200429T235900
DTSTAMP:20260424T014412
CREATED:20200425T111335Z
LAST-MODIFIED:20200429T194517Z
UID:5649-1588118400-1588204740@jcrjudo.nl
SUMMARY:Buiten training locatie Barendrecht Waterpoort en IJsselmonde Auris
DESCRIPTION:Kijk in uw email voor de exacte tijden en adres van de locatie waar de trainingen zijn.
URL:https://jcrjudo.nl/agenda/buiten-training-locatie-barendrecht-waterpoort-en-ijsselmonde-auris/
END:VEVENT
BEGIN:VEVENT
DTSTART;TZID=Europe/Amsterdam:20200430T000000
DTEND;TZID=Europe/Amsterdam:20200430T235900
DTSTAMP:20260424T014412
CREATED:20200425T111457Z
LAST-MODIFIED:20200429T194732Z
UID:5651-1588204800-1588291140@jcrjudo.nl
SUMMARY:Buiten training locatie Barendrecht Aksent en Nesselande
DESCRIPTION:Kijk in uw email voor de exacte tijden en adres van de locatie waar de trainingen zijn. De trainingen van onze locatie Nesselande vinden plaats bij Beach club Rotterdam De velden bevinden zich aan het einde van de Kosboulevard te Rotterdam.
URL:https://jcrjudo.nl/agenda/buiten-training-locatie-barendrecht-aksent-en-nesselande/
END:VEVENT
END:VCALENDAR